BEGIN:VCALENDAR
VERSION:2.0
PRODID:-//Dòng Chúa Cứu Thế Hải Ngoại - ECPv6.15.20//NONSGML v1.0//EN
CALSCALE:GREGORIAN
METHOD:PUBLISH
X-ORIGINAL-URL:https://dongchuacuuthe.us
X-WR-CALDESC:Events for Dòng Chúa Cứu Thế Hải Ngoại
REFRESH-INTERVAL;VALUE=DURATION:PT1H
X-Robots-Tag:noindex
X-PUBLISHED-TTL:PT1H
BEGIN:VTIMEZONE
TZID:America/Los_Angeles
BEGIN:DAYLIGHT
TZOFFSETFROM:-0800
TZOFFSETTO:-0700
TZNAME:PDT
DTSTART:20250309T100000
END:DAYLIGHT
BEGIN:STANDARD
TZOFFSETFROM:-0700
TZOFFSETTO:-0800
TZNAME:PST
DTSTART:20251102T090000
END:STANDARD
BEGIN:DAYLIGHT
TZOFFSETFROM:-0800
TZOFFSETTO:-0700
TZNAME:PDT
DTSTART:20260308T100000
END:DAYLIGHT
BEGIN:STANDARD
TZOFFSETFROM:-0700
TZOFFSETTO:-0800
TZNAME:PST
DTSTART:20261101T090000
END:STANDARD
BEGIN:DAYLIGHT
TZOFFSETFROM:-0800
TZOFFSETTO:-0700
TZNAME:PDT
DTSTART:20270314T100000
END:DAYLIGHT
BEGIN:STANDARD
TZOFFSETFROM:-0700
TZOFFSETTO:-0800
TZNAME:PST
DTSTART:20271107T090000
END:STANDARD
END:VTIMEZONE
BEGIN:VEVENT
DTSTART;VALUE=DATE:20260423
DTEND;VALUE=DATE:20260424
DTSTAMP:20260423T082648
CREATED:20260327T071203Z
LAST-MODIFIED:20260327T071203Z
UID:14067-1776902400-1776988799@dongchuacuuthe.us
SUMMARY:Thứ Năm Tuần III Phục Sinh
DESCRIPTION:BÀI ĐỌC I: Cv 8\, 26-40\n“Nếu ông tin hết lòng\, thì được chịu phép rửa”. \nTrích sách Tông đồ Công vụ. \nTrong những ngày ấy\, thiên thần Chúa nói cùng Philipphê rằng: “Hãy chỗi dậy\, đi về mạn nam\, theo con đường từ Giêrusalem xuống Gaxa. Đường ấy vắng vẻ”. Người chỗi dậy ra đi. Và này có một người Êthiôpi là thái giám quyền thế của nữ hoàng Canđa\, xứ Êthiôpi\, và là tổng quản công khố của nữ hoàng\, ông đến chầu lễ tại Giêrusalem. Lúc trở về\, ông ngồi trên xe\, đọc sách Tiên tri Isaia. Thánh Thần bảo Philipphê: “Hãy tiến lên và theo cho kịp xe kia”. Philipphê chạy tới\, nghe thấy ông ấy đọc sách Tiên tri Isaia\, liền hỏi: “Ngài có hiểu được điều ngài đọc không?” Nhà quan trả lời: “Làm sao tôi hiểu được\, nếu không ai chỉ giáo cho tôi”. Nhà quan liền mời Philipphê lên xe ngồi với mình. Đoạn Thánh Kinh ông đang đọc như sau: “Như con chiên bị đem đi làm thịt\, Người phải điệu đi; như con chiên trước người thợ xén lông không kêu một tiếng\, Người chẳng mở miệng. Trong cảnh nhục nhã\, Người bị lên án bất công. Còn ai kể lại dòng dõi của Người\, vì mạng sống Người bị cất khỏi trần gian”. Viên thái giám lên tiếng hỏi Philipphê rằng: “Tôi xin hỏi ông: đấng tiên tri nói điều ấy về ai? Về chính mình hay về người nào khác?” Philipphê mở miệng rao giảng Tin Mừng Đức Giêsu cho ông\, bắt đầu từ đoạn Thánh Kinh đó. Đang đi dọc đường\, đến nơi có nước\, vị thái giám liền nói: “Này nước đây\, có gì ngăn trở tôi chịu phép rửa không?” Philipphê nói: “Nếu ông tin hết lòng thì được”. Nhà quan đáp lại: “Tôi tin Đức Giêsu Kitô là Con Thiên Chúa”. Ông ra lệnh cho dừng xe lại\, Philipphê và viên thái giám\, cả hai đi xuống nước\, và Philipphê làm phép rửa cho ông. Khi họ lên khỏi nước\, Thánh Thần Chúa đem Philipphê đi mất và viên thái giám không còn thấy ngài nữa. Ông hân hoan tiếp tục hành trình. Còn Philipphê thì người ta gặp thấy tại Azô\, ngài rảo khắp mọi thành phố\, rao giảng Tin Mừng cho đến thành Cêsarêa. Đó là lời Chúa. \nĐÁP CA: Tv 65\, 8-9. 16-17. 20\nĐáp: Toàn thể đất nước\, hãy reo mừng Thiên Chúa (c. 1). \nHoặc đọc: Alleluia. \nXướng: 1) Hỡi chư dân\, hãy chúc tụng Thiên Chúa chúng tôi\, và loan truyền lời ca ngợi khen Ngài: là Đấng đã ban cho linh hồn chúng tôi được sống\, và không để chân chúng tôi xiêu té. – Đáp. \n2) Phàm ai tôn sợ Chúa\, hãy đến\, hãy nghe tôi kể lại\, Chúa đã làm cho linh hồn tôi những điều trọng đại biết bao! Tôi đã mở miệng kêu lên chính Chúa\, và lưỡi tôi đã ngợi khen Ngài. – Đáp. \n3) Chúc tụng Chúa là Đấng không hắt hủi lời tôi nguyện\, và không rút lại lòng nhân hậu đối với tôi. – Đáp. \nALLELUIA: Ga 14\, 18\nAlleluia\, alleluia! – Chúa phán: “Thầy sẽ không bỏ các con mồ côi: Thầy sẽ đến với các con và lòng các con sẽ vui mừng”. – Alleluia. \nPHÚC ÂM: Ga 6\, 44-51\n“Ta là bánh từ trời xuống”. \nTin Mừng Chúa Giêsu Kitô theo Thánh Gioan. \nKhi ấy\, Chúa Giêsu phán với dân chúng rằng: “Không ai đến được với Ta\, nếu Cha\, là Đấng sai Ta\, không lôi kéo kẻ ấy\, và Ta\, Ta sẽ cho họ sống lại trong ngày sau hết. Trong sách các tiên tri có chép rằng: ‘Mọi người sẽ được Thiên Chúa dạy bảo’. Ai nghe lời giáo hoá của Cha\, thì đến với Ta. Không một ai đã xem thấy Cha\, trừ Đấng bởi Thiên Chúa mà ra\, Đấng ấy đã thấy Cha. Thật\, Ta bảo thật các ngươi: Ai tin vào Ta thì có sự sống đời đời. Ta là bánh ban sự sống. Cha ông các ngươi đã ăn manna trong sa mạc và đã chết. Đây là bánh bởi trời xuống\, để ai ăn bánh này thì khỏi chết. Ta là bánh hằng sống từ trời xuống. Ai ăn bánh này\, sẽ sống đời đời. Và bánh Ta sẽ ban\, chính là thịt Ta\, để cho thế gian được sống”. Đó là lời Chúa.
URL:https://dongchuacuuthe.us/calendar/thu-nam-tuan-iii-phuc-sinh-3/
END:VEVENT
END:VCALENDAR