BEGIN:VCALENDAR
VERSION:2.0
PRODID:-//Dòng Chúa Cứu Thế Hải Ngoại - ECPv6.15.20//NONSGML v1.0//EN
CALSCALE:GREGORIAN
METHOD:PUBLISH
X-WR-CALNAME:Dòng Chúa Cứu Thế Hải Ngoại
X-ORIGINAL-URL:https://dongchuacuuthe.us
X-WR-CALDESC:Events for Dòng Chúa Cứu Thế Hải Ngoại
REFRESH-INTERVAL;VALUE=DURATION:PT1H
X-Robots-Tag:noindex
X-PUBLISHED-TTL:PT1H
BEGIN:VTIMEZONE
TZID:America/Los_Angeles
BEGIN:DAYLIGHT
TZOFFSETFROM:-0800
TZOFFSETTO:-0700
TZNAME:PDT
DTSTART:20230312T100000
END:DAYLIGHT
BEGIN:STANDARD
TZOFFSETFROM:-0700
TZOFFSETTO:-0800
TZNAME:PST
DTSTART:20231105T090000
END:STANDARD
BEGIN:DAYLIGHT
TZOFFSETFROM:-0800
TZOFFSETTO:-0700
TZNAME:PDT
DTSTART:20240310T100000
END:DAYLIGHT
BEGIN:STANDARD
TZOFFSETFROM:-0700
TZOFFSETTO:-0800
TZNAME:PST
DTSTART:20241103T090000
END:STANDARD
BEGIN:DAYLIGHT
TZOFFSETFROM:-0800
TZOFFSETTO:-0700
TZNAME:PDT
DTSTART:20250309T100000
END:DAYLIGHT
BEGIN:STANDARD
TZOFFSETFROM:-0700
TZOFFSETTO:-0800
TZNAME:PST
DTSTART:20251102T090000
END:STANDARD
END:VTIMEZONE
BEGIN:VEVENT
DTSTART;VALUE=DATE:20241101
DTEND;VALUE=DATE:20241102
DTSTAMP:20260424T063359
CREATED:20241026T043735Z
LAST-MODIFIED:20241026T043735Z
UID:10742-1730419200-1730505599@dongchuacuuthe.us
SUMMARY:Lễ Các Thánh Nam Nữ\, Lễ Trọng
DESCRIPTION:BÀI ĐỌC I: Kh 7\, 2-4\, 9-14 \n“Tôi đã nhìn thấy đoàn người đông đảo không thể đếm được\, họ thuộc đủ mọi nước\, mọi chi họ\, mọi dân tộc và mọi thứ tiếng”. \nTrích sách Khải Huyền của Thánh Gioan. \nTôi là Gioan đã nhìn thấy một thiên thần khác từ phía mặt trời mọc đi lên\, tay cầm ấn Thiên Chúa hằng sống\, và lớn tiếng kêu gọi bốn thiên thần được lệnh tàn phá đất và biển mà rằng: “Chớ có tàn phá đất\, biển và cây cối trước khi ta đóng ấn trên trán những tôi tớ của Thiên Chúa chúng ta”. Và tôi đã nghe biết số người được đóng ấn là một trăm bốn mươi bốn ngàn người\, thuộc mọi chi tộc Israel.  \nSau đó\, tôi đã nhìn thấy đoàn người đông đảo không thể đếm được\, họ thuộc đủ mọi nước\, mọi chi họ\, mọi dân tộc và mọi thứ tiếng. Họ đứng trước ngai vàng và trước mặt Con Chiên\, mình mặc áo trắng tinh\, tay cầm nhành lá thiên tuế. Họ lớn tiếng tung hô rằng: “Kính lạy Thiên Chúa chúng tôi\, Đấng ngự trên ngai vàng\, và Con Chiên”.  \nRồi tất cả các thiên thần đến đứng chung quanh ngai vàng\, và các trưởng lão cùng bốn con vật sấp mình xuống trước ngai mà thờ lạy Thiên Chúa rằng: “Amen! Chúc tụng\, vinh hiển\, khôn ngoan\, cảm tạ\, vinh dự\, uy quyền và dũng lực cho Thiên Chúa chúng tôi muôn đời. Amen”. Rồi một trong các trưởng lão lên tiếng hỏi rằng: “Những người mặc áo trắng này là ai vậy? Và họ từ đâu mà đến?” Tôi đáp lại rằng: “Thưa ngài\, hẳn ngài đã rõ”. Và người bảo tôi rằng: “Họ là những người từ đau khổ lớn lao mà đến\, họ giặt áo và tẩy áo trắng trong máu Con Chiên”. Đó là lời Chúa. \nĐÁP CA: Tv 23\, 1-2. 3-4ab. 5-6 \nĐáp: Lạy Chúa\, này là dòng dõi của những kẻ tìm Chúa (c. 6a). \nXướng: 1) Trái đất và muôn loài trên mặt đất là của Chúa\, hoàn cầu và muôn vật trên địa cầu. Vì chưng Chúa đã xây dựng nền móng trái đất trên biển cả\, và Người đã tạo dựng nó trên các sông ngòi. – Đáp. \n2) Ai sẽ được trèo lên núi Chúa? Ai sẽ được dừng bước trong thánh điện? Đó là người có bàn tay vô tội và tâm hồn trong sạch\, không để lòng xuôi theo sự giả trá. – Đáp. \n3) Người đó sẽ hưởng phúc lành của Chúa và lượng từ bi của Chúa\, Đấng giải thoát họ. Đấy là dòng dõi của những kẻ tìm Người\, những kẻ tìm tôn nhan Thiên Chúa của Giacóp. – Đáp. \nBÀI ĐỌC II: 1 Ga 3\, 1-3 \n“Người thế nào\, chúng ta sẽ thấy Người như vậy”. \nTrích thư thứ nhất của Thánh Gioan Tông đồ. \nCác con thân mến\, các con hãy coi: Tình yêu của Thiên Chúa Cha đối với chúng ta thế nào\, khiến chúng ta được gọi là con Thiên Chúa và thực sự là thế. Vì đó mà thế gian không nhận biết chúng ta\, vì thế gian không biết Người. Các con thân mến\, hiện nay\, chúng ta là con Thiên Chúa\, còn chúng ta sẽ ra sao thì vẫn chưa được tỏ ra. Chúng ta biết rằng: khi được tỏ ra\, thì chúng ta sẽ giống như Người\, vì Người thế nào\, chúng ta sẽ thấy như vậy. Và bất cứ ai đặt hy vọng nơi Người\, thì tự thánh hoá mình cũng như Người là Đấng Thánh. Đó là lời Chúa. \nALLELUIA: Mc 11\, 28 \nAlleluia\, alleluia! – Chúa phán: “Tất cả hãy đến với Ta\, hỡi những ai khó nhọc và gánh nặng\, Ta sẽ nâng đỡ bổ sức cho các con”. – Alleluia. \nPHÚC ÂM: Mt 5\, 1-12a \n“Phúc cho những ai có tinh thần nghèo khó”. \nTin Mừng Chúa Giêsu Kitô theo Thánh Matthêu. \nKhi ấy\, Chúa Giêsu thấy đoàn lũ đông đảo\, Người đi lên núi\, và lúc Người ngồi xuống\, các môn đệ đến gần Người. Bấy giờ Người mở miệng dạy họ rằng:  \n“Phúc cho những ai có tinh thần nghèo khó\, vì Nước Trời là của họ. – Phúc cho những ai hiền lành\, vì họ sẽ được Đất Nước làm cơ nghiệp. – Phúc cho những ai đau buồn\, vì họ sẽ được ủi an. – Phúc cho những ai đói khát điều công chính\, vì họ sẽ được no thoả. – Phúc cho những ai hay thương xót người\, vì họ sẽ được xót thương. – Phúc cho những ai có lòng trong sạch\, vì họ sẽ được nhìn xem Thiên Chúa. – Phúc cho những ai ăn ở thuận hoà\, vì họ sẽ được gọi là con Thiên Chúa. – Phúc cho những ai bị bách hại vì lẽ công chính\, vì Nước Trời là của họ.  \n“Phúc cho các con khi người ta ghen ghét\, bách hại các con\, và bởi ghét Thầy\, họ vu khống cho các con mọi điều gian ác. Các con hãy vui mừng hân hoan\, vì phần thưởng của các con sẽ trọng đại ở trên trời”. Đó là lời Chúa.
URL:https://dongchuacuuthe.us/calendar/le-cac-thanh-nam-nu-le-trong/
END:VEVENT
BEGIN:VEVENT
DTSTART;VALUE=DATE:20241102
DTEND;VALUE=DATE:20241103
DTSTAMP:20260424T063359
CREATED:20241026T043820Z
LAST-MODIFIED:20241026T043820Z
UID:10744-1730505600-1730591999@dongchuacuuthe.us
SUMMARY:Lễ Cầu Cho Các Tin Hữu Đã Qua Đời
DESCRIPTION:Lễ Nhất \nBÀI ĐỌC I: Rm 6\, 3-9 \n“Chúng ta phải sống đời sống mới”. \nTrích thư Thánh Phaolô Tông đồ gửi tín hữu Rôma. \nAnh em thân mến\, tất cả chúng ta đã chịu phép rửa trong Đức Giêsu Kitô\, tức là đã chịu phép rửa trong sự chết của Người. Và chúng ta đã cùng chịu mai táng với Người\, bởi được thanh tẩy trong sự chết của Người\, để như Đức Kitô nhờ vinh hiển của Chúa Cha mà sống lại từ cõi chết thế nào\, thì cả chúng ta cũng phải sống đời sống mới như thế. Vì nếu chúng ta được liên kết với Người trong cùng một cái chết\, giống như cái chết của Người\, thì chúng ta cũng được hợp nhất với Người\, trong sự sống lại giống như vậy.  \nNên biết điều này: con người cũ của chúng ta đã cùng chịu đóng đinh khổ giá\, để xác thịt tội lỗi bị huỷ đi\, hầu cho chúng ta không còn làm nô lệ tội lỗi nữa\, vì con người đã chết\, tức là được giải thoát khỏi tội lỗi. Mà nếu chúng ta đã chết với Đức Kitô\, chúng ta tin rằng chúng ta cũng sẽ cùng sống với Người\, vì biết rằng Đức Kitô một khi từ cõi chết sống lại\, Người không chết nữa\, sự chết không còn làm chủ được Người nữa. Đó là lời Chúa. \nĐÁP CA: Tv 22\, 1-3a. 3b-4. 5. 6 \nĐáp: Chúa chăn nuôi tôi\, tôi chẳng thiếu thốn chi (c. 5). \nHoặc đọc: Dù bước đi trong thung lũng tối\, con không lo mắc nạn\, vì Chúa ở cùng con (c. 4a). \nXướng: 1) Chúa chăn nuôi tôi\, tôi chẳng thiếu thốn chi; trên đồng cỏ xanh rì\, Người thả tôi nằm nghỉ. Tới nguồn nước\, chỗ nghỉ ngơi\, Người hướng dẫn tôi; tâm hồn tôi\, Người lo bồi dưỡng. – Đáp. \n2) Người dẫn tôi qua những con đường đoan chính\, sở dĩ vì uy danh Người. – Dù bước đi trong thung lũng tối\, con không lo mắc nạn\, vì Chúa ở cùng con. Cây roi và cái gậy của Ngài\, đó là điều an ủi lòng con. – Đáp. \n3) Chúa dọn ra cho con mâm cỗ\, ngay trước mặt những kẻ đối phương: đầu con thì Chúa xức dầu thơm\, chén rượu con đầy tràn chan chứa. – Đáp. \n4) Lòng nhân từ và ân sủng Chúa theo tôi\, hết mọi ngày trong đời sống; và trong nhà Chúa\, tôi sẽ định cư cho tới thời gian rất ư lâu dài. – Đáp. \nALLELUIA: Ga 11\, 25-26 \nAlleluia\, alleluia! – Chúa phán: “Hỡi những kẻ Cha Ta chúc phúc\, hãy đến\, hãy lãnh lấy phần gia nghiệp là Nước Trời đã chuẩn bị cho các ngươi từ khi tạo dựng vũ trụ”. – Alleluia. \nPHÚC ÂM: Ga 6\, 51-59 \n“Thịt Ta thật là của ăn\, và máu Ta thật là của uống”. \nTin Mừng Chúa Giêsu Kitô theo Thánh Gioan. \nKhi ấy\, Chúa Giêsu phán cùng dân Do-thái rằng: “Ta là bánh hằng sống từ trời xuống; ai ăn bánh này\, thì sẽ sống đời đời. Và bánh Ta sẽ ban\, chính là thịt Ta\, để cho thế gian được sống”. Vậy người Do-thái tranh luận với nhau rằng: “Làm sao ông này có thể lấy thịt mình cho chúng ta ăn được?”  \nBấy giờ Chúa Giêsu nói với họ: “Thật\, Ta bảo thật các ngươi: Nếu các ngươi không ăn thịt Con Người và uống máu Ngài\, các ngươi sẽ không có sự sống trong các ngươi. Ai ăn thịt Ta và uống máu Ta thì có sự sống đời đời\, và Ta\, Ta sẽ cho kẻ ấy sống lại ngày sau hết. Vì thịt Ta thật là của ăn\, và máu Ta thật là của uống. Ai ăn thịt Ta và uống máu Ta\, thì ở trong Ta\, và Ta ở trong kẻ ấy. Cũng như Cha là Đấng hằng sống đã sai Ta\, nên Ta sống nhờ Cha\, thì kẻ ăn Ta\, chính người ấy cũng sẽ sống nhờ Ta. Đây là bánh bởi trời xuống\, không phải như cha ông các ngươi đã ăn manna và đã chết. Ai ăn bánh này thì sẽ sống đời đời”. Đó là lời Chúa. \nLễ Nhì \nBÀI ĐỌC I: Kn 3\, 1-9 \n“Chúa chấp nhận các ngài như của lễ toàn thiêu”. \nTrích sách Khôn Ngoan. \nLinh hồn những người công chính ở trong tay Chúa\, và đau khổ sự chết không làm gì được các ngài. Đối với con mắt người không hiểu biết\, thì hình như các ngài đã chết và việc các ngài từ biệt chúng ta\, là như đi vào cõi tiêu diệt. Nhưng thật ra các ngài sống trong bình an. Và trước mặt người đời\, dầu các ngài đã chịu khổ hình\, lòng cậy trông của các ngài cũng không chết. Sau một giây lát chịu khổ nhục\, các ngài sẽ được vinh dự lớn lao: vì Chúa đã thử thách các ngài như thử vàng trong lửa\, và chấp nhận các ngài như của lễ toàn thiêu. \nKhi đến giờ Chúa ghé mắt nhìn các ngài\, các người công chính sẽ sáng chói và chiếu tỏ ra như ánh lửa chiếu qua bụi lau. Các ngài sẽ xét xử các dân tộc\, sẽ thống trị các quốc gia\, và Thiên Chúa sẽ ngự trị trong các ngài muôn đời. Các ngài đã tin tưởng ở Chúa\, thì sẽ hiểu biết chân lý\, và trung thành với Chúa trong tình yêu\, vì ơn Chúa và bình an sẽ dành cho những người Chúa chọn. Đó là lời Chúa. \nĐÁP CA: Tv 24\, 6-7bc. 17-18. 20-21 \nĐáp: Lạy Chúa\, con vươn linh hồn con lên tới Chúa (c. 1b). \nHoặc đọc: Lạy Chúa\, phàm ai trông cậy Chúa\, ắt chẳng hổ ngươi (c. 3b). \nXướng: 1) Lạy Chúa\, xin nhớ lòng thương xót của Ngài\, lòng thương xót tự muôn đời vẫn có. Xin hãy nhớ con theo lòng thương xót của Ngài\, vì lòng nhân hậu của Ngài\, thân lạy Chúa. – Đáp. \n2) Xin cho lòng con được nhẹ bớt lo âu\, và giải thoát con khỏi cảnh ưu tư phiền muộn. Xin Chúa coi cảnh lầm than khốn khổ của con\, và tha thứ hết mọi điều tội lỗi. – Đáp. \n3) Xin gìn giữ mạng sống con và giải thoát con\, đừng để con bẽ bàng vì đã tìm nương tựa Chúa. Nguyện cho lòng con vô tội và trung thứ bảo vệ con\, vì con trông cậy vào Ngài\, thân lạy Chúa. – Đáp. \nALLELUIA: 2 Tm 2\, 11-12a \nAlleluia\, alleluia! – Nếu chúng ta cùng chết với Chúa Kitô\, thì chúng ta cùng sống với Người; nếu chúng ta kiên tâm chịu đựng\, chúng ta sẽ cùng thống trị với Người. – Alleluia. \nPHÚC ÂM: Lc 23\, 33. 39-43 \n“Hôm nay ngươi sẽ ở trên thiên đàng với Ta”. \nTin Mừng Chúa Giêsu Kitô theo Thánh Luca. \nKhi đã đến nơi gọi là Núi Sọ\, chúng đóng đinh Người vào thập giá cùng với hai tên trộm cướp\, một đứa bên hữu một đứa bên tả Người. Bấy giờ Chúa Giêsu than thở rằng: “Lạy Cha\, xin tha cho chúng\, vì chúng không biết việc chúng làm”. Rồi chúng rút thăm mà chia nhau áo Người. Một trong hai kẻ trộm bị đóng đinh trên thập giá cũng sỉ nhục người rằng: “Nếu ông là Đấng Kitô\, ông hãy tự cứu ông và cứu chúng tôi nữa”. \nĐối lại\, tên kia mắng nó rằng: “Mi cũng chịu đồng một án mà mi chẳng sợ Thiên Chúa sao? Phần chúng ta\, như thế này là đích đáng\, vì chúng ta chịu xứng với việc chúng ta làm\, còn ông này\, ông có làm gì xấu đâu?” Và anh ta thưa cùng Chúa Giêsu rằng: “Lạy Ngài\, khi nào về nước Ngài\, xin nhớ đến tôi”. Chúa Giêsu đáp: “Quả thật\, Ta bảo ngươi: ngay hôm nay\, ngươi sẽ ở trên thiên đàng với Ta”. Đó là lời Chúa. \nLễ Ba \nBÀI ĐỌC I: Rm 5\, 5-11 \n“Chúng ta đã nên công chính trong Máu của Người\, và nhờ Người chúng ta được cứu khỏi cơn thịnh nộ”. \nTrích thư Thánh Phaolô Tông đồ gửi tín hữu Rôma. \nAnh em thân mến\, tình yêu của Thiên Chúa tuôn đổ trong tâm hồn chúng ta nhờ Thánh Thần đã ban cho chúng ta. Chúa Kitô theo kỳ hẹn mà chịu chết vì chúng ta là kẻ tội lỗi. Ít có ai chết thay cho người công chính\, hoạ chăng mới có người dám chết vì kẻ lành. Nhưng Thiên Chúa chứng tỏ tình yêu của Người đối với chúng ta\, nghĩa là trong lúc chúng ta còn là tội nhân\, thì theo kỳ hẹn\, Chúa Kitô đã chết vì chúng ta. \nVậy phương chi bây giờ\, chúng ta đã nên công chính trong máu của Người\, và nhờ Người chúng ta sẽ được cứu khỏi cơn thịnh nộ. Bởi chưng nếu khi chúng ta còn là thù nghịch\, mà chúng ta đã được giao hoà cùng Thiên Chúa nhờ cái chết của Con Ngài\, thì huống chi khi đã được giao hoà\, ắt chúng ta sẽ được cứu độ trong sự sống của chính Chúa Kitô. Và không những thế\, chúng ta còn được vinh hiển trong Thiên Chúa nhờ Đức Giêsu Kitô\, Chúa chúng ta\, nhờ Người mà bây giờ chúng ta được lãnh ơn giao hoà. Đó là lời Chúa. \nĐÁP CA: Tv 26\, 1. 4. 7 và 8b và 9a. 13-14 \nĐáp: Chúa là sự sáng và là Đấng cứu độ tôi (c. 1a). \nHoặc đọc: Tôi tin rằng tôi sẽ được nhìn xem những ơn lành của Chúa trong cõi nhân sinh (c. 13). \nXướng: 1) Chúa là sự sáng\, là Đấng cứu độ\, tôi sợ chi ai? Chúa là Đấng phù trợ đời tôi\, tôi sợ gì ai? – Đáp. \n2) Có một điều tôi xin Chúa\, một điều tôi kiếm tìm\, đó là tôi được cư ngụ trong nhà Chúa suốt đời tôi\, hầu vui hưởng sự êm đềm của Chúa\, và chiêm ngưỡng thánh điện của Người. – Đáp. \n3) Lạy Chúa\, xin nghe con kêu cầu\, xin thương xót và nhậm lời con. Và lạy Chúa\, con tìm ra mắt Chúa. Xin Chúa đừng ẩn mặt xa con. – Đáp. \n4) Tôi tin rằng tôi sẽ được nhìn xem những ơn lành của Chúa trong cõi nhân sinh. Hãy trông đợi Chúa\, hãy sống can trường\, hãy phấn khởi tâm hồn và trông đợi Chúa. – Đáp. \nALLELUIA: Ga 6\, 39 \nAlleluia\, alleluia! – Chúa phán: “Ý của Cha là hễ sự gì Người đã ban cho Ta\, Ta chẳng để mất\, nhưng ngày sau hết Ta sẽ cho nó sống lại”. – Alleluia. \nPHÚC ÂM: Ga 17\, 24-26 \n“Con muốn rằng Con ở đâu\, chúng cũng ở đấy với Con”. \nTin Mừng Chúa Giêsu Kitô theo Thánh Gioan. \nKhi ấy\, (Chúa Giêsu ngước mắt lên trời cầu nguyện rằng:) “Lạy Cha\, những kẻ Cha ban cho Con thì Con muốn rằng Con ở đâu chúng cũng ở đấy với Con\, để chúng chiêm ngưỡng vinh quang mà Cha đã ban cho Con\, vì Cha đã yêu mến Con trước khi tạo thành thế gian. Lạy Cha công chính\, thế gian đã không biết Cha\, nhưng Con biết Cha\, và những người này cũng biết rằng Cha đã sai Con. Con đã tỏ cho chúng biết danh Cha\, và Con sẽ còn tỏ cho chúng nữa\, để tình Cha yêu Con ở trong chúng\, và Con cũng ở trong chúng nữa”.  \nĐó là lời Chúa.
URL:https://dongchuacuuthe.us/calendar/le-cau-cho-cac-tin-huu-da-qua-doi/
END:VEVENT
BEGIN:VEVENT
DTSTART;VALUE=DATE:20241103
DTEND;VALUE=DATE:20241104
DTSTAMP:20260424T063359
CREATED:20241026T043854Z
LAST-MODIFIED:20241026T044212Z
UID:10746-1730592000-1730678399@dongchuacuuthe.us
SUMMARY:Chúa Nhật XXXI Thường Niên Năm B
DESCRIPTION:BÀI ĐỌC I: Đnl 6\, 2-6 \n“Hỡi Israel\, hãy nghe đây: Ngươi hãy yêu mến Chúa hết lòng ngươi”. \nTrích sách Đệ Nhị Luật. \nÔng Môsê nói cùng dân chúng rằng: “Các ngươi hãy kính sợ Chúa là Thiên Chúa các ngươi\, hãy tuân giữ mọi huấn lệnh và giới răn của Người mà tôi truyền dạy cho các ngươi\, cho con cái cháu chắt các ngươi tuân giữ mọi ngày trong đời sống các ngươi\, để các ngươi được sống lâu dài.  \n“Hỡi Israel\, hãy nghe đây mà tuân hành các điều Chúa truyền dạy cho ngươi\, thì ngươi được phần phúc và sinh sản ra nhiều hơn\, như lời Chúa là Thiên Chúa tổ phụ ngươi đã hứa ban cho ngươi phần đất chảy sữa và mật. \n“Hỡi Israel\, hãy nghe đây\, Chúa là Thiên Chúa chúng ta\, là Chúa độc nhất. Hãy yêu mến Chúa là Thiên Chúa ngươi hết lòng\, hết linh hồn và hết sức ngươi. Những lời tôi truyền cho ngươi hôm nay\, phải ghi tạc vào lòng”. Đó là lời Chúa. \nĐÁP CA: Tv 17\, 2-3a. 3bc-4. 47-51ab \nĐáp: Lạy Chúa là dũng lực con\, con yêu mến Chúa (c. 2). \nXướng: 1) Lạy Chúa là dũng lực con\, con yêu mến Chúa; lạy Chúa là đá tảng\, chiến luỹ\, cứu tinh. – Đáp. \n2) Lạy Chúa là Thiên Chúa\, là sơn động chỗ con nương mình\, là khiên thuẫn\, là uy quyền cứu độ\, là sức hộ phù con. Con xướng ca khen ngợi cầu cứu Chúa\, và con sẽ được cứu thoát khỏi tay quân thù. – Đáp. \n3) Vạn tuế Thiên Chúa\, chúc tụng Đá Tảng của con\, ngợi khen Thiên Chúa là Đấng cứu độ con. Ngài đã ban cho đức vua được đại thắng\, đã tỏ lòng từ bi với Đấng được xức dầu của Ngài. – Đáp. \nBÀI ĐỌC II: Dt 7\, 23-28 \n“Vì lẽ Người tồn tại đời đời\, nên Người có một chức tư tế hằng hữu”. \nTrích thư gởi cho tín hữu Do-thái. \nAnh em thân mến\, có nhiều người làm tư tế (của Giao Ước cũ)\, vì lẽ sự chết ngăn trở họ tồn tại lâu bền. Còn Đức Kitô\, vì lẽ Người tồn tại đời đời\, nên Người có một chức tư tế hằng hữu. Bởi đó\, Người có thể cứu độ cách vĩnh viễn những ai nhờ Người mà đến với Thiên Chúa\, vì Người hằng sống để chuyển cầu cho chúng ta.  \nPhải\, vì chúng ta cần một vị Thượng tế thánh thiện\, vô tội\, tinh tuyền\, tách biệt khỏi kẻ tội lỗi và đã được nâng cao trên các tầng trời. Người không cần phải như các tư tế hằng ngày dâng lên của lễ trước là đền tội lỗi mình\, sau là đền tội lỗi dân chúng\, vì Người làm việc ấy chỉ có một lần khi hiến dâng chính mình. Vì Lề luật thì đặt những người yếu đuối làm tư tế\, còn lời thề có sau Lề luật thì đặt Người Con hoàn hảo làm Thượng tế đến muôn đời. Đó là lời Chúa. \nALLELUIA: Mt 4\, 4b \nAlleluia\, alleluia! – Người ta sống không nguyên bởi bánh\, nhưng bởi mọi lời do miệng Thiên Chúa phán ra. – Alleluia. \nPHÚC ÂM: Mc 12\, 28b-34 \n“Đó là giới răn thứ nhất\, còn giới răn thứ hai cũng giống như giới răn thứ nhất”. \nTin Mừng Chúa Giêsu Kitô theo Thánh Marcô. \nKhi ấy\, có người trong nhóm luật sĩ tiến đến Chúa Giêsu và hỏi Người rằng: “Trong các giới răn điều nào trọng nhất?” Chúa Giêsu đáp:  \n“Giới răn trọng nhất chính là: Hỡi Israel\, hãy nghe đây: Thiên Chúa\, Chúa chúng ta\, là Chúa duy nhất\, và ngươi hãy yêu mến Thiên Chúa ngươi hết lòng\, hết linh hồn\, hết trí khôn và hết sức ngươi. Còn đây là giới răn thứ hai: Ngươi hãy yêu mến tha nhân như chính mình ngươi. Không có giới răn nào trọng hơn hai giới răn đó”.  \nLuật sĩ thưa Ngài: “Thưa Thầy\, đúng lắm! Thầy dạy phải lẽ khi nói Thiên Chúa là Chúa duy nhất và ngoài Người chẳng có Chúa nào khác nữa. Mến Chúa hết lòng\, hết trí khôn\, hết sức mình\, và yêu tha nhân như chính mình thì hơn mọi lễ vật toàn thiêu và mọi lễ vật hy sinh”.  \nThấy người ấy tỏ ý kiến khôn ngoan\, Chúa Giêsu bảo: “Ông không còn xa Nước Thiên Chúa bao nhiêu”. Và không ai dám hỏi Người thêm điều gì nữa. Đó là lời Chúa.
URL:https://dongchuacuuthe.us/calendar/chua-nhat-31-thuong-nien-nam-a-2/
END:VEVENT
BEGIN:VEVENT
DTSTART;VALUE=DATE:20241110
DTEND;VALUE=DATE:20241111
DTSTAMP:20260424T063359
CREATED:20241026T043921Z
LAST-MODIFIED:20241026T044228Z
UID:10748-1731196800-1731283199@dongchuacuuthe.us
SUMMARY:Chúa Nhật XXXII Thường Niên Năm B
DESCRIPTION:BÀI ĐỌC I: 1 V 17\, 10-16 \n“Bà goá lấy bột làm một cái bánh nhỏ\, rồi mang đên cho ông Êlia”. \nTrích sách Các Vua quyển thứ nhất. \nTrong những ngày ấy\, tiên tri Êlia chỗi dậy lên đường đi Sarephta. Khi ông đến trước cửa thành\, ông thấy một quả phụ đang lượm củi; ông gọi bà và nói với bà rằng: “Xin đem cho tôi một ít nước trong bình để tôi uống”. Đương lúc bà đi lấy nước\, ông gọi lại mà nói: “Xin cũng mang cho tôi một miếng bánh”.  \nBà thưa: “Có Chúa là Thiên Chúa hằng sống chứng giám: Tôi không có sẵn bánh\, tôi chỉ còn một nắm bột trong hũ với một ít dầu trong bình. Này đây tôi lượm vài que củi về nấu cho tôi và con trai tôi ăn\, rồi chết thôi”.  \nÊlia trả lời bà rằng: “Bà đừng lo\, cứ đi và làm như bà đã nói. Nhưng\, với chút bột ấy trước hết hãy làm cho tôi một cái bánh nhỏ\, đem ra đây cho tôi\, sau đó hãy làm cho bà và con trai bà. Vì Chúa là Thiên Chúa Israel truyền rằng: ‘Hũ bột sẽ không cạn và bình dầu sẽ không vơi đi cho đến ngày Chúa cho mưa xuống trên mặt đất’ “.  \nBà đi làm theo lời ông Êlia; chính ông và bà cùng cả nhà đều đủ ăn; từ ngày đó hũ bột không cạn và bình dầu không vơi như lời Chúa đã dùng Êlia mà phán. Đó là lời Chúa. \nĐÁP CA: Tv 145\, 7. 8-9a. 9bc-10 \nĐáp: Linh hồn tôi ơi\, hãy ngợi khen Chúa! (c. 1). \nXướng: 1) Thiên Chúa trả lại quyền lợi cho người bị áp bức\, và ban cho những kẻ đói được cơm ăn. Thiên Chúa cứu gỡ những người tù tội. – Đáp. \n2) Thiên Chúa mở mắt những kẻ đui mù\, Thiên Chúa giải thoát những kẻ bị khòm lưng khuất phục\, Thiên Chúa yêu quý các bậc hiền nhân\, Thiên Chúa che chở những khách kiều cư. – Đáp. \n3) Thiên Chúa nâng đỡ những người mồ côi quả phụ\, và làm rối loạn đường nẻo đứa ác nhân. Thiên Chúa sẽ làm vua tới muôn đời\, Sion hỡi\, Đức Thiên Chúa của người sẽ làm vua tự đời này sang đời khác. – Đáp. \nBÀI ĐỌC II: Dt 9\, 24-28 \n“Đức Kitô chỉ tế lễ chính mình một lần để huỷ diệt nhiều tội lỗi”. \nTrích thư gửi tín hữu Do-thái. \nĐức Giêsu không tiến vào cung thánh do tay người phàm làm ra chỉ là hình bóng cung thánh thật\, nhưng Người vào chính thiên đàng\, để từ đây xuất hiện trước tôn nhan Thiên Chúa vì chúng ta. Người không còn hiến dâng chính mình nhiều lần\, như vị thượng tế vào cung thánh mỗi năm một lần với máu không phải của mình. Chẳng vậy\, từ tạo thiên lập địa\, Người đã phải chết nhiều lần; nhưng từ nay cho đến tận thế\, Người chỉ xuất hiện một lần tế lễ chính mình để huỷ diệt tội lỗi. Như đã quy định\, người ta chỉ chết một lần thế nào\, sau đó là phán xét\, thì Đức Kitô cũng hiến tế một lần như vậy\, để xoá tội lỗi của nhiều người. Người sẽ xuất hiện lần thứ hai\, không phải để chuộc tội\, nhưng để cứu độ những ai trông đợi Người. Đó là lời Chúa. \nALLELUIA: Mt 24\, 42a và 44 \nAlleluia\, alleluia! – Các con hãy tỉnh thức và sẵn sàng: vì lúc các con không ngờ\, Con Người sẽ đến. – Alleluia. \nPHÚC ÂM: Mc 12\, 41-44 {hoặc 38-44} \n“Bà goá nghèo này đã bỏ nhiều hơn hết”. \nTin Mừng Chúa Giêsu Kitô theo Thánh Marcô. \nKhi ấy\, {Chúa Giêsu phán cùng dân chúng trong khi giảng dạy rằng: “Các ngươi hãy coi chừng bọn luật sĩ. Họ thích đi lại trong bộ áo thụng\, ưa được bái chào ngoài công trường\, chiếm những ghế nhất trong hội đường và trong đám tiệc. Họ giả bộ đọc những kinh dài để nuốt hết tài sản của các bà goá: Họ sẽ bị kết án nghiêm ngặt hơn”.} \nChúa Giêsu ngồi đối diện với hòm tiền\, quan sát dân chúng bỏ tiền vào hòm\, và có lắm người giàu bỏ nhiều tiền. Chợt có một bà goá nghèo đến bỏ hai đồng tiền là một phần tư xu. Người liền gọi các môn đệ và bảo: “Thầy nói thật với các con: Trong những người đã bỏ tiền vào hòm\, bà goá nghèo này đã bỏ nhiều hơn hết. Vì tất cả những người kia bỏ của mình dư thừa\, còn bà này đang túng thiếu\, đã bỏ tất cả những gì mình có để nuôi sống mình”. Đó là lời Chúa.
URL:https://dongchuacuuthe.us/calendar/chua-nhat-32-thuong-nien-nam-a-2/
END:VEVENT
BEGIN:VEVENT
DTSTART;VALUE=DATE:20241117
DTEND;VALUE=DATE:20241118
DTSTAMP:20260424T063359
CREATED:20241026T044002Z
LAST-MODIFIED:20241026T044245Z
UID:10750-1731801600-1731887999@dongchuacuuthe.us
SUMMARY:Chúa Nhật XXXIII Thường Niên Năm B
DESCRIPTION:BÀI ĐỌC I: Đn 12\, 1-3 \n“Khi ấy dân ngươi sẽ được cứu thoát”. \nTrích sách Tiên tri Đaniel. \nKhi ấy\, tổng lãnh sứ thần Micae sẽ chỗi dậy can thiệp cho con cái dân ngươi\, đó sẽ là thời kỳ khốn khổ chưa từng xảy đến từ khi có các dân tộc cho tới bây giờ. Trong thời kỳ ấy dân ngươi\, hễ ai đã có ghi tên trong sách\, sẽ được cứu thoát.  \nNhiều kẻ an giấc trong bụi đất sẽ chỗi dậy; có người sẽ được hưởng phúc trường sinh\, có kẻ phải tủi nhục muôn đời.  \nNhững người thông minh sẽ sáng chói như ánh sáng vòm trời\, và những kẻ khuyên dạy sự công chính cho nhiều người\, sẽ nên như các vì tinh tú tồn tại muôn ngàn đời. Đó là lời Chúa. \nĐÁP CA: Tv 15\, 5 và 8. 9-10. 11 \nĐáp: Xin bảo toàn con\, lạy Chúa\, vì con tìm nương tựa Chúa (c. 1). \nXướng: 1) Chúa là phần gia nghiệp và phần chén của con\, chính Người nắm giữ vận mạng của con. Con luôn luôn đặt Chúa ở trước mặt con\, vì Chúa ngự bên hữu con\, con sẽ không nao núng. – Đáp.  \n2) Bởi thế lòng con vui mừng và linh hồn con hoan hỉ\, ngay cả đến xác thịt của con cũng nằm nghỉ an toàn\, vì Chúa chẳng bỏ rơi linh hồn con trong âm phủ\, cũng không để thánh nhân của Người thấy điều hư nát. – Đáp.  \n3) Chúa sẽ chỉ cho con biết đường lối trường sinh: sự no đầy hoan hỉ ở trước thiên nhan\, sự khoái lạc bên tay hữu Chúa tới muôn muôn đời! – Đáp.  \nBÀI ĐỌC II: Dt 10\, 11-14. 18 \n“Người đã làm cho những kẻ được thánh hoá nên hoàn hảo đến muôn đời”. \nTrích thư gửi tín hữu Do-thái. \nTrong khi mọi tư tế hằng ngày đứng gần bàn thờ chu toàn chức vụ mình và hiến dâng cũng ngần ấy của lễ nhiều lần\, nhưng không bao giờ xoá được tội lỗi\, còn Người khi dâng xong của lễ duy nhất đền tội\, đã ngự bên hữu Thiên Chúa đến muôn đời\, và từ đây\, Người chờ đợi cho đến khi thù địch bị đặt làm bệ dưới chân Người. Vì chưng\, nhờ việc hiến dâng duy nhất mà Người đã làm cho những kẻ được thánh hoá nên hoàn hảo đến muôn đời. Vậy nơi nào tội lỗi được thứ tha\, thì không còn việc dâng của lễ đền tội nữa. Đó là lời Chúa. \nALLELUIA: Kh 2\, 10c \nAlleluia\, alleluia! – Chúa phán: “Ngươi hãy giữ lòng trung thành cho đến chết\, thì Ta sẽ ban cho ngươi triều thiên sự sống”. – Alleluia. \nPHÚC ÂM: Mc 13\, 24-32 \n“Người sẽ quy tụ những người được tuyển chọn từ khắp bốn phương trời”. \nTin Mừng Chúa Giêsu Kitô theo Thánh Marcô.  \nKhi ấy\, Chúa Giêsu phán cùng các môn đệ rằng: “Trong những ngày ấy\, sau cảnh khốn cực\, mặt trời sẽ ra tối tăm\, mặt trăng sẽ mất sáng\, các ngôi sao sẽ từ trời rơi xuống và các sức mạnh trên trời sẽ bị lay chuyển. Bấy giờ thiên hạ sẽ thấy Con Người ngự đến trên đám mây với đầy quyền năng và vinh quang. Và bấy giờ Người sẽ sai các thiên thần của Người đi quy tụ những kẻ đã được tuyển chọn từ khắp bốn phương\, từ chân trời cho đến cùng kiệt trái đất. Nhìn vào cây vả\, các con hãy tìm hiểu dụ ngôn này. Khi nó đâm chồi nảy lộc\, các con biết rằng mùa hè gần đến. Cũng vậy\, khi các con nhìn thấy tất cả những điều đó xảy ra\, thì các con hãy biết là Người đã tới gần ngoài cửa rồi. Thầy bảo thật các con: Thế hệ này sẽ chẳng qua đi trước khi mọi sự đó xảy đến. Trời đất sẽ qua đi\, nhưng lời Thầy nói sẽ chẳng qua đi.  \n“Còn về ngày đó hay giờ đó\, thì không một ai biết được\, dù các thiên thần trên trời\, dù Con Người cũng chẳng biết\, chỉ có mình Cha biết thôi”. Đó là lời Chúa…
URL:https://dongchuacuuthe.us/calendar/chua-nhat-33-thuong-nien-nam-a-2/
END:VEVENT
BEGIN:VEVENT
DTSTART;VALUE=DATE:20241124
DTEND;VALUE=DATE:20241125
DTSTAMP:20260424T063359
CREATED:20241026T044350Z
LAST-MODIFIED:20241026T044406Z
UID:10757-1732406400-1732492799@dongchuacuuthe.us
SUMMARY:CN Lễ Chúa Kitô Vua Năm B
DESCRIPTION:BÀI ĐỌC I: Đn 7\, 13-14 \n“Quyền năng của Ngài là quyền năng vĩnh cửu”. \nTrích sách Tiên tri Đaniel. \nTrong một thị kiến ban đêm\, tôi đã ngắm nhìn\, và đây tôi thấy như Con Người đến trong đám mây trên trời\, Ngài tiến đến vị Bô Lão\, và người ta dẫn Ngài đến trước mặt vị Bô Lão. Vị nầy ban cho Ngài quyền năng\, vinh dự và vương quốc: tất cả các dân tộc\, chi họ\, và tiếng nói đều phụng sự Ngài; quyền năng của Ngài là quyền năng vĩnh cửu\, không khi nào bị cất mất; vương quốc của Ngài không khi nào bị phá huỷ. Đó là lời Chúa. \nĐÁP CA: Tv 92\, 1ab. 1c-2. 5 \nĐáp: Chúa làm vua\, Ngài đã mặc thiên oai (c. 1a). \nXướng: 1) Chúa làm vua\, Ngài đã mặc thiên oai; Chúa đã vận uy quyền\, Ngài đã thắt long đai. – Đáp. \n2) Và Ngài giữ vững địa cầu\, nó sẽ không còn lung lay. Ngai báu của Ngài thiết lập từ muôn thuở\, tự đời đời vẫn có Chúa. – Đáp. \n3) Lời chứng bảo của Ngài rất đáng tin\, lạy Chúa\, sự thánh thiện là của riêng nhà Ngài\, cho tới muôn muôn ngàn thuở. – Đáp. \nBÀI ĐỌC II: Kh 1\, 5-8 \n“Người là thủ lãnh các vua trần thế: Người đã làm cho chúng ta nên vương quốc”.  \nTrích sách Khải Huyền của Thánh Gioan Tông đồ. \nNguyện chúc cho anh em được ân sủng và bình an của Chúa Giêsu Kitô\, là chứng tá trung thành\, là trưởng tử kẻ chết\, là thủ lãnh các vua trần thế\, là Đấng đã yêu thương chúng ta\, Người đã dùng máu Người mà rửa chúng ta sạch mọi tội lỗi\, và đã làm cho chúng ta trở nên vương quốc và tư tế của Thiên Chúa\, Cha của Người. Nguyện chúc Người được vinh quang và quyền lực muôn đời. Amen.  \nKìa\, Người đến trong đám mây\, mọi con mắt đã nhìn thấy Người\, và cả những kẻ đã đâm Người cũng nhìn thấy Người\, các chủng tộc trên địa cầu sẽ than khóc Người. Thật như vậy. Amen. \nChúa là Thiên Chúa\, Đấng đang có\, đã có\, và sẽ đến\, là Đấng Toàn Năng phán: “Ta là Alpha và Ômêga\, là nguyên thuỷ và là cứu cánh”. Đó là lời Chúa. \nALLELUIA: Mt 11\, 10 \nAlleluia\, alleluia! – Chúc tụng Đấng nhân danh Chúa mà đến: chúc tụng nước Đavít tổ phụ chúng ta đã đến! – Alleluia. \nPHÚC ÂM: Ga 18\, 33b-37 \n“Quan nói đúng: Tôi là Vua”. \nTin Mừng Chúa Giêsu Kitô theo Thánh Gioan. \nKhi ấy\, Philatô hỏi Chúa Giêsu rằng: “Ông có phải là Vua dân Do-thái không?” Chúa Giêsu đáp: “Quan tự ý nói thế\, hay là có người khác nói với quan về tôi?”  \nPhilatô đáp: “Ta đâu phải là người Do-thái. Nhân dân ông cùng các thượng tế đã trao nộp ông cho ta. Ông đã làm gì?” Chúa Giêsu đáp: “Nước tôi không thuộc về thế gian này. Nếu nước tôi thuộc về thế gian này\, thì những người của tôi đã chiến đấu để tôi không bị nộp cho người Do-thái\, nhưng mà nước tôi không thuộc chốn này”.  \nPhilatô hỏi lại: “Vậy ông là Vua ư?”  \nChúa Giêsu đáp: “Quan nói đúng. Tôi là Vua. Tôi sinh ra và đến trong thế gian này là chỉ để làm chứng về Chân lý. Ai thuộc về Chân lý thì nghe tiếng Tôi”. Đó là lời Chúa…
URL:https://dongchuacuuthe.us/calendar/cn-le-chua-kito-vua-nam-b/
END:VEVENT
END:VCALENDAR