BEGIN:VCALENDAR
VERSION:2.0
PRODID:-//Dòng Chúa Cứu Thế Hải Ngoại - ECPv6.15.20//NONSGML v1.0//EN
CALSCALE:GREGORIAN
METHOD:PUBLISH
X-ORIGINAL-URL:https://dongchuacuuthe.us
X-WR-CALDESC:Events for Dòng Chúa Cứu Thế Hải Ngoại
REFRESH-INTERVAL;VALUE=DURATION:PT1H
X-Robots-Tag:noindex
X-PUBLISHED-TTL:PT1H
BEGIN:VTIMEZONE
TZID:America/Los_Angeles
BEGIN:DAYLIGHT
TZOFFSETFROM:-0800
TZOFFSETTO:-0700
TZNAME:PDT
DTSTART:20230312T100000
END:DAYLIGHT
BEGIN:STANDARD
TZOFFSETFROM:-0700
TZOFFSETTO:-0800
TZNAME:PST
DTSTART:20231105T090000
END:STANDARD
BEGIN:DAYLIGHT
TZOFFSETFROM:-0800
TZOFFSETTO:-0700
TZNAME:PDT
DTSTART:20240310T100000
END:DAYLIGHT
BEGIN:STANDARD
TZOFFSETFROM:-0700
TZOFFSETTO:-0800
TZNAME:PST
DTSTART:20241103T090000
END:STANDARD
BEGIN:DAYLIGHT
TZOFFSETFROM:-0800
TZOFFSETTO:-0700
TZNAME:PDT
DTSTART:20250309T100000
END:DAYLIGHT
BEGIN:STANDARD
TZOFFSETFROM:-0700
TZOFFSETTO:-0800
TZNAME:PST
DTSTART:20251102T090000
END:STANDARD
END:VTIMEZONE
BEGIN:VEVENT
DTSTART;VALUE=DATE:20241006
DTEND;VALUE=DATE:20241007
DTSTAMP:20260424T082743
CREATED:20241026T043522Z
LAST-MODIFIED:20241026T043522Z
UID:10734-1728172800-1728259199@dongchuacuuthe.us
SUMMARY:Chúa Nhật XXVII Thường Niên Năm B
DESCRIPTION:BÀI ĐỌC I: St 2\, 18-24 \n“Cả hai nên một thân thể”. \nTrích sách Sáng Thế. \nChúa là Thiên Chúa phán: “Đàn ông ở một mình không tốt. Ta hãy tạo dựng cho nó một nội trợ giống như nó”. Sau khi lấy bùn đất dựng nên mọi thú vật dưới đất và toàn thể chim chóc trên trời\, Thiên Chúa dẫn đến trước mặt Ađam để coi ông gọi chúng thế nào\, và sinh vật nào Ađam gọi\, thì chính đó là tên nó. Ađam liền đặt tên cho mọi súc vật\, chim trời và muông thú. Nhưng Ađam không gặp một người nội trợ giống như mình.  \nVậy Thiên Chúa khiến cho Ađam ngủ say\, và khi ông đang ngủ\, Người lấy một xương sườn của ông\, và đắp thịt lại. Thiên Chúa làm cho chiếc xương sườn đã lấy từ Ađam trở thành người đàn bà\, rồi dẫn đến Ađam. Ađam liền nói: “Bây giờ đây xương bởi xương tôi và thịt bởi thịt tôi. Người này sẽ được gọi là người nữ\, vì bởi người nam mà ra”. Vì thế\, người đàn ông sẽ lìa bỏ cha mẹ mà kết hợp với vợ mình\, và cả hai nên một thân thể. Đó là lời Chúa.  \nĐÁP CA: Tv 127\, 1-2. 3. 4-5. 6 \nĐáp: Nguyện Chúa chúc phúc cho chúng con hết mọi ngày trong đời sống chúng con! (x. c. 5). \nXướng: 1) Phúc thay những bạn nào tôn sợ Thiên Chúa\, bạn nào ăn ở theo đường lối của Người! Công quả tay bạn làm ra bạn được an hưởng\, bạn được hạnh phúc và sẽ gặp may. – Đáp.  \n2) Hiền thê bạn như cây nho đầy hoa trái\, trong gia thất nội cung nhà bạn. Con cái bạn như chồi non của khóm ô-liu\, ở chung quanh bàn ăn của bạn. – Đáp. \n3) Đó là phúc lộc dành để cho người biết kính sợ Chúa. Nguyện Chúa từ Sion chúc phúc cho bạn\, để bạn nhìn thấy cảnh thịnh đạt của Giêrusalem\, hết mọi ngày trong đời sống của bạn. – Đáp.  \n4) Và để bạn nhìn thấy lũ cháu đàn con. Nguyện xin bình an đến trên đất Israel. – Đáp. \nBÀI ĐỌC II: Dt 2\, 9-11 \n“Đấng thánh hoá và những người được thánh hoá\, tất cả đều do một nguồn gốc”. \nTrích thư gửi tín hữu Do-thái. \nAnh em thân mến\, Đấng trong một thời gian bị hạ xuống kém các Thiên Thần\, là Đức Giêsu\, chúng ta thấy Người được triều thiên vinh quang và danh dự vì cuộc tử nạn của Người\, để nhờ ơn Thiên Chúa\, Người chịu chết thay cho mọi người. Quả vậy\, thật là thích hợp việc Chúa là nguyên nhân và cùng đích mọi vật\, đã dẫn đưa nhiều con cái đến vinh quang và đã lấy cuộc khổ nạn mà làm cho Đấng đem lại ơn cứu rỗi được hoàn hảo. Vì chưng\, Đấng thánh hoá và những người được thánh hoá\, tất cả đều do một nguồn gốc. Vì thế\, Người không hổ thẹn gọi họ là anh em. Đó là lời Chúa. \nALLELUIA: Ga 17\, 17b và a \nAlleluia\, alleluia! – Chúa phán: “Lời Cha là chân lý; xin hãy thánh hoá chúng trong sự thật”. – Alleluia. \nPHÚC ÂM: Mc 10\, 2-12 {hoặc 2-16}  \n“Sự gì Thiên Chúa đã kết hợp\, loài người không được phân rẽ”. \nTin Mừng Chúa Giêsu Kitô theo Thánh Marcô. \nKhi ấy\, những người biệt phái đến gần và hỏi thử Chúa Giêsu rằng: “Người ta có được phép ly dị vợ mình chăng?” Người đáp: “Môsê đã truyền cho các ông thế nào?” Họ thưa: “Môsê cho phép làm giấy ly dị và cho ly dị”. Bấy giờ Chúa Giêsu đáp lại: “Chính vì sự cứng lòng của các ông\, mà Môsê đã viết ra điều luật đó. Nhưng lúc khởi đầu cuộc sáng tạo\, Thiên Chúa đã dựng nên một người nam và một người nữ. Bởi đó người nam sẽ lìa cha mẹ để luyến ái vợ mình\, và hai người sẽ nên một huyết nhục. Như thế\, họ không còn là hai mà là một huyết nhục. Vậy sự gì Thiên Chúa đã kết hợp\, loài người không được phân rẽ”.  \nVề đến nhà\, các môn đệ lại hỏi Người về điểm đó. Và Người bảo các ông: “Ai bỏ vợ mình và lấy vợ khác\, thì phạm tội ngoại tình đối với người vợ trước. Và người nữ bỏ chồng và lấy chồng khác\, thì cũng phạm tội ngoại tình”.  \n{Bấy giờ người ta đưa những trẻ nhỏ đến cùng Chúa Giêsu để Người đặt tay trên chúng\, nhưng các môn đệ khiển trách họ. Thấy vậy\, Chúa Giêsu bất bình và bảo các ông rằng: “Hãy để các trẻ nhỏ đến cùng Thầy\, đừng ngăn cản chúng\, vì nước Thiên Chúa là của những người giống như chúng. Thầy bảo thật các con: Ai không đón nhận nước Thiên Chúa như trẻ nhỏ\, sẽ không được vào nước đó”. Rồi Người ôm chúng\, đặt tay ban phép lành cho chúng.} Đó là lời Chúa.
URL:https://dongchuacuuthe.us/calendar/chua-nhat-xxvii-thuong-nien-nam-b/
END:VEVENT
BEGIN:VEVENT
DTSTART;VALUE=DATE:20241013
DTEND;VALUE=DATE:20241014
DTSTAMP:20260424T082743
CREATED:20241026T043551Z
LAST-MODIFIED:20241026T043551Z
UID:10736-1728777600-1728863999@dongchuacuuthe.us
SUMMARY:Chúa Nhật XXVIII Thường Niên Năm B
DESCRIPTION:BÀI ĐỌC I: Kn 7\, 7-11 \n“Đem so sánh sự giàu sang với sự khôn ngoan\, tôi kể sự giàu sang như không”.  \nTrích sách Khôn Ngoan. \nTôi đã ước ao được ban sự hiểu biết\, tôi cầu khẩn được thần trí khôn ngoan đến cùng tôi. Tôi lấy sự khôn ngoan làm hơn vương quốc và ngai vàng: Đem so sánh sự giàu sang với sự khôn ngoan\, tôi kể sự giàu sang như không. Tôi cũng không so sánh nó với kim cương\, vì mọi thứ vàng đem so sánh với nó thì kể như hạt cát nhỏ bé\, và bạc đem để trước nó thì kể như đất bùn.  \nTôi yêu quý sự khôn ngoan hơn sức khoẻ và sắc đẹp\, tôi lấy nó làm hơn được sự sáng\, vì sự sáng của nó không hề tắt. Tất cả mọi sự tốt lành đều đến cùng tôi làm một với nó\, và nhờ tay của nó\, tôi được đoan chính không kể xiết. Đó là lời Chúa. \nĐÁP CA: Tv 89\, 12-13. 14-15. 16-17 \nĐáp: Xin cho chúng con sớm được no phỉ ân tình của Chúa\, để chúng con mừng rỡ hân hoan (c. 14). \nXướng: 1) Xin dạy chúng con biết đếm ngày giờ\, để chúng con luyện được lòng trí khôn ngoan. Lạy Chúa\, xin trở lại\, chứ còn để tới bao giờ? Xin tỏ lòng xót thương tôi tớ của Ngài. – Đáp. \n2) Xin cho chúng con sớm được no phỉ ân tình của Chúa\, để chúng con mừng rỡ hân hoan trọn đời sống chúng con. Xin ban niềm vui thế cho những ngày Chúa hạ nhục chúng con\, thế cho những năm chúng con mục kích nạn tai. – Đáp.  \n3) Xin cho các bầy tôi nhìn thấy sự nghiệp của Chúa\, và cho con cháu họ được thấy vinh quang Ngài. Xin cho chúng con được hưởng ân sủng Chúa là Thiên Chúa chúng con\, sự nghiệp tay chúng con làm ra\, xin Ngài củng cố; xin Ngài củng cố sự nghiệp tay chúng con làm ra. – Đáp.  \nBÀI ĐỌC II: Dt 4\, 12-13 \n“Lời của Chúa phân tách tình cảm với ý nghĩ của tâm hồn”. \nTrích thư gửi tín hữu Do-thái. \nAnh em thân mến\, lời Thiên Chúa là lời hằng sống\, linh nghiệm\, sắc bén hơn mọi thứ gươm hai lưỡi\, thấu suốt đến nỗi phân rẽ linh hồn với thần trí\, gân cốt với tuỷ não\, phân tách tình cảm với ý nghĩ của tâm hồn. Không một tạo vật nào ẩn khuất được trước mặt Chúa; tất cả mọi sự đều phơi trần và tỏ ra trước mắt của Đấng mà chúng ta phải trả lẽ. Đó là lời Chúa. \nALLELUIA: Lc 19\, 38 \nAlleluia\, alleluia! – Chúc tụng Đức Vua\, Đấng nhân danh Chúa mà đến! Bình an trên trời và vinh quang trên các tầng trời! – Alleluia. \nPHÚC ÂM: Mc 10\, 17-27 {hoặc 17-30} \n“Ngươi hãy đi bán tất cả gia tài rồi đến theo Ta”. \nTin Mừng Chúa Giêsu Kitô theo Thánh Marcô. \nKhi ấy Chúa Giêsu vừa lên đường\, thì một người chạy lại quỳ gối trước Người và hỏi: “Lạy Thầy nhân lành\, tôi phải làm gì để được sống đời đời?” Chúa Giêsu trả lời: “Sao ngươi gọi Ta là nhân lành? Chẳng có ai là nhân lành\, trừ một mình Thiên Chúa. Ngươi đã biết các giới răn: đừng ngoại tình\, đừng giết người\, đừng trộm cắp\, đừng làm chứng gian\, đừng lường gạt; hãy thảo kính cha mẹ”. Người ấy thưa: “Lạy Thầy\, những điều đó tôi đã giữ từ thuở nhỏ”.  \nBấy giờ Chúa Giêsu chăm chú nhìn người ấy và đem lòng thương mà bảo rằng: “Ngươi chỉ thiếu một điều\, là ngươi hãy đi bán tất cả gia tài\, đem bố thí cho người nghèo khó và ngươi sẽ có một kho báu trên trời\, rồi đến theo Ta”. Nhưng người ấy nghe những lời đó\, thì sụ nét mặt và buồn rầu bỏ đi\, vì anh ta có nhiều của cải. Lúc đó Chúa Giêsu nhìn chung quanh và bảo các môn đệ rằng: “Những người giàu có vào nước Thiên Chúa khó biết bao!” Các môn đệ kinh ngạc vì những lời đó. Nhưng Chúa Giêsu lại nói tiếp và bảo các ông rằng: “Hỡi các con\, những kẻ cậy dựa vào tiền bạc\, thật khó mà vào nước Thiên Chúa biết bao! Con lạc đà chui qua lỗ kim còn dễ hơn người giàu có vào nước Thiên Chúa”. Các ông càng kinh ngạc hỏi nhau rằng: “Như vậy thì ai có thể được cứu độ?” Chúa Giêsu chăm chú nhìn các ông\, và nói: “Đối với loài người thì không thể được\, nhưng không phải đối với Thiên Chúa\, vì Thiên Chúa làm được mọi sự”.  \n{Phêrô thưa cùng Chúa Giêsu rằng: “Đây chúng con đã bỏ mọi sự mà theo Thầy”. Chúa Giêsu trả lời rằng: “Thầy bảo thật các con\, chẳng ai bỏ nhà cửa\, anh em\, chị em\, cha mẹ\, con cái\, đồng ruộng vì Thầy và vì Tin Mừng\, mà ngay bây giờ lại không được gấp trăm ở đời này về nhà cửa\, anh em\, chị em\, cha mẹ\, con cái và ruộng nương\, cùng với sự bắt bớ\, và ở đời sau được sự sống vĩnh cửu. Nhưng có nhiều kẻ trước nhất sẽ nên rốt hết\, và những kẻ rốt hết sẽ nên trước nhất”.} Đó là lời Chúa.
URL:https://dongchuacuuthe.us/calendar/chua-nhat-xxviii-thuong-nien-nam-b/
END:VEVENT
BEGIN:VEVENT
DTSTART;VALUE=DATE:20241020
DTEND;VALUE=DATE:20241021
DTSTAMP:20260424T082743
CREATED:20241026T043615Z
LAST-MODIFIED:20241026T043615Z
UID:10738-1729382400-1729468799@dongchuacuuthe.us
SUMMARY:Chúa Nhật XXIX Thường Niên Năm B
DESCRIPTION:BÀI ĐỌC I: Is 53\, 10-11 \n“Nếu người hiến thân làm lễ vật đền tội\, người sẽ thấy một dòng dõi trường tồn”. \nTrích sách Tiên tri Isaia. \nChúa đã muốn hành hạ người trong đau khổ. Nếu người hiến thân làm lễ vật đền tội\, người sẽ thấy một dòng dõi trường tồn\, và nhờ người\, ý định của Chúa sẽ thành tựu. Nhờ nỗi khổ tâm của người\, người sẽ thấy và sẽ được thoả mãn. Nhờ sự thông biết\, tôi tớ công chính của Ta sẽ công chính hoá nhiều người\, sẽ gánh lấy những tội ác của họ. Đó là lời Chúa. \nĐÁP CA: Tv 32\, 4-5. 18-19. 20 và 22 \nĐáp: Lạy Chúa\, xin đổ lòng từ bi xuống trên chúng con\, theo như chúng con tin cậy ở nơi Ngài (c. 22). \nXướng: 1) Vì lời Chúa là lời chân chính\, bao việc Chúa làm đều đáng cậy tin. Chúa yêu chuộng điều công minh chính trực\, địa cầu đầy ân sủng của Chúa. – Đáp. \n2) Kìa Chúa để mắt coi những kẻ kính sợ Ngài\, nhìn xem những ai cậy trông ân sủng của Ngài\, để cứu gỡ họ khỏi tay thần chết\, và nuôi dưỡng họ trong cảnh cơ hàn. – Đáp. \n3) Linh hồn chúng con mong đợi Chúa\, chính Ngài là Đấng phù trợ và che chở chúng con. Lạy Chúa\, xin đổ lòng từ bi xuống trên chúng con\, theo như chúng con tin cậy ở nơi Ngài. – Đáp. \nBÀI ĐỌC II: Dt 4\, 14-16 \n“Chúng ta hãy cậy trông vững vàng mà tiến đến trước toà ân sủng”. \nTrích thư gửi tín hữu Do-thái. \nAnh em thân mến\, chúng ta có một Thượng tế cao cả đã đi qua các tầng trời\, là Đức Giêsu\, Con Thiên Chúa\, nên chúng ta hãy giữ vững việc tuyên xưng đức tin của chúng ta. Vì chưng\, không phải chúng ta có vị Thượng tế không thể cảm thông sự yếu đuối của chúng ta\, trái lại\, Người đã từng chịu thử thách bằng mọi cách như chúng ta\, ngoại trừ tội lỗi. Vậy chúng ta hãy cậy trông vững vàng mà tiến đến trước toà ân sủng\, ngõ hầu lãnh nhận lòng từ bi và tìm kiếm ân sủng để gặp được ơn phù trợ kịp thời. Đó là lời Chúa. \nALLELUIA: 1 Sm 3\, 9 \nAlleluia\, alleluia! – Lạy Chúa\, xin hãy phán\, vì tôi tớ Chúa đang lắng tai nghe; Chúa có lời ban sự sống đời đời. – Alleluia. \nPHÚC ÂM: Mc 10\, 35-45 (bài dài) \n“Con Người đến để ban mạng sống Mình làm giá cứu chuộc cho nhiều người”. \nTin Mừng Chúa Giêsu Kitô theo Thánh Marcô. \nKhi ấy\, Giacôbê và Gioan con ông Giêbêđê đến gần Chúa Giêsu và thưa Người rằng: “Lạy Thầy\, chúng con muốn Thầy ban cho chúng con điều chúng con sắp xin Thầy”. Người hỏi: “Các con muốn Thầy làm gì cho các con?” Các ông thưa: “Xin cho chúng con một người ngồi bên hữu\, một người ngồi bên tả Thầy trong vinh quang của Thầy”. Chúa Giêsu bảo: “Các con không biết các con xin gì. Các con có thể uống chén Thầy sắp uống và chịu cùng một phép rửa Thầy sắp chịu không?” Các ông đáp: “Thưa được”. Chúa Giêsu bảo: “Chén Thầy uống\, các con cũng sẽ uống\, và phép rửa Thầy sắp chịu\, các con cũng sẽ chịu. Còn việc ngồi bên hữu hay bên tả Thầy\, thì không thuộc quyền Thầy ban\, nhưng là dành cho những ai đã được chỉ định”.  \nMười môn đệ kia nghe chuyện đó liền bực tức với Giacôbê và Gioan. Chúa Giêsu gọi các ông lại gần mà bảo: “Các con biết rằng những người được coi là lãnh tụ các nước\, thì sai khiến dân chúng như ông chủ\, và những người làm lớn thì lấy uy quyền mà trị dân. Còn các con không như thế. Trái lại\, ai trong các con muốn làm lớn\, thì hãy tự làm đầy tớ anh em. Và ai muốn thành người cầm đầu trong các con\, thì hãy tự làm nô lệ cho mọi người. Vì chính Con Người cũng không đến để được phục vụ\, nhưng để phục vụ và ban mạng sống mình làm giá cứu chuộc cho nhiều người”. Đó là lời Chúa. \nHoặc bài vắn này: Mc 10\, 42-45 \n“Con Người đến để ban mạng sống Mình làm giá cứu chuộc cho nhiều người”. \nKhi ấy\, Chúa Giêsu gọi các ông lại gần mà bảo: “Các con biết rằng những người được coi là lãnh tụ các nước\, thì sai khiến dân chúng như ông chủ\, và những người làm lớn thì lấy uy quyền mà trị dân. Còn các con không như thế. Trái lại\, ai trong các con muốn làm lớn\, thì hãy tự làm đầy tớ anh em. Và ai muốn thành người cầm đầu trong các con\, thì hãy tự làm nô lệ cho mọi người. Vì chính Con Người cũng không đến để được phục vụ\, nhưng để phục vụ và ban mạng sống mình làm giá cứu chuộc cho nhiều người”. Đó là lời Chúa.
URL:https://dongchuacuuthe.us/calendar/chua-nhat-xxix-thuong-nien-nam-b/
END:VEVENT
BEGIN:VEVENT
DTSTART;TZID=America/Los_Angeles:20241025T080000
DTEND;TZID=America/Los_Angeles:20241025T170000
DTSTAMP:20260424T082743
CREATED:20241026T044804Z
LAST-MODIFIED:20241026T044804Z
UID:10767-1729843200-1729875600@dongchuacuuthe.us
SUMMARY:Lễ Thánh Gia Thất Năm B\, LK
DESCRIPTION:BÀI ĐỌC I: Hc 3\, 3-7. 14-17a \n“Ai kính sợ Chúa\, thì thảo kính cha mẹ”. \nTrích sách Huấn Ca. \nThiên Chúa suy tôn người cha trong con cái; quyền lợi bà mẹ\, Người củng cố trên đoàn con. Ai yêu mến cha mình\, thì đền bù tội lỗi; ai thảo kính mẹ mình\, thì như người thu được một kho tàng. Ai thảo kính cha mình\, sẽ được vui mừng trong con cái\, khi cầu xin\, người ấy sẽ được nhậm lời. Ai thảo kính cha mình\, sẽ được sống lâu dài. Ai vâng lời cha\, sẽ làm vui lòng mẹ.  \nHỡi kẻ làm con\, hãy gánh lấy tuổi già cha ngươi\, chớ làm phiền lòng người khi người còn sống. Nếu tinh thần người sa sút\, thì hãy rộng lượng\, ngươi là kẻ trai tráng\, chớ đành khinh dể người. Vì của dâng cho cha\, sẽ không rơi vào quên lãng. Của biếu cho mẹ\, sẽ đền bù tội lỗi\, và xây dựng đức công chính của ngươi.  \nĐó là lời Chúa. \nĐÁP CA: Tv 127\, 1-2. 3. 4-5 \nĐáp: Phúc thay những bạn nào tôn sợ Thiên Chúa\, bạn nào ăn ở theo đường lối của Người (x. c. 1). \nXướng: 1) Phúc thay những bạn nào tôn sợ Thiên Chúa\, bạn nào ăn ở theo đường lối của Người! Công quả tay bạn làm ra bạn an hưởng\, bạn được hạnh phúc và sẽ gặp may. – Đáp.  \n2) Hiền thê bạn như cây nho đầy hoa trái\, trong gia thất nội cung nhà bạn. Con cái bạn như những chồi non của khóm ô-liu ở chung quanh bàn ăn của bạn. Đó là phúc lộc dành để cho người biết tôn sợ Đức Thiên Chúa. – Đáp. \n3) Nguyện xin Thiên Chúa từ Sion chúc phúc cho bạn\, để bạn nhìn thấy cảnh thịnh đạt của Giêrusalem hết mọi ngày trong đời sống của bạn\, và để bạn nhìn thấy lũ cháu đoàn con! – Đáp.  \n\nBÀI ĐỌC II: Cl 3\, 12-21 \n“Về đời sống gia đình trong Chúa”. \nTrích thư Thánh Phaolô Tông đồ gửi tín hữu Côlôxê. \nAnh em thân mến\, như những người được chọn của Thiên Chúa\, những người thánh thiện và được yêu thương\, anh em hãy mặc lấy những tâm tình từ bi\, nhân hậu\, khiêm cung\, ôn hoà\, nhẫn nại\, chịu đựng lẫn nhau\, và hãy tha thứ cho nhau nếu người này có chuyện phải oán trách người kia. Như Chúa đã tha thứ cho anh em\, anh em cũng hãy tha thứ cho nhau. Và trên hết mọi sự\, anh em hãy có đức yêu thương\, đó là dây ràng buộc điều toàn thiện. Nguyện cho bình an của Chúa Kitô làm chủ trong lòng anh em\, sự bình an mà anh em đã được kêu gọi tới để làm nên một thân thể. Anh em hãy cảm tạ Thiên Chúa. Nguyện cho lời Chúa Kitô cư ngụ dồi dào trong anh em. Với tất cả sự khôn ngoan\, anh em hãy học hỏi và nhủ bảo lẫn nhau. Hãy dùng những bài thánh vịnh\, thánh thi và thánh ca của Thần khí\, cùng với lòng tri ân\, để hát mừng Thiên Chúa trong lòng anh em. Và tất cả những gì anh em làm\, trong lời nói cũng như trong hành động\, tất cả mọi chuyện\, anh em hãy làm vì danh Chúa Giêsu Kitô\, nhờ Người mà tạ ơn Thiên Chúa Cha.  \nHỡi các bà vợ\, hãy phục tùng chồng trong Chúa cho phải phép. Hỡi những người chồng\, hãy yêu thương vợ mình\, đừng đay nghiến nó. Hỡi những người con\, hãy vâng lời cha mẹ trong mọi sự\, vì đó là đẹp lòng Chúa. Hỡi những người cha\, đừng nổi cơn phẫn nộ với con cái\, kẻo chúng nên nhát đảm sợ sệt. Đó là lời Chúa. \n\nALLELUIA: Cl 3\, 15a. 16a \nAlleluia\, alleluia! – Nguyện cho bình an của Chúa Kitô làm chủ trong lòng anh em. Nguyện cho lời Chúa Kitô cư ngụ dồi dào trong anh em. – Alleluia. \n\nPHÚC ÂM: Lc 2\, 22-40 (bài dài)  \n“Con trẻ lớn lên\, đầy khôn ngoan”. \nTin Mừng Chúa Giêsu Kitô theo Thánh Luca. \nKhi ấy\, đủ ngày thanh tẩy theo luật Môsê\, cha mẹ Chúa Giêsu liền đem Người lên Giêrusalem để hiến dâng cho Chúa\, như đã chép trong Lề luật Chúa rằng: “Mọi con trai đầu lòng sẽ được gọi là người thánh thuộc về Chúa”. Và cũng để dâng lễ vật cho Chúa\, như có nói trong Luật Chúa\, là một đôi chim gáy hay một cặp bồ câu con.  \nVà đây ở Giêrusalem có một người tên là Simêon\, là người công chính\, kính sợ Thiên Chúa\, và đang đợi chờ niềm ủi an của Israel. Thánh Thần cũng ở trong ông. Ông đã được Thánh Thần trả lời rằng: Ông sẽ không chết trước khi thấy Đấng Kitô của Chúa. Được Thánh Thần thúc giục\, ông vào đền thờ ngay lúc cha mẹ trẻ Giêsu đưa Người đến để thi hành cho Người những tục lệ của Lề luật. Ông bồng Người trên cánh tay mình\, và chúc tụng Thiên Chúa rằng:  \n“Lạy Chúa\, bây giờ\, Chúa để cho tôi tớ Chúa đi bình an theo như lời Chúa\, vì chính mắt con đã thấy ơn cứu độ mà Chúa đã sắm sẵn trước mặt muôn dân\, là ánh sáng chiếu soi các lương dân\, và vinh quang của Israel dân Chúa”.  \nCha mẹ Người đều kinh ngạc về những điều đã nói về Người. Simêon chúc lành cho hai ông bà và nói với Maria mẹ Người rằng: “Đây trẻ này được đặt lên\, khiến cho nhiều người trong Israel phải sụp đổ hay được đứng dậy\, và cũng để làm mục tiêu cho người ta chống đối. Về phần bà\, một lưỡi gươm sẽ đâm thấu tâm hồn bà để tâm tư nhiều tâm hồn được biểu lộ!”  \nLúc ấy\, cũng có bà tiên tri Anna\, con ông Phanuel\, thuộc chi họ Asê\, đã cao niên. Mãn thời trinh nữ\, bà đã sống với chồng được bảy năm. Rồi thủ tiết cho đến nay đã tám mươi bốn tuổi. Bà không rời khỏi đền thờ\, đêm ngày ăn chay cầu nguyện phụng sự Chúa. Chính giờ ấy\, bà cũng đến\, bà liền chúc tụng Chúa\, và nói về trẻ Giêsu cho tất cả những người đang trông chờ ơn cứu chuộc Israel.  \nKhi hai ông bà hoàn tất mọi điều theo luật Chúa\, thì trở lại xứ Galilêa\, về thành mình là Nadarét. Và con trẻ lớn lên\, thêm mạnh mẽ\, đầy khôn ngoan\, và ơn nghĩa Thiên Chúa ở cùng Người. Đó là lời Chúa. \n_____________________________\nHoặc đọc bài vắn này: Lc 2\, 22. 39-40 \nKhi ấy\, đủ ngày thanh tẩy theo luật Môsê\, cha mẹ Chúa Giêsu liền đem Người lên Giêrusalem để hiến dâng cho Chúa. Khi hai ông bà hoàn tất mọi điều theo luật Chúa\, thì trở lại xứ Galilêa\, về thành mình là Nadarét. Và Con Trẻ lớn lên\, thêm mạnh mẽ\, đầy khôn ngoan\, và ơn nghĩa Thiên Chúa ở cùng Người.  \nĐó là lời Chúa.
URL:https://dongchuacuuthe.us/calendar/le-thanh-gia-that-nam-b-lk/
END:VEVENT
BEGIN:VEVENT
DTSTART;VALUE=DATE:20241027
DTEND;VALUE=DATE:20241028
DTSTAMP:20260424T082743
CREATED:20241026T043639Z
LAST-MODIFIED:20241026T043639Z
UID:10740-1729987200-1730073599@dongchuacuuthe.us
SUMMARY:Chúa Nhật XXX Thường Niên Năm B
DESCRIPTION:BÀI ĐỌC I: Gr 31\, 7-9 \n“Ta sẽ lấy lòng từ bi dẫn dắt kẻ đui mù và què quặt”. \nTrích sách Tiên tri Giêrêmia. \nĐây Chúa phán: Hỡi Giacóp\, hãy hân hoan vui mừng! Hãy hò hét vào đầu các Dân ngoại\, hãy cất tiếng vang lên\, ca hát rằng: “Lạy Chúa\, xin hãy cứu dân Chúa là những kẻ sống sót trong Israel”.  \nĐây\, Ta sẽ dẫn dắt chúng từ đất bắc trở về\, sẽ tụ họp chúng lại từ bờ cõi trái đất: trong bọn chúng sẽ có kẻ đui mù\, què quặt\, mang thai và sinh con đi chung với nhau\, hợp thành một cộng đoàn thật đông quy tụ về đây.  \nChúng vừa đi vừa khóc\, Ta sẽ lấy lòng từ bi và dẫn dắt chúng trở về. Ta sẽ đưa chúng đi trên con đường thẳng\, băng qua các suối nước; chúng không phải vấp ngã trên đường đi: vì Ta đã trở nên thân phụ dân Israel\, và Ephraim là trưởng tử của Ta. Đó là lời Chúa. \nĐÁP CA: Tv 125\, 1-2ab. 2cd-3. 4-5. 6 \nĐáp: Chúa đã đối xử đại lượng với chúng tôi\, nên chúng tôi mừng rỡ hân hoan (c. 3). \nXướng: 1) Khi Chúa đem những người từ Sion bị bắt trở về\, chúng tôi dường như người đang mơ\, bấy giờ miệng chúng tôi vui cười\, lưỡi chúng tôi thốt lên những tiếng hân hoan. – Đáp. \n2) Bấy giờ dân thiên hạ nói với nhau rằng: “Chúa đã đối xử với họ cách đại lượng.” Chúa đã đối xử đại lượng với chúng tôi\, nên chúng tôi mừng rỡ hân hoan. – Đáp. \n3) Lạy Chúa\, hãy đổi số phận của con\, như những dòng suối ở miền nam. Ai gieo trong lệ sầu\, sẽ gặt trong hân hoan. – Đáp. \n4) Thiên hạ vừa đi vừa khóc\, tay mang thóc đi gieo; họ trở về trong hân hoan\, vai mang những bó lúa. – Đáp. \nBÀI ĐỌC II: Dt 5\, 1-6 \n“Con là tư tế đến muôn đời theo phẩm hàm Menkixêđê”. \nTrích thư gửi tín hữu Do-thái. \nTất cả các vị thượng tế được chọn giữa loài người\, nên được đặt lên thay cho loài người mà lo việc Chúa\, để hiến dâng lễ vật và hy lễ đền tội. Người có thể thông cảm với những kẻ mê muội và lầm lạc\, vì chính người cũng mắc phải yếu đuối tư bề. Vì thế\, cũng như người phải dâng lễ đền tội thay cho dân thế nào\, thì người dâng lễ đền tội cho chính mình như vậy. Không ai được chiếm vinh dự đó\, nhưng phải là người được Thiên Chúa kêu gọi như Aaron.  \nCũng thế\, Đức Kitô không tự dành lấy quyền làm thượng tế\, nhưng là Đấng đã nói với Người rằng: “Con là Con Cha\, hôm nay Cha sinh ra Con”. Cũng có nơi khác Ngài phán: “Con là tư tế đến muôn đời theo phẩm hàm Menkixêđê”. Đó là lời Chúa. \nALLELUIA: Lc 19\, 38 \nAlleluia\, alleluia! – Chúc tụng Đức Vua\, Đấng nhân danh Chúa mà đến; bình an trên trời và vinh quang trên các tầng trời. – Alleluia. \nPHÚC ÂM: Mc 10\, 46-52 \n“Lạy Thầy\, xin cho tôi được thấy”. \nTin Mừng Chúa Giêsu Kitô theo Thánh Marcô. \nKhi ấy\, Chúa Giêsu ra khỏi thành Giêricô cùng với các môn đệ và một đám đông\, thì con ông Timê tên là Bartimê\, một người mù đang ngồi ăn xin ở vệ đường\, khi anh ta nghe biết đó là Chúa Giêsu Nadarét\, liền kêu lên rằng: “Hỡi ông Giêsu con vua Đavít\, xin thương xót tôi”. Và nhiều người mắng anh bảo im đi\, nhưng anh càng kêu to hơn: “Hỡi con vua Đavít\, xin thương xót tôi”.  \nChúa Giêsu dừng lại và truyền gọi anh đến. Người ta gọi người mù và bảo anh: “Hãy vững tâm đứng dậy\, Người gọi anh”. Anh ta liệng áo choàng\, đứng dậy\, đến cùng Chúa Giêsu. Bấy giờ Chúa Giêsu bảo rằng: “Anh muốn Ta làm gì cho anh?” Người mù thưa: “Lạy Thầy\, xin cho tôi được thấy”. Chúa Giêsu đáp: “Được\, đức tin của anh đã chữa anh”. Tức thì anh ta thấy được và đi theo Người. Đó là lời Chúa.
URL:https://dongchuacuuthe.us/calendar/chua-nhat-xxx-thuong-nien-nam-b/
END:VEVENT
END:VCALENDAR