BEGIN:VCALENDAR
VERSION:2.0
PRODID:-//Dòng Chúa Cứu Thế Hải Ngoại - ECPv6.15.20//NONSGML v1.0//EN
CALSCALE:GREGORIAN
METHOD:PUBLISH
X-ORIGINAL-URL:https://dongchuacuuthe.us
X-WR-CALDESC:Events for Dòng Chúa Cứu Thế Hải Ngoại
REFRESH-INTERVAL;VALUE=DURATION:PT1H
X-Robots-Tag:noindex
X-PUBLISHED-TTL:PT1H
BEGIN:VTIMEZONE
TZID:America/Los_Angeles
BEGIN:DAYLIGHT
TZOFFSETFROM:-0800
TZOFFSETTO:-0700
TZNAME:PDT
DTSTART:20230312T100000
END:DAYLIGHT
BEGIN:STANDARD
TZOFFSETFROM:-0700
TZOFFSETTO:-0800
TZNAME:PST
DTSTART:20231105T090000
END:STANDARD
BEGIN:DAYLIGHT
TZOFFSETFROM:-0800
TZOFFSETTO:-0700
TZNAME:PDT
DTSTART:20240310T100000
END:DAYLIGHT
BEGIN:STANDARD
TZOFFSETFROM:-0700
TZOFFSETTO:-0800
TZNAME:PST
DTSTART:20241103T090000
END:STANDARD
BEGIN:DAYLIGHT
TZOFFSETFROM:-0800
TZOFFSETTO:-0700
TZNAME:PDT
DTSTART:20250309T100000
END:DAYLIGHT
BEGIN:STANDARD
TZOFFSETFROM:-0700
TZOFFSETTO:-0800
TZNAME:PST
DTSTART:20251102T090000
END:STANDARD
END:VTIMEZONE
BEGIN:VEVENT
DTSTART;VALUE=DATE:20240901
DTEND;VALUE=DATE:20240902
DTSTAMP:20260424T094949
CREATED:20240806T070144Z
LAST-MODIFIED:20240806T070144Z
UID:10327-1725148800-1725235199@dongchuacuuthe.us
SUMMARY:Chúa Nhật XXII Thường Niên Năm B
DESCRIPTION:BÀI ĐỌC I: Đnl 4\, 1-2. 6-8 \n“Các ngươi hãy tuân giữ các giới răn và đem thực hành bằng việc làm”.  \nTrích sách Đệ Nhị Luật. \nMôsê nói với dân chúng rằng: “Hỡi Israel\, giờ đây hãy nghe các lề luật và huấn lệnh mà ta dạy bảo các ngươi phải thực hành\, để được sống và được vào chiếm hữu phần đất mà Chúa là Thiên Chúa cha ông các ngươi sẽ ban cho các ngươi. Các ngươi chớ thêm bớt điều gì trong các điều ta đã truyền\, nhưng hãy tuân giữ các giới răn của Chúa là Thiên Chúa các ngươi mà ta đã truyền dạy các ngươi. Các ngươi phải tuân giữ và thực hành\, vì đó là sự khôn ngoan và sáng suốt của các ngươi trước mặt muôn dân\, để khi nghe nói đến tất cả các lề luật ấy\, họ nói: ‘Thật\, dân tộc vĩ đại này là một dân khôn ngoan và sáng suốt’. Không một dân tộc nào được các thần ở bên cạnh mình\, như Chúa là Thiên Chúa chúng ta\, ở bên cạnh chúng ta\, khi chúng ta kêu cầu Người. Có dân tộc thời danh nào khác có lễ nghi\, huấn lệnh công chính\, và bộ luật như ta trình bày trước mặt các ngươi hôm nay không?”  \n“Vậy các ngươi hãy ý tứ và giữ mình. Trong suốt đời các ngươi đừng quên và đừng để lòng xao lãng những điều các ngươi đã thấy. Hãy dạy cho con cháu các ngươi biết các điều ấy”. Đó là lời Chúa. \nĐÁP CA: Tv 14\, 2-3ab. 3cd-4ab. 4c-5 \nĐáp: Lạy Chúa\, ai sẽ được ở trong đền tạm Chúa? (c. 1a) \nXướng: 1) Người sống thanh liêm và thực thi công chính\, và trong lòng suy nghĩ điều ngay\, và lưỡi không bịa lời vu khống. – Đáp. \n2) Người không làm ác hại bạn đồng liêu\, cũng không làm nhục cho ai lân cận. Người coi rẻ đứa bất nhân\, nhưng kính yêu những ai tôn sợ Chúa. – Đáp. \n3) Người dẫu thề điều chi bất lợi\, cũng không thay đổi\, không xuất tiền đặt nợ thu lời\, cũng không ăn hối lộ hại người hiền lương. Người thực thi những điều kể đó\, thì muôn đời chẳng có lung lay. – Đáp. \nBÀI ĐỌC II: Gc 1\, 17-18. 21b-22. 27 \n“Anh em hãy thực thi lời đã nghe”. \nTrích thư Thánh Giacôbê Tông đồ. \nAnh em thân mến\, mọi ơn lành và mọi phúc lộc hoàn hảo đều do tự trời\, bởi Cha sáng láng ban xuống\, nơi Người không có thay đổi và cũng không có bóng dáng sự thay đổi. Người đã muốn sinh ra chúng ta bằng lời chân thật\, để chúng ta nên như của đầu mùa trong các tạo vật.  \nCho nên anh em hãy khử trừ mọi thứ nhơ bẩn và lòng đầy gian ác\, anh em hãy ngoan ngoãn nhận lãnh lời đã gieo trong lòng anh em\, lời có sức cứu độ linh hồn anh em. Anh em hãy thực thi lời đã nghe\, chứ đừng nghe suông mà lừa dối chính mình.  \nLòng đạo đức trong sạch và tinh tuyền đối với Thiên Chúa Cha là: thăm viếng cô nhi quả phụ trong cơn quẫn bách\, và giữ mình khỏi mọi ô uế đời này. Đó là lời Chúa. \nALLELUIA: Ga 14\, 5 \nAlleluia\, alleluia! – Chúa phán: “Thầy là đường\, là sự thật và là sự sống; không ai đến được với Cha mà không qua Thầy”. – Alleluia. \nPHÚC ÂM: Mc 7\, 1-8a. 14-15. 21-23 \n“Các ngươi gác bỏ một bên các giới răn Thiên Chúa\, để nắm giữ tập tục phàm nhân”. \nTin Mừng Chúa Giêsu Kitô theo Thánh Marcô. \nKhi ấy\, những người biệt phái và mấy luật sĩ từ Giêrusalem tụ tập lại bên Chúa Giêsu\, và họ thấy vài môn đệ Người dùng bữa với những bàn tay không tinh sạch\, nghĩa là không rửa trước. Vì theo đúng tập tục của tiền nhân\, những người biệt phái và mọi người Do-thái không dùng bữa mà không rửa tay trước\, và ở nơi công cộng về\, họ không dùng bữa mà không tắm rửa trước. Họ còn giữ nhiều tập tục khác nữa\, như rửa chén\, rửa bình\, rửa các đồ đồng. Vậy những người biệt phái và luật sĩ hỏi Người: “Sao môn đệ ông không giữ tập tục của tiền nhân mà lại dùng bữa với những bàn tay không tinh sạch?” Người đáp: “Hỡi bọn giả hình\, Isaia thật đã nói tiên tri rất chí lý về các ngươi\, như lời chép rằng: ‘Dân này kính Ta ngoài môi miệng\, nhưng lòng chúng ở xa Ta. Nó sùng kính Ta cách giả dối\, bởi vì nó dạy những giáo lý và những luật lệ loài người’. Vì các ngươi bỏ qua các giới răn Thiên Chúa\, để nắm giữ tập tục loài người”.  \nVà Người lại gọi dân chúng mà bảo rằng: “Hết thảy hãy nghe và hiểu rõ lời Ta. Không có gì từ bên ngoài vào trong con người mà có thể làm cho họ ra ô uế. Chỉ có những gì từ con người xuất ra\, chính những cái đó mới làm cho họ ra ô uế. Vì từ bên trong\, từ tâm trí người ta xuất phát những tư tưởng xấu: ngoại tình\, dâm ô\, giết người\, trộm cắp\, tham lam\, độc ác\, xảo trá\, lăng loàn\, ganh tị\, vu khống\, kiêu căng\, ngông cuồng. Tất cả những sự xấu đó đều ở trong mà ra\, và làm cho người ta ra ô uế”. Đó là lời Chúa.
URL:https://dongchuacuuthe.us/calendar/chua-nhat-xxii-thuong-nien-nam-b/
END:VEVENT
BEGIN:VEVENT
DTSTART;VALUE=DATE:20240908
DTEND;VALUE=DATE:20240909
DTSTAMP:20260424T094949
CREATED:20240806T070214Z
LAST-MODIFIED:20240806T070214Z
UID:10329-1725753600-1725839999@dongchuacuuthe.us
SUMMARY:Chúa Nhật XXIII Thường Niên Năm B
DESCRIPTION:BÀI ĐỌC I: Is 35\, 4-7a \n“Tai người điếc sẽ mở ra và người câm sẽ nói được”. \nTrích sách Tiên tri Isaia. \nCác ngươi hãy nói với những tâm hồn xao xuyến: Can đảm lên\, đừng sợ! Này đây Thiên Chúa các ngươi đến để phục thù. Chính Người sẽ đến và cứu thoát các ngươi.  \nBấy giờ mắt người mù sẽ sáng lên\, và tai người điếc sẽ mở ra. Bấy giờ người què sẽ nhảy nhót như nai\, và người câm sẽ nói được\, vì nước sẽ chảy lên nơi hoang địa\, và suối nước sẽ chảy nơi đồng vắng. Đất khô cạn sẽ trở thành ao hồ\, và hoang địa sẽ trở nên suối nước. Đó là lời Chúa. \nĐÁP CA: Tv 145\, 7. 8-9a. 9bc-10 \nĐáp: Linh hồn tôi ơi\, hãy ngợi khen Chúa! (c. 2a) \nHoặc đọc: Alleluia. \nXướng: 1) Thiên Chúa trả lại quyền lợi cho người bị ức\, và ban cho những người đói được cơm ăn. Thiên Chúa cứu gỡ những người tù tội. – Đáp.  \n2) Thiên Chúa mở mắt những kẻ đui mù\, Thiên Chúa giải thoát những kẻ bị khòm lưng khuất phục\, Thiên Chúa yêu quý các bậc hiền nhân. Thiên Chúa che chở những khách kiều cư. – Đáp.  \n3) Thiên Chúa nâng đỡ những người mồ côi quả phụ\, và làm rối loạn đường nẻo đứa ác nhân. Thiên Chúa sẽ làm vua tới muôn đời\, Sion hỡi\, Thiên Chúa của ngươi sẽ làm vua tự đời này sang đời khác. – Đáp.  \nBÀI ĐỌC II: Gc 2\, 1-5 \n“Không phải Thiên Chúa đã chọn người nghèo để hưởng nước Người đó sao?” \nTrích thư Thánh Giacôbê Tông đồ. \nAnh em thân mến\, anh em là những người tin vào Đức Giêsu Kitô vinh hiển\, Chúa chúng ta\, anh em đừng thiên vị. Giả sử trong lúc anh em hội họp\, có người đi vào\, tay đeo nhẫn vàng\, mình mặc áo sang trọng; lại cũng có người nghèo khó đi vào\, áo xống dơ bẩn\, nếu anh em chăm chú nhìn người mặc áo rực rỡ mà nói: “Xin mời ông ngồi chỗ danh dự này”. Còn với người nghèo khó thì anh em lại nói rằng: “Còn anh\, anh đứng đó”\, hoặc: “Anh hãy ngồi dưới bệ chân tôi”. Đó không phải là anh em xét xử thiên vị ở giữa anh em và trở nên những quan xét đầy tà tâm đó sao?  \nAnh em thân mến\, xin hãy nghe: Không phải Thiên Chúa chọn người nghèo trước mắt thế gian\, để nhờ đức tin\, họ trở nên giàu có và được hưởng nước Người đã hứa cho những kẻ yêu mến Người đó sao? Đó là lời Chúa. \nALLELUIA: Ga 1\, 14 và 12b \nAlleluia\, alleluia! – Lạy Chúa\, xin hãy nói\, vì tôi tớ Chúa đang lắng tai nghe: Chúa có lời ban sự sống đời đời. – Alleluia. \nPHÚC ÂM: Mc 7\, 31-37 \n“Người làm cho kẻ điếc nghe được và người câm nói được”. \nTin Mừng Chúa Giêsu Kitô theo Thánh Marcô. \nKhi ấy\, Chúa Giêsu từ địa hạt Tyrô\, qua Siđon\, đến gần biển Galilêa giữa miền thập tỉnh. Người ta đem một kẻ câm điếc đến cùng Người và xin Người đặt tay trên kẻ ấy. Người đem anh ta ra khỏi đám đông\, đặt ngón tay vào tai anh và bôi nước miếng vào lưỡi anh ta. Đoạn ngước mặt lên trời\, Người thở dài và bảo: “Effetha!” (nghĩa là “Hãy mở ra!”)\, tức thì tai anh ta mở ra\, và lưỡi anh ta được tháo gỡ\, và anh nói được rõ ràng. Chúa Giêsu liền cấm họ đừng nói điều đó với ai. Nhưng Người càng cấm\, thì họ càng loan truyền mạnh hơn. Họ đầy lòng thán phục mà rằng: “Người làm mọi sự tốt đẹp\, Người làm cho kẻ điếc nghe được và người câm nói được!” Đó là lời Chúa.
URL:https://dongchuacuuthe.us/calendar/chua-nhat-xxiii-thuong-nien-nam-b/
END:VEVENT
BEGIN:VEVENT
DTSTART;VALUE=DATE:20240914
DTEND;VALUE=DATE:20240915
DTSTAMP:20260424T094949
CREATED:20240806T070356Z
LAST-MODIFIED:20240806T070356Z
UID:10337-1726272000-1726358399@dongchuacuuthe.us
SUMMARY:Lễ Kính Suy Tôn Thánh Giá
DESCRIPTION:BÀI ĐỌC I: Ds 21\, 4-9 \n“Kẻ nào bị rắn cắn mà nhìn lên con rắn đồng\, thì được sống”. \nTrích sách Dân số. \nTrong những ngày ấy\, dân chúng đi đường và mệt nhọc\, nên nản chí\, họ kêu trách Chúa và Môsê rằng: “Tại sao các người dẫn chúng tôi ra khỏi Ai-cập\, cho chúng tôi chết trong hoang địa. Không bánh ăn\, không nước uống\, chúng tôi đã ngán thức ăn nhàm chán này”. Bởi đó Chúa cho rắn lửa bò ra cắn chết nhiều người. Họ chạy đến cùng Môsê và thưa rằng: “Chúng tôi đã phạm tội\, vì chúng tôi nói những lời phản nghịch Chúa và phản nghịch ông. Xin ông cầu nguyện để Chúa cho chúng tôi khỏi rắn cắn”.  \nMôsê cầu nguyện cho dân. Và Chúa phán cùng Môsê rằng: “Ngươi hãy đúc một con rắn đồng và treo nó lên làm dấu; kẻ nào bị rắn cắn mà nhìn lên rắn đồng\, thì được sống”. Môsê đúc một con rắn đồng\, treo nó lên làm dấu\, và kẻ nào bị rắn cắn mà nhìn lên rắn đồng\, thì được chữa lành.  \nĐó là lời Chúa. \n\nĐÁP CA: Tv 77\, 1-2. 34-35. 36-37. 38 \nĐáp: Chúng ta đừng quên lãng những kỳ công của Chúa (c. 7c). \nXướng: 1) Hỡi dân tôi\, hãy nghe lời huấn dụ\, hãy lắng tai nhận lấy những lời miệng tôi. Tôi sẽ xuất khẩu nói ra lời ngạn ngữ\, sẽ trình bày những điều bí nhiệm của thời xưa. – Đáp. \n2) Khi Người sát phạt họ\, bấy giờ họ kiếm tìm Người\, và họ trở lại kiếm tìm Thiên Chúa. Họ nhớ lại rằng Thiên Chúa là Đá Tảng của họ\, và Thiên Chúa Tối Cao là Đấng cứu chuộc họ. – Đáp. \n3) Nhưng rồi miệng họ đã phỉnh phờ\, và lưỡi họ ăn nói sai ngoa với Người. Đối với Người\, lòng họ không ngay thẳng; họ cũng không trung thành giữ lời minh ước của Người. – Đáp. \n4) Phần Người từ bi\, tha lỗi và không huỷ diệt họ; nhiều khi Người đã tự kiềm chế căm hờn\, và không để cho thịnh nộ hoàn toàn tuôn đổ. – Đáp. \n\nBÀI ĐỌC II: Pl 2\, 6-11 \n“Người đã tự hạ mình; vì thế Thiên Chúa đã tôn vinh Người”. \nTrích thư Thánh Phaolô Tông đồ gửi tín hữu Philípphê. \nAnh em thân mến\, Chúa Giêsu Kitô\, tuy là [thân phận] Thiên Chúa\, đã không nghĩ phải giành cho được ngang hàng với Thiên Chúa; trái lại\, Người huỷ bỏ chính mình mà nhận lấy thân phận tôi đòi\, đã trở nên giống như loài người\, với cách thức bề ngoài như một người phàm. Người đã tự hạ mình mà vâng lời cho đến chết\, và chết trên thập giá. Vì thế\, Thiên Chúa đã tôn vinh Người\, và ban cho Người một danh hiệu vượt trên mọi danh hiệu\, để khi nghe tên Giêsu\, mọi loài trên trời dưới đất và trong địa ngục phải quỳ gối xuống\, và mọi miệng lưỡi phải tuyên xưng Đức Giêsu Kitô là Chúa\, để Thiên Chúa Cha được vinh quang. Đó là lời Chúa. \nALLELUIA: \nAlleluia\, alleluia! – Lạy Chúa Kitô\, chúng con thờ lạy Chúa; chúng con chúc tụng Chúa\, vì Chúa đã dùng cây Thập giá mà cứu chuộc thế gian. – Alleluia. \n\nPHÚC ÂM: Ga 3\, 13-17 \n“Con Người phải bị treo lên”. \nTin Mừng Chúa Giêsu Kitô theo Thánh Gioan. \nKhi ấy\, Chúa Giêsu phán cùng Nicôđêmô rằng: “Không ai lên trời được\, ngoài người đã từ trời xuống\, tức là Con Người vốn ở trên trời. Cũng như Môsê treo con rắn nơi hoang địa thế nào\, thì Con Người cũng phải bị treo lên như vậy\, để những ai tin vào Người\, thì không bị tiêu diệt muôn đời. \n“Quả thật\, Thiên Chúa đã yêu thế gian đến nỗi đã ban Con Một Người\, để tất cả những ai tin vào Con của Người\, thì không phải hư mất\, nhưng được sống đời đời\, vì Thiên Chúa không sai Con của Người giáng trần để luận phạt thế gian\, nhưng để thế gian nhờ Con của Người mà được cứu độ”.  \nĐó là lời Chúa.
URL:https://dongchuacuuthe.us/calendar/le-kinh-suy-ton-thanh-gia-2/
END:VEVENT
BEGIN:VEVENT
DTSTART;VALUE=DATE:20240915
DTEND;VALUE=DATE:20240916
DTSTAMP:20260424T094949
CREATED:20240806T070239Z
LAST-MODIFIED:20240806T070239Z
UID:10331-1726358400-1726444799@dongchuacuuthe.us
SUMMARY:Chúa Nhật XXIV Thường Niên Năm B
DESCRIPTION:BÀI ĐỌC I: Is 50\, 5-9a \n“Tôi đã đưa lưng cho kẻ đánh tôi”. \nTrích sách Tiên tri Isaia. \nThiên Chúa đã mở tai tôi mà tôi không cưỡng lại và cũng chẳng thối lui. Tôi đã đưa lưng cho kẻ đánh tôi\, đã đưa má cho kẻ giật râu. Tôi đã không che mặt giấu mày\, tránh những lời nhạo cười và những người phỉ nhổ tôi.  \nVì Chúa nâng đỡ tôi\, nên tôi không hổ thẹn: nên tôi trơ mặt chai như đá\, tôi biết tôi sẽ không phải hổ thẹn. Đấng xét tôi vô tội ở gần tôi\, ai còn tranh tụng với tôi được? Chúng ta hầu toà\, ai là kẻ thù địch của tôi\, hãy đến đây! Này đây Chúa là Thiên Chúa bênh đỡ tôi\, ai dám kết tội tôi? Đó là lời Chúa. \nĐÁP CA: Tv 114\, 1-2. 3-4. 5-6. 8-9 \nĐáp: Tôi sẽ tiến đi trước thiên nhan Chúa trong miền đất của nhân sinh (c. 9).  \nXướng: 1) Tôi yêu mến Chúa\, vì Chúa đã nghe tiếng tôi cầu khẩn\, vì Chúa đã lắng tai nghe lời tôi\, trong ngày tôi kêu cầu Chúa. – Đáp. \n2) Thừng chão tử thần đã quấn lấy tôi\, và màng lưới âm phủ đã chụp trên người tôi; tôi đã rơi vào cảnh lo âu khốn khó. Và tôi đã kêu cầu danh Chúa: “Ôi lạy Chúa\, xin cứu vớt mạng sống con!” – Đáp. \n3) Chúa nhân từ và công minh\, và Thiên Chúa của chúng ta rất từ bi. Chúa gìn giữ những người chất phác; tôi đau khổ và Người đã cứu thoát tôi. – Đáp. \n4) Bởi người đã cứu tôi khỏi tử thần\, cho mắt tôi khỏi rơi lệ và chân tôi không quỵ ngã. Tôi sẽ tiến đi trước thiên nhan Chúa trong miền đất của nhân sinh. – Đáp. \nBÀI ĐỌC II: Gc 2\, 14-18 \n“Đức tin không có việc làm là đức tin chết”. \nTrích thư của Thánh Giacôbê Tông đồ. \nAnh em thân mến\, nếu ai nói mình có đức tin\, mà không hành động theo đức tin\, thì nào có ích gì? Đức tin như thế có thể cứu được nó ư? Nếu có anh chị em nào không cơm ăn áo mặc\, mà có kẻ trong anh em lại bảo họ rằng: “Chúc anh chị em đi bình an\, và ăn no mặc ấm”\, mà anh em lại không cho họ những gì cần dùng cho thân xác\, thì nào có ích gì?  \nVề đức tin cũng vậy\, nếu không có việc làm\, là đức tin chết tận gốc rễ. Nhưng có người sẽ nói: “Anh\, anh có đức tin; còn tôi\, tôi có việc làm”. Anh hãy tỏ cho tôi thấy đức tin không việc làm của anh\, và tôi sẽ lấy việc làm mà chỉ cho anh thấy đức tin của tôi. Đó là lời Chúa. \nALLELUIA: Ga 14\, 5 \nAlleluia\, alleluia! – Chúa phán: “Thầy là đường\, là sự thật và là sự sống; không ai đến được với Cha mà không qua Thầy”. – Alleluia. \nPHÚC ÂM: Mc 8\, 27-35 \n“Thầy là Đấng Kitô. Con Người sẽ phải chịu khổ nhiều”. \nTin Mừng Chúa Giêsu Kitô theo Thánh Marcô. \nKhi ấy\, Chúa Giêsu cùng các môn đệ đi về phía những làng nhỏ miền Cêsarê thuộc quyền Philipphê. Dọc đường\, Người hỏi các ông rằng: “Người ta bảo Thầy là ai?” Các ông đáp lại rằng: “Thưa là Gioan tẩy giả. Một số bảo là Êlia\, một số khác lại cho là một trong các vị tiên tri”. Bấy giờ Người hỏi: “Còn các con\, các con bảo Thầy là ai?” Phêrô lên tiếng đáp: “Thầy là Đấng Kitô”. Người liền nghiêm cấm các ông không được nói về Người với ai cả.  \nVà Người bắt đầu dạy các ông biết Con Người sẽ phải chịu đau khổ nhiều\, sẽ bị các kỳ lão\, các trưởng tế\, các luật sĩ chối bỏ và giết đi\, rồi sau ba ngày sẽ sống lại. Người công khai tuyên bố các điều đó. Bấy giờ Phêrô kéo Người lui ra mà can trách Người. Nhưng Người quay lại nhìn các môn đệ và quở trách Phêrô rằng: “Satan\, hãy lui đi! vì ngươi không biết việc Thiên Chúa\, mà chỉ biết việc loài người”.  \nNgười tập họp dân chúng cùng các môn đệ lại\, và phán: “Ai muốn theo Ta\, hãy từ bỏ mình\, vác thập giá mình mà theo Ta. Quả thật\, ai muốn cứu mạng sống mình\, thì sẽ mất. Còn ai chịu mất mạng sống mình vì Ta và vì Tin Mừng\, thì sẽ cứu được mạng sống mình”. Đó là lời Chúa.
URL:https://dongchuacuuthe.us/calendar/chua-nhat-xxiv-thuong-nien-nam-b/
END:VEVENT
BEGIN:VEVENT
DTSTART;VALUE=DATE:20240922
DTEND;VALUE=DATE:20240923
DTSTAMP:20260424T094949
CREATED:20240806T070303Z
LAST-MODIFIED:20240806T070303Z
UID:10333-1726963200-1727049599@dongchuacuuthe.us
SUMMARY:Chúa Nhật XXV Thường Niên Năm B
DESCRIPTION:BÀI ĐỌC I: Kn 2\, 12. 17-20 \n“Chúng ta hãy kết án cho nó chết cách nhục nhã”. \nTrích sách Khôn Ngoan \n(Những kẻ gian ác nói rằng:) “Chúng ta hãy vây bắt kẻ công chính\, vì nó không làm ích gì cho chúng ta\, mà còn chống đối việc chúng ta làm\, khiển trách chúng ta lỗi luật và tố cáo chúng ta vô kỷ luật. Vậy chúng ta hãy xem điều nó nói có thật hay không\, hãy nghiệm xét coi những gì sẽ xảy đến cho nó\, và hãy chờ xem chung cuộc đời nó sẽ ra sao. Vì nếu nó thật là con Thiên Chúa\, Chúa sẽ bênh vực nó\, sẽ giải thoát nó khỏi tay những kẻ chống đối nó. Chúng ta hãy nhục mạ và làm khổ nó\, để thử xem nó có hiền lành và nhẫn nại không. Chúng ta hãy kết án cho nó chết cách nhục nhã\, vì theo lời nó nói\, thì người ta sẽ cứu nó!” Đó là lời Chúa. \nĐÁP CA: Tv 53\, 3-4. 5. 6 và 8 \nĐáp: Chúa đang nâng đỡ tâm hồn con (c. 6b). \nXướng: 1) Ôi Thiên Chúa\, xin cứu sống con nhân danh Ngài\, và xin sử dụng uy quyền phán quyết cho con! Ôi Thiên Chúa\, xin nghe tiếng con cầu\, xin lắng tai nghe lời miệng con xin. – Đáp.  \n2) Vì những kẻ kiêu căng nổi lên chống đối\, và bọn người hung hãn tìm sát hại con\, bọn chúng không nhớ Thiên Chúa ở trước mặt mình. – Đáp.  \n3) Kìa\, Thiên Chúa phù trợ con\, Chúa đang nâng đỡ tâm hồn con. Con sẽ tự nguyện hiến dâng lễ vật lên Chúa. Lạy Chúa\, con sẽ ca tụng danh Ngài\, vì danh Ngài thiện hảo. – Đáp.  \nBÀI ĐỌC II: Gc 3\, 16 – 4\, 3 \n“Hoa quả của công chính được gieo vãi trong bình an cho những người xây đắp an bình”. \nTrích thư của Thánh Giacôbê Tông đồ. \nAnh em thân mến\, ở đâu có ganh tị và cãi vã\, ở đó có hỗn độn và đủ thứ tệ đoan. Nhưng sự khôn ngoan từ trời xuống\, thì trước tiên là trong trắng\, rồi ôn hoà\, bao dung\, nhu mì\, hướng thiện\, đầy lòng nhân từ và hoa quả tốt lành\, không xét đoán thiên vị\, không giả dối. Hoa quả của công chính được gieo vãi trong bình an cho những người xây đắp an bình.  \nBởi đâu anh em cạnh tranh và cãi cọ nhau? Nào không phải tại điều này: tức tại các đam mê đang giao chiến trong chi thể anh em đó sao? Anh em ham muốn mà không được hưởng\, nên anh em giết nhau. Anh em ganh tị mà không được mãn nguyện\, nên anh em cạnh tranh và cãi cọ. Anh em không có là tại anh em không xin. Anh em xin mà không nhận được\, là vì anh em xin không đúng\, cứ mơ tưởng thoả mãn các đam mê của anh em. Đó là lời Chúa. \nALLELUIA: Ga 8\, 12 \nAlleluia\, alleluia! – Chúa phán: “Ta là sự sáng thế gian\, ai theo Ta\, sẽ được ánh sáng ban sự sống”. – Alleluia. \nPHÚC ÂM: Mc 9\, 29-36 (Hl 30-37) \n“Con Người sẽ bị nộp. Ai muốn làm lớn nhất\, thì hãy tự làm người rốt hết”. \nTin Mừng Chúa Giêsu Kitô theo Thánh Marcô. \nKhi ấy\, Chúa Giêsu và các môn đệ từ trên núi xuống\, rồi đi ngang qua xứ Galilêa và Người không muốn cho ai biết. Vì Người dạy dỗ và bảo các ông rằng: “Con Người sẽ bị nộp vào tay người ta và họ sẽ giết Người. Khi đã bị giết\, ngày thứ ba\, Người sẽ sống lại”. Nhưng các ông không hiểu lời đó và sợ không dám hỏi Người.  \nCác ngài tới Capharnaum. Khi đã vào nhà\, Người hỏi các ông: “Dọc đàng các con tranh luận gì thế?” Các ông làm thinh\, vì dọc đàng các ông tranh luận xem ai là người lớn nhất. Bấy giờ Người ngồi xuống\, gọi mười hai ông lại và bảo các ông rằng: “Ai muốn làm lớn nhất\, thì hãy tự làm người rốt hết và làm đầy tớ mọi người”. Rồi Người đem một em bé lại đặt giữa các ông\, ôm nó mà nói với các ông rằng: “Ai đón nhận một trong những trẻ nhỏ như thế này vì danh Thầy\, tức là đón tiếp chính mình Thầy. Và ai đón tiếp Thầy\, thực ra không phải đón tiếp Thầy\, nhưng là đón tiếp Đấng đã sai Thầy”. Đó là lời Chúa.
URL:https://dongchuacuuthe.us/calendar/chua-nhat-xxv-thuong-nien-nam-b/
END:VEVENT
BEGIN:VEVENT
DTSTART;VALUE=DATE:20240929
DTEND;VALUE=DATE:20240930
DTSTAMP:20260424T094949
CREATED:20240806T070327Z
LAST-MODIFIED:20240806T070327Z
UID:10335-1727568000-1727654399@dongchuacuuthe.us
SUMMARY:Chúa Nhật XXVI Thường Niên Năm B
DESCRIPTION:BÀI ĐỌC I: Ds 11\, 25-29 \n“Ngươi phân bì giùm ta làm chi? Ước gì toàn dân được nói tiên tri”. \nTrích sách Dân Số. \nTrong những ngày ấy\, Chúa ngự xuống trong đám mây\, và phán cùng Môsê\, đồng thời lấy thần trí trong Môsê mà phân phát cho bảy mươi vị bô lão. Khi Thần Trí ngự trên các ông\, các ông liền nói tiên tri\, và về sau các ông không mất ơn ấy.  \nVậy có hai vị ở lại trong lều trại\, một người tên là El-đad\, và người kia tên là Mê-đad. Thần Trí đã ngự trên hai ông: vì hai ông được ghi tên vào sổ\, nhưng không đến ở trong nhà xếp. Khi hai ông nói tiên tri trong lều trại\, thì có đứa trẻ chạy đến báo tin cho ông Môsê rằng: “El-đad và Mê-đad đang nói tiên tri trong lều trại”. Tức thì Giosuê\, con ông Nun\, tuỳ tùng của ông Môsê\, và là kẻ được chọn trong số đông người\, liền thưa rằng: “Hỡi ông Môsê\, xin hãy cấm chỉ các ông ấy đi”. Ông Môsê đáp lại rằng: “Ngươi phân bì giùm ta làm chi? Chớ gì toàn dân được nói tiên tri và Chúa ban Thần Trí Người cho họ”. Đó là lời Chúa. \nĐÁP CA: Tv 18\, 8. 10. 12-13. 14 \nĐáp: Giới răn Chúa chính trực\, làm hoan lạc tâm can (c. 9a). \nXướng: 1) Luật pháp Chúa toàn thiện\, bồi bổ tâm linh; chỉ thị Chúa cố định\, phá ngu kẻ dốt. – Đáp. \n2) Lòng tôn sợ Chúa thuần khiết\, còn mãi muôn đời; phán quyết của Chúa chân thật\, công minh hết thảy. – Đáp. \n3) Dù tôi tớ Chúa quan tâm về những điều luật đó\, lại hết sức ân cần tuân giữ\, nhưng có nhiều chuyện lầm lỗi\, nào ai hay? Xin rửa con sạch những lỗi lầm không nhận thấy. – Đáp. \n4) Cũng xin ngăn ngừa tôi tớ Chúa khỏi tính kiêu căng\, đừng để tính đó làm chủ trong mình con. Lúc đó con sẽ được tinh toàn và thanh khiết\, khỏi điều tội lỗi lớn lao. – Đáp. \nBÀI ĐỌC II: Gc 5\, 1-6 \n“Của cải các ngươi bị mục nát”. \nTrích thư của Thánh Giacôbê Tông đồ. \nNày đây\, hỡi những người giàu có\, các ngươi hãy than khóc kêu la\, vì các tai hoạ sắp giáng xuống trên các ngươi. Của cải các ngươi bị mục nát\, áo quần các ngươi đã bị mối mọt gặm. Vàng bạc của các ngươi đã bị ten sét\, và ten sét sẽ là bằng chứng tố cáo các ngươi\, và sẽ ăn thịt các ngươi như lửa đốt. Các ngươi đã tích trữ cho các ngươi cơn thịnh nộ trong ngày sau hết. Này tiền công thợ gặt ruộng cho các ngươi mà các ngươi đã gian lận\, tiền đó đang kêu gào và tiếng kêu gào của người thợ gặt đã lọt thấu đến tai Chúa các đạo binh. Các ngươi đã ăn uống say sưa ở đời này\, lòng các ngươi đã tận hưởng khoái lạc trong ngày sát hại. Các ngươi đã lên án và giết chết người công chính\, vì họ đã không kháng cự lại các ngươi. Đó là lời Chúa. \nALLELUIA: Ga 15\, 15b \nAlleluia\, alleluia! – Chúa phán: ” Thầy gọi các con là bạn hữu\, vì tất cả những gì Thầy đã nghe biết nơi Cha Thầy\, thì Thầy đã cho các con biết”. – Alleluia. \nPHÚC ÂM: Mc 9\, 37-42. 44. 46-47 \n“Ai chẳng chống đối các con\, là ủng hộ các con. Nếu tay con nên dịp tội cho con\, hãy chặt tay đó đi”. \nTin Mừng Chúa Giêsu Kitô theo Thánh Marcô. \nKhi ấy\, Gioan thưa cùng Chúa Giêsu rằng: “Lạy Thầy\, chúng con thấy có kẻ nhân danh Thầy mà trừ quỷ\, kẻ đó không theo chúng ta\, và chúng con đã ngăn cấm y”. Nhưng Chúa Giêsu phán: “Đừng ngăn cấm y\, vì chẳng ai có thể nhân danh Thầy mà làm phép lạ\, rồi liền đó lại nói xấu Thầy. Ai chẳng chống đối các con\, là ủng hộ các con. Ai nhân danh Thầy mà cho các con một ly nước vì lẽ các con thuộc về Đấng Kitô\, Thầy bảo thật các con: kẻ đó sẽ không mất phần thưởng đâu. Nhưng nếu kẻ nào làm cớ vấp phạm cho một trong những kẻ bé mọn có lòng tin Thầy\, thà buộc thớt cối xay vào cổ người ấy mà xô xuống biển thì hơn.  \n“Nếu tay con nên dịp tội cho con\, hãy chặt tay đó đi: thà con mất một tay mà được vào cõi sống\, còn hơn là có đủ hai tay mà phải vào hoả ngục\, trong lửa không hề tắt. Và nếu chân con làm dịp tội cho con\, hãy chặt chân đó đi: thà con mất một chân mà được vào cõi sống\, còn hơn là có đủ hai chân mà phải ném xuống hoả ngục. Và nếu mắt con làm dịp tội cho con\, hãy móc mắt đó đi\, thà con còn một mắt mà vào nước Thiên Chúa\, còn hơn là có đủ hai mắt mà phải ném xuống hoả ngục\, nơi mà dòi bọ rúc rỉa nó không hề chết và lửa không hề tắt”. Đó là lời Chúa.
URL:https://dongchuacuuthe.us/calendar/chua-nhat-xxvi-thuong-nien-nam-b/
END:VEVENT
END:VCALENDAR