BEGIN:VCALENDAR
VERSION:2.0
PRODID:-//Dòng Chúa Cứu Thế Hải Ngoại - ECPv6.15.20//NONSGML v1.0//EN
CALSCALE:GREGORIAN
METHOD:PUBLISH
X-WR-CALNAME:Dòng Chúa Cứu Thế Hải Ngoại
X-ORIGINAL-URL:https://dongchuacuuthe.us
X-WR-CALDESC:Events for Dòng Chúa Cứu Thế Hải Ngoại
REFRESH-INTERVAL;VALUE=DURATION:PT1H
X-Robots-Tag:noindex
X-PUBLISHED-TTL:PT1H
BEGIN:VTIMEZONE
TZID:America/Los_Angeles
BEGIN:DAYLIGHT
TZOFFSETFROM:-0800
TZOFFSETTO:-0700
TZNAME:PDT
DTSTART:20250309T100000
END:DAYLIGHT
BEGIN:STANDARD
TZOFFSETFROM:-0700
TZOFFSETTO:-0800
TZNAME:PST
DTSTART:20251102T090000
END:STANDARD
BEGIN:DAYLIGHT
TZOFFSETFROM:-0800
TZOFFSETTO:-0700
TZNAME:PDT
DTSTART:20260308T100000
END:DAYLIGHT
BEGIN:STANDARD
TZOFFSETFROM:-0700
TZOFFSETTO:-0800
TZNAME:PST
DTSTART:20261101T090000
END:STANDARD
BEGIN:DAYLIGHT
TZOFFSETFROM:-0800
TZOFFSETTO:-0700
TZNAME:PDT
DTSTART:20270314T100000
END:DAYLIGHT
BEGIN:STANDARD
TZOFFSETFROM:-0700
TZOFFSETTO:-0800
TZNAME:PST
DTSTART:20271107T090000
END:STANDARD
END:VTIMEZONE
BEGIN:VEVENT
DTSTART;VALUE=DATE:20260531
DTEND;VALUE=DATE:20260601
DTSTAMP:20260423T123321
CREATED:20260312T055644Z
LAST-MODIFIED:20260312T055644Z
UID:13943-1780185600-1780271999@dongchuacuuthe.us
SUMMARY:CN Lễ Chúa Ba Ngôi
DESCRIPTION:BÀI ĐỌC I: Xh 34\, 4b-6. 8-9 \n“Thiên Chúa là Đấng thống trị\, từ bi và nhân hậu”. \nTrích sách Xuất Hành. \nNgày ấy\, từ sáng sớm\, Môsê chỗi dậy và lên núi Sinai\, như Chúa đã truyền dạy cho ông\, ông mang theo hai bia đá. Khi Thiên Chúa ngự trên đám mây\, Môsê đứng trước mặt Chúa và kêu cầu danh Chúa.  \nChúa đi qua trước mặt ông và hô: “Đức Chúa! Đức Chúa! Thiên Chúa thương xót và từ nhân\, bao dung\, đầy nhân nghĩa và tín thành”. Môsê vội vã sấp mình xuống đất thờ lạy và thưa rằng: “Lạy Chúa\, nếu con có ơn nghĩa trước nhan thánh Chúa\, thì xin Chúa hãy đi cùng với chúng con\, (vì dân này là dân cứng đầu)\, xin xoá mọi gian ác và tội lỗi chúng con\, xin nhận chúng con làm cơ nghiệp của Chúa”. Đó là lời Chúa. \nĐÁP CA: Đn 3\, 52. 53. 54. 55. 56 \nĐáp: Chúa đáng ca ngợi và tôn vinh muôn đời (c. 52b). \nXướng: 1) Lạy Chúa là Thiên Chúa cha ông chúng con\, Chúa đáng chúc tụng\, đáng ca ngợi\, tôn vinh và tán tụng muôn đời. Chúc tụng thánh danh vinh quang Chúa\, đáng ca ngợi\, tôn vinh và tán tụng muôn đời. – Đáp.  \n2) Chúa đáng chúc tụng trong đền thánh vinh quang Chúa\, đáng ca ngợi và tôn vinh muôn đời. – Đáp.  \n3) Chúc tụng Chúa ngự trên ngai vương quyền Chúa\, đáng ca ngợi và tôn vinh muôn đời. – Đáp.  \n4) Chúc tụng Chúa\, Đấng nhìn thấu vực thẳm và ngự trên các Thần Vệ Binh\, đáng ca ngợi và tôn vinh muôn đời. – Đáp.  \n5) Chúc tụng Chúa ngự trên bầu trời\, đáng ca ngợi và tôn vinh muôn đời. – Đáp.  \nBÀI ĐỌC II: 2 Cr 13\, 11-13 \n“Ân sủng của Đức Giêsu Kitô\, tình yêu của Chúa Cha\, và ơn thông hiệp của Chúa Thánh Thần”. \nTrích thư thứ hai của Thánh Phaolô Tông đồ gửi tín hữu Cô-rintô. \nAnh em thân mến\, anh em hãy vui lên\, hãy nên trọn lành\, hãy khuyến khích nhau\, hãy đồng tâm nhất trí\, và hoà thuận với nhau\, thì Thiên Chúa\, nguồn sự bình an và tình yêu\, sẽ ở với anh em. Anh em hãy chào nhau bằng cái hôn thánh thiện. Tất cả các thánh ở đây gởi lời chào anh em. Nguyện xin ân sủng Đức Giêsu Kitô\, Chúa chúng ta\, và tình yêu của Chúa Cha\, và ơn thông hiệp của Chúa Thánh Thần ở cùng tất cả anh em. Amen. Đó là lời Chúa. \nALLELUIA: Kh 1\, 8 \nAlleluia\, alleluia! – Sáng danh Đức Chúa Cha\, và Đức Chúa Con\, và Đức Chúa Thánh Thần; sáng danh Thiên Chúa Đấng đang có\, đã có và sẽ đến. – Alleluia. \nPHÚC ÂM: Ga 3\, 16-18 \n“Thiên Chúa đã sai Chúa Con đến để thế gian nhờ Người mà được cứu độ”. \nTin Mừng Chúa Giêsu Kitô theo Thánh Gioan. \nKhi ấy\, Chúa Giêsu nói với Nicôđêmô rằng: “Thiên Chúa đã yêu thế gian đến nỗi đã ban Con Một Người để tất cả những ai tin ở Con của Người\, thì không phải hư mất\, nhưng được sống đời đời\, vì Thiên Chúa không sai Con của Người giáng trần để luận phạt thế gian\, nhưng để thế gian nhờ Con của Người mà được cứu độ. Ai tin Người Con ấy\, thì không bị luận phạt. Ai không tin thì đã bị luận phạt rồi\, vì không tin vào danh Con Một Thiên Chúa”. Đó là lời Chúa.
URL:https://dongchuacuuthe.us/calendar/cn-le-chua-ba-ngoi/
END:VEVENT
END:VCALENDAR