BEGIN:VCALENDAR
VERSION:2.0
PRODID:-//Dòng Chúa Cứu Thế Hải Ngoại - ECPv6.15.20//NONSGML v1.0//EN
CALSCALE:GREGORIAN
METHOD:PUBLISH
X-ORIGINAL-URL:https://dongchuacuuthe.us
X-WR-CALDESC:Events for Dòng Chúa Cứu Thế Hải Ngoại
REFRESH-INTERVAL;VALUE=DURATION:PT1H
X-Robots-Tag:noindex
X-PUBLISHED-TTL:PT1H
BEGIN:VTIMEZONE
TZID:America/Los_Angeles
BEGIN:DAYLIGHT
TZOFFSETFROM:-0800
TZOFFSETTO:-0700
TZNAME:PDT
DTSTART:20250309T100000
END:DAYLIGHT
BEGIN:STANDARD
TZOFFSETFROM:-0700
TZOFFSETTO:-0800
TZNAME:PST
DTSTART:20251102T090000
END:STANDARD
BEGIN:DAYLIGHT
TZOFFSETFROM:-0800
TZOFFSETTO:-0700
TZNAME:PDT
DTSTART:20260308T100000
END:DAYLIGHT
BEGIN:STANDARD
TZOFFSETFROM:-0700
TZOFFSETTO:-0800
TZNAME:PST
DTSTART:20261101T090000
END:STANDARD
BEGIN:DAYLIGHT
TZOFFSETFROM:-0800
TZOFFSETTO:-0700
TZNAME:PDT
DTSTART:20270314T100000
END:DAYLIGHT
BEGIN:STANDARD
TZOFFSETFROM:-0700
TZOFFSETTO:-0800
TZNAME:PST
DTSTART:20271107T090000
END:STANDARD
END:VTIMEZONE
BEGIN:VEVENT
DTSTART;VALUE=DATE:20260503
DTEND;VALUE=DATE:20260504
DTSTAMP:20260423T094143
CREATED:20260312T055721Z
LAST-MODIFIED:20260312T055721Z
UID:13945-1777766400-1777852799@dongchuacuuthe.us
SUMMARY:CN V Phục Sinh
DESCRIPTION:BÀI ĐỌC I: Cv 6\, 1-7 \n“Họ chọn bảy người đầy Thánh Thần”. \nTrích sách Tông đồ Công vụ. \nTrong những ngày ấy\, số môn đồ gia tăng\, nên xảy ra việc các người Hy-lạp kêu trách các người Do-thái\, vì trong việc phục vụ hằng ngày\, người ta khinh miệt các bà goá trong nhóm họ. Nên Mười hai Vị triệu tập toàn thể môn đồ đến và bảo: “Chúng tôi bỏ việc rao giảng lời Chúa mà lo đi giúp bàn\, thì không phải lẽ. Vậy thưa anh em\, anh em hãy chọn lấy bảy người trong anh em có tiếng tốt\, đầy Thánh Thần và khôn ngoan\, để chúng tôi đặt họ làm việc đó. Còn chúng tôi\, thì sẽ chuyên lo cầu nguyện và phục vụ lời Chúa”.  \nCả đoàn thể đều tán thành lời các ngài\, và chọn Têphanô\, một người đầy đức tin và Thánh Thần\, và chọn Philipphê\, Prôcô\, Nicanô\, Timon\, Parmêna\, và Nicôla quê ở Antiôkia. Họ đưa mấy vị đó đến trước mặt các Tông đồ. Các ngài cầu nguyện và đặt tay trên các vị đó.  \nLời Chúa lan tràn\, và số môn đồ ở Giêrusalem gia tăng rất nhiều. Cũng có đám đông tư tế vâng phục đức tin. Đó là lời Chúa. \nĐÁP CA: Tv 32\, 1-2. 4-5. 18-19 \nĐáp: Lạy Chúa\, xin tỏ lòng từ bi Chúa cho chúng con\, như chúng con đã trông cậy Chúa (c. 22). \nHoặc đọc: Alleluia. \nXướng: 1) Người hiền đức\, hãy hân hoan trong Chúa! Ca ngợi là việc của những kẻ lòng ngay. Hãy ngợi khen Chúa với cây đàn cầm\, với đàn mười dây\, hãy xướng ca mừng Chúa. – Đáp. \n2) Vì lời Chúa là lời chân chính\, bao việc Chúa làm đều đáng cậy tin. Chúa yêu chuộng điều công minh chính trực\, địa cầu đầy ân sủng Chúa. – Đáp. \n3) Kìa Chúa để mắt coi những kẻ kính sợ Người\, nhìn xem những ai cậy trông ân sủng của Người\, để cứu gỡ họ khỏi tay thần chết\, và nuôi dưỡng họ trong cảnh cơ hàn. – Đáp. \nBÀI ĐỌC II: 1 Pr 2\, 4-9 \n“Anh em là dòng giống được tuyển chọn\, là hàng tư tế vương giả”. \nTrích thư thứ nhất của Thánh Phêrô Tông đồ. \nAnh em thân mến\, khi đến cùng Chúa là tảng đá sống động\, bị người ta loại bỏ\, nhưng đã được Thiên Chúa tuyển chọn và tôn vinh\, chính anh em như những tảng đá sống động\, xây dựng toà nhà thiêng liêng\, chức vụ tư tế thánh thiện\, để hiến dâng của lễ thiêng liêng đáng Thiên Chúa chấp nhận nhờ Đức Giêsu Kitô. Vì thế\, có lời Thánh Kinh rằng: “Đây Ta đặt tại Sion tảng đá góc tường\, được tuyển chọn và quý giá\, ai tin Người\, sẽ không phải hổ thẹn”. Vậy\, vinh dự cho anh em là những kẻ tin; nhưng đối với những kẻ không tin\, thì tảng đá mà thợ xây loại bỏ\, đã trở thành đá góc tường\, đá vấp ngã và đá chướng ngại cho những kẻ chống lại và không tin lời Chúa\, và số phận của họ là thế. Còn anh em là dòng giống được tuyển chọn\, là hàng tư tế vương giả\, là dân tộc thánh thiện\, dân riêng của Chúa\, để rao giảng quyền năng của Đấng đã gọi anh em ra khỏi tối tăm mà vào ánh sáng kỳ diệu của Người. Đó là lời Chúa. \nALLELUIA: Ga 14\, 6 \nAlleluia\, alleluia! – Chúa phán: “Thầy là đường\, là sự thật và là sự sống; không ai đến được với Cha mà không qua Thầy”. – Alleluia. \nPHÚC ÂM: Ga 14\, 1-12 \n“Thầy là đường\, là sự thật và là sự sống”. \nTin Mừng Chúa Giêsu Kitô theo Thánh Gioan. \nKhi ấy\, Chúa Giêsu phán cùng các môn đệ rằng: “Lòng các con đừng xao xuyến. Hãy tin vào Thiên Chúa và tin vào Thầy. Trong nhà Cha Thầy có nhiều chỗ ở\, nếu không\, Thầy đã nói với các con rồi; Thầy đi để dọn chỗ cho các con. Và khi Thầy đã ra đi và dọn chỗ cho các con rồi\, Thầy sẽ trở lại đem các con đi với Thầy\, để Thầy ở đâu thì các con cũng ở đó. Thầy đi đâu\, các con đã biết đường rồi”. Ông Tôma thưa Người rằng: “Lạy Thầy\, chúng con không biết Thầy đi đâu\, làm sao chúng con biết đường đi?” Chúa Giêsu đáp: “Thầy là đường\, là sự thật và là sự sống. Không ai đến được với Cha mà không qua Thầy. Nếu các con biết Thầy\, thì cũng biết Cha Thầy. Ngay từ bây giờ các con biết và đã xem thấy Người”. Philipphê thưa: “Lạy Thầy\, xin tỏ cho chúng con xem thấy Cha\, và như thế là đủ cho chúng con”. Chúa Giêsu nói cùng ông rằng: “<Thầy ở với các con bấy lâu rồi\, thế mà con chưa biết Thầy ư\, Philipphê?> Ai thấy Thầy là xem thấy Cha\, sao con lại nói ‘Xin tỏ cho chúng con xem thấy Cha’? Con không tin rằng Thầy ở trong Cha và Cha ở trong Thầy ư? Những điều Thầy nói với các con\, không phải tự mình mà nói\, nhưng chính Cha ở trong Thầy\, Ngài làm mọi việc. Các con hãy tin rằng Thầy ở trong Cha\, và Cha ở trong Thầy. Ít ra các con hãy tin vì các việc Thầy đã làm. Thật\, Thầy bảo thật các con: Ai tin vào Thầy\, người ấy sẽ làm những việc Thầy đã làm. Người ấy còn làm được những việc lớn lao hơn\, vì Thầy về với Cha”. Đó là lời Chúa.
URL:https://dongchuacuuthe.us/calendar/cn-v-phuc-sinh/
END:VEVENT
END:VCALENDAR