BEGIN:VCALENDAR
VERSION:2.0
PRODID:-//Dòng Chúa Cứu Thế Hải Ngoại - ECPv6.15.20//NONSGML v1.0//EN
CALSCALE:GREGORIAN
METHOD:PUBLISH
X-ORIGINAL-URL:https://dongchuacuuthe.us
X-WR-CALDESC:Events for Dòng Chúa Cứu Thế Hải Ngoại
REFRESH-INTERVAL;VALUE=DURATION:PT1H
X-Robots-Tag:noindex
X-PUBLISHED-TTL:PT1H
BEGIN:VTIMEZONE
TZID:America/Los_Angeles
BEGIN:DAYLIGHT
TZOFFSETFROM:-0800
TZOFFSETTO:-0700
TZNAME:PDT
DTSTART:20250309T100000
END:DAYLIGHT
BEGIN:STANDARD
TZOFFSETFROM:-0700
TZOFFSETTO:-0800
TZNAME:PST
DTSTART:20251102T090000
END:STANDARD
BEGIN:DAYLIGHT
TZOFFSETFROM:-0800
TZOFFSETTO:-0700
TZNAME:PDT
DTSTART:20260308T100000
END:DAYLIGHT
BEGIN:STANDARD
TZOFFSETFROM:-0700
TZOFFSETTO:-0800
TZNAME:PST
DTSTART:20261101T090000
END:STANDARD
BEGIN:DAYLIGHT
TZOFFSETFROM:-0800
TZOFFSETTO:-0700
TZNAME:PDT
DTSTART:20270314T100000
END:DAYLIGHT
BEGIN:STANDARD
TZOFFSETFROM:-0700
TZOFFSETTO:-0800
TZNAME:PST
DTSTART:20271107T090000
END:STANDARD
END:VTIMEZONE
BEGIN:VEVENT
DTSTART;VALUE=DATE:20260421
DTEND;VALUE=DATE:20260422
DTSTAMP:20260423T082250
CREATED:20260327T071124Z
LAST-MODIFIED:20260327T071124Z
UID:14063-1776729600-1776815999@dongchuacuuthe.us
SUMMARY:Thứ Ba Tuần III Phục Sinh
DESCRIPTION:BÀI ĐỌC I: Cv 7\, 51-59 (Hl 7\, 51 – 8\, 1)\n“Lạy Chúa Giêsu\, xin đón nhận tâm hồn con”. \nTrích sách Tông đồ Công vụ. \nKhi ấy\, Têphanô nói với dân chúng\, các kỳ lão và luật sĩ rằng: “Hỡi những tên cứng cổ\, lòng và tai chẳng cắt bì kia\, các ngươi luôn luôn chống đối Thánh Thần; cha ông các ngươi làm sao\, các ngươi cũng vậy. Có tiên tri nào mà cha ông các ngươi lại không bắt bớ? Họ đã giết những người tiên báo về việc Đấng Công chính sẽ đến\, Đấng mà ngày nay các ngươi đã nộp và giết chết; các ngươi đã lãnh nhận lề luật do thiên thần truyền cho\, nhưng đã không tuân giữ”. \nNghe ông nói\, họ phát điên lên trong lòng\, và họ nghiến răng phản đối ông. Nhưng Têphanô đầy Thánh Thần\, nhìn lên trời\, đã xem thấy vinh quang của Thiên Chúa\, và Đức Giêsu đứng bên hữu Thiên Chúa. Ông đã nói rằng: “Kìa\, tôi xem thấy trời mở ra\, và Con Người đứng bên hữu Thiên Chúa”. Bấy giờ họ lớn tiếng kêu la và bịt tai lại\, và họ nhất tề xông vào ông. Khi lôi ông ra ngoài thành\, họ ném đá ông. Và các nhân chứng đã để áo của họ dưới chân một người thanh niên tên là Saolô. Rồi họ ném đá Têphanô\, đang lúc ông cầu nguyện rằng: “Lạy Chúa Giêsu\, xin đón nhận tâm hồn con”. Thế rồi ông quỳ xuống\, lớn tiếng kêu lên rằng: “Lạy Chúa\, xin đừng trách cứ họ về tội lỗi này”. Nói xong câu đó\, ông đã an giấc trong Chúa. Còn Saolô thì đã tán thành việc giết ông (Têphanô). Đó là lời Chúa. \nĐÁP CA: Tv 30\, 3cd-4. 6ab và 7b và 8a. 17 và 21ab\nĐáp: Lạy Chúa\, con phó thác tâm hồn trong tay Chúa (c. 6a). \nHoặc đọc: Alleluia. \nXướng: 1) Xin Chúa trở thành núi đá cho con trú ẩn\, thành chiến luỹ kiên cố để cứu độ con\, bởi Chúa là Tảng đá\, là chiến luỹ của con; vì uy danh Ngài\, Ngài sẽ dìu dắt và hướng dẫn con. – Đáp. \n2) Con phó thác tâm hồn trong tay Chúa\, lạy Chúa\, lạy Thiên Chúa trung thành\, xin cứu chữa con. Còn phần con\, con tin cậy ở Chúa\, con sẽ hân hoan mừng rỡ vì đức từ bi của Chúa. – Đáp. \n3) Xin cho tôi tớ Chúa được thấy long nhan dịu hiền\, xin cứu sống con theo lượng từ bi của Chúa. Chúa che chở họ dưới bóng long nhan Ngài\, cho khỏi người ta âm mưu làm hại. – Đáp. \nALLELUIA: Ga 16\, 7 và 13\nAlleluia\, alleluia! – Chúa phán: “Thầy sẽ sai Thần Chân Lý đến cùng các con; Người sẽ dạy các con biết tất cả sự thật”. – Alleluia. \nPHÚC ÂM: Ga 6\, 30-35\n“Không phải Môsê\, mà chính Cha Ta mới ban bánh bởi trời đích thực”. \nTin Mừng Chúa Giêsu Kitô theo Thánh Gioan. \nKhi ấy\, đám đông thưa Chúa Giêsu: “Ngài sẽ làm dấu lạ gì để chúng tôi thấy mà tin Ngài? Ngài làm được việc gì? Cha ông chúng tôi đã ăn manna trong sa mạc\, như đã chép rằng: “Người đã ban cho họ ăn bánh bởi trời”. Chúa Giêsu đáp: “Thật Ta bảo thật các ngươi\, không phải Môsê đã ban cho các ngươi bánh bởi trời\, mà chính Cha Ta mới ban cho các ngươi bánh bởi trời đích thực. Vì bánh của Thiên Chúa phải là vật tự trời xuống\, và ban sự sống cho thế gian”. Họ liền thưa với Ngài rằng: “Thưa Ngài\, xin cho chúng tôi bánh đó luôn mãi”. Chúa Giêsu nói: “Chính Ta là bánh ban sự sống. Ai đến với Ta sẽ không hề đói; ai tin vào Ta sẽ không hề khát bao giờ”. Đó là lời Chúa.
URL:https://dongchuacuuthe.us/calendar/thu-ba-tuan-iii-phuc-sinh-3/
END:VEVENT
END:VCALENDAR