BEGIN:VCALENDAR
VERSION:2.0
PRODID:-//Dòng Chúa Cứu Thế Hải Ngoại - ECPv6.15.20//NONSGML v1.0//EN
CALSCALE:GREGORIAN
METHOD:PUBLISH
X-ORIGINAL-URL:https://dongchuacuuthe.us
X-WR-CALDESC:Events for Dòng Chúa Cứu Thế Hải Ngoại
REFRESH-INTERVAL;VALUE=DURATION:PT1H
X-Robots-Tag:noindex
X-PUBLISHED-TTL:PT1H
BEGIN:VTIMEZONE
TZID:America/Los_Angeles
BEGIN:DAYLIGHT
TZOFFSETFROM:-0800
TZOFFSETTO:-0700
TZNAME:PDT
DTSTART:20250309T100000
END:DAYLIGHT
BEGIN:STANDARD
TZOFFSETFROM:-0700
TZOFFSETTO:-0800
TZNAME:PST
DTSTART:20251102T090000
END:STANDARD
BEGIN:DAYLIGHT
TZOFFSETFROM:-0800
TZOFFSETTO:-0700
TZNAME:PDT
DTSTART:20260308T100000
END:DAYLIGHT
BEGIN:STANDARD
TZOFFSETFROM:-0700
TZOFFSETTO:-0800
TZNAME:PST
DTSTART:20261101T090000
END:STANDARD
BEGIN:DAYLIGHT
TZOFFSETFROM:-0800
TZOFFSETTO:-0700
TZNAME:PDT
DTSTART:20270314T100000
END:DAYLIGHT
BEGIN:STANDARD
TZOFFSETFROM:-0700
TZOFFSETTO:-0800
TZNAME:PST
DTSTART:20271107T090000
END:STANDARD
END:VTIMEZONE
BEGIN:VEVENT
DTSTART;VALUE=DATE:20260418
DTEND;VALUE=DATE:20260419
DTSTAMP:20260423T082346
CREATED:20260327T070935Z
LAST-MODIFIED:20260327T070935Z
UID:14053-1776470400-1776556799@dongchuacuuthe.us
SUMMARY:Thứ Bảy Tuần II Phục Sinh
DESCRIPTION:BÀI ĐỌC I: Cv 6\, 1-7\n“Họ chọn bảy người đầy Thánh Thần”. \nTrích sách Tông đồ Công vụ. \nTrong những ngày ấy\, số môn đồ gia tăng\, nên xảy ra việc các người Hy-lạp kêu trách các người Do-thái\, vì trong việc phục vụ hằng ngày\, người ta khinh miệt các bà goá trong nhóm họ. Nên Mười Hai Vị triệu tập toàn thể môn đồ đến và bảo: “Chúng tôi bỏ việc rao giảng lời Chúa mà lo đi giúp bàn\, thì không phải lẽ. Vậy thưa anh em\, anh em hãy chọn lấy bảy người trong anh em có tiếng tốt\, đầy Thánh Thần và khôn ngoan\, để chúng tôi đặt họ làm việc đó. Còn chúng tôi\, thì sẽ chuyên lo cầu nguyện và phục vụ lời Chúa”. Cả đoàn thể đều tán thành lời các ngài và chọn Têphanô\, một người đầy đức tin và Thánh Thần\, và chọn Philipphê\, Prôcô\, Nicanô\, Timon\, Parmêna và Nicôla quê ở Antiôkia. Họ đưa mấy vị đó đến trước mặt các Tông đồ. Các ngài cầu nguyện và đặt tay trên các vị đó. \nLời Chúa lan tràn\, và số môn đồ ở Giêrusalem gia tăng rất nhiều. Cũng có đám đông tư tế vâng phục đức tin. Đó là lời Chúa. \nĐÁP CA: Tv 32\, 1-2. 4-5. 18-19\nĐáp: Lạy Chúa\, xin tỏ lòng từ bi Chúa cho chúng con\, như chúng con đã trông cậy Chúa (c. 22). \nHoặc đọc: Alleluia.\nXướng: 1) Người hiền đức\, hãy hân hoan trong Chúa\, ca ngợi là việc của những kẻ lòng ngay. Hãy ngợi khen Chúa với cây đàn cầm\, với đàn mười dây\, hãy xướng ca mừng Chúa. – Đáp. \n2) Vì lời Chúa là lời chân chính\, bao việc Chúa làm đều đáng cậy tin. Chúa yêu chuộng điều công minh chính trực\, địa cầu đầy ân sủng Chúa. – Đáp. \n3) Kìa Chúa để mắt coi những kẻ kính sợ Người\, nhìn xem những ai cậy trông ân sủng của Người\, để cứu gỡ họ khỏi tay thần chết\, và nuôi dưỡng họ trong cảnh cơ hàn. – Đáp. \nALLELUIA: Ga 19\, 28\nAlleluia\, alleluia! – Thầy bởi Cha mà ra\, và đã đến trong thế gian; bây giờ Thầy lại bỏ thế gian mà về cùng Cha. – Alleluia. \nPHÚC ÂM: Ga 6\, 16-21\n“Họ thấy Chúa Giêsu đi trên mặt biển”. \nTin Mừng Chúa Giêsu Kitô theo Thánh Gioan. \nChiều đến\, các môn đệ Chúa Giêsu xuống bờ biển. Rồi lên thuyền\, sang bên kia\, trẩy về hướng Capharnaum. Trời đã tối\, mà Chúa Giêsu vẫn chưa đến với họ. Bỗng cuồng phong thổi lên\, biển động mạnh. Khi chèo đi được chừng hai mươi lăm hay ba mươi dặm\, thì họ thấy Chúa Giêsu đi trên mặt biển\, tiến lại gần thuyền\, họ hoảng sợ. Nhưng Người nói với họ: “Chính Thầy đây\, đừng sợ”. Họ định rước Người lên thuyền\, nhưng ngay lúc ấy\, thuyền đã đến nơi họ định tới. Đó là lời Chúa.
URL:https://dongchuacuuthe.us/calendar/thu-bay-tuan-ii-phuc-sinh-2/
END:VEVENT
END:VCALENDAR