BEGIN:VCALENDAR
VERSION:2.0
PRODID:-//Dòng Chúa Cứu Thế Hải Ngoại - ECPv6.15.20//NONSGML v1.0//EN
CALSCALE:GREGORIAN
METHOD:PUBLISH
X-ORIGINAL-URL:https://dongchuacuuthe.us
X-WR-CALDESC:Events for Dòng Chúa Cứu Thế Hải Ngoại
REFRESH-INTERVAL;VALUE=DURATION:PT1H
X-Robots-Tag:noindex
X-PUBLISHED-TTL:PT1H
BEGIN:VTIMEZONE
TZID:America/Los_Angeles
BEGIN:DAYLIGHT
TZOFFSETFROM:-0800
TZOFFSETTO:-0700
TZNAME:PDT
DTSTART:20250309T100000
END:DAYLIGHT
BEGIN:STANDARD
TZOFFSETFROM:-0700
TZOFFSETTO:-0800
TZNAME:PST
DTSTART:20251102T090000
END:STANDARD
BEGIN:DAYLIGHT
TZOFFSETFROM:-0800
TZOFFSETTO:-0700
TZNAME:PDT
DTSTART:20260308T100000
END:DAYLIGHT
BEGIN:STANDARD
TZOFFSETFROM:-0700
TZOFFSETTO:-0800
TZNAME:PST
DTSTART:20261101T090000
END:STANDARD
BEGIN:DAYLIGHT
TZOFFSETFROM:-0800
TZOFFSETTO:-0700
TZNAME:PDT
DTSTART:20270314T100000
END:DAYLIGHT
BEGIN:STANDARD
TZOFFSETFROM:-0700
TZOFFSETTO:-0800
TZNAME:PST
DTSTART:20271107T090000
END:STANDARD
END:VTIMEZONE
BEGIN:VEVENT
DTSTART;VALUE=DATE:20260407
DTEND;VALUE=DATE:20260408
DTSTAMP:20260423T082341
CREATED:20260327T070424Z
LAST-MODIFIED:20260327T070424Z
UID:14029-1775520000-1775606399@dongchuacuuthe.us
SUMMARY:Thứ Ba Tuần Bát Nhật Phục Sinh
DESCRIPTION:BÀI ĐỌC I: Cv 2\, 36-41\n“Anh em hãy ăn năn sám hối và mỗi người trong anh em hãy chịu phép rửa nhân danh Đức Kitô”. \nTrích sách Tông đồ Công vụ. \nTrong ngày lễ Ngũ Tuần\, Phêrô nói với những người Do-thái rằng: “Xin toàn thể nhà Israel hãy nhận biết rằng: Thiên Chúa đã tôn Đức Giêsu mà anh em đã đóng đinh\, lên làm Chúa và làm Đấng Kitô”. Nghe những lời nói trên\, họ đau đớn trong lòng\, nói cùng Phêrô và các Tông đồ khác rằng: “Thưa các ông\, chúng tôi phải làm gì?” Phêrô nói với họ: “Anh em hãy ăn năn sắm hối\, và mỗi người trong anh em hãy chịu phép rửa nhân danh Đức Giêsu Kitô để được tha tội; và anh em sẽ nhận lãnh Thánh Thần. Vì chưng\, đó là lời hứa cho anh em\, con cái anh em và mọi người sống ở phương xa mà Chúa là Thiên Chúa chúng ta sẽ kêu gọi đến!” \nPhêrô còn minh chứng bằng nhiều lời khác nữa\, và khuyên bảo họ rằng: “Anh em hãy cứu mình khỏi dòng dõi gian tà này”. Vậy những kẻ chấp nhận lời ngài giảng đều chịu phép rửa\, và ngày hôm ấy có thêm chừng ba ngàn người gia nhập đạo. Đó là lời Chúa. \nĐÁP CA: Tv 32\, 4-5. 18-19. 20 và 22\nĐáp: Địa cầu đầy ân sủng Chúa (c. 5b). \nHoặc đọc: Alleluia. \nXướng: 1) Vì lời Chúa là lời chân chính\, bao việc Chúa làm đều đáng cậy tin. Chúa yêu chuộng điều công minh chính trực\, địa cầu đầy ân sủng Chúa. – Đáp. \n2) Kìa Chúa để mắt coi những kẻ kính sợ Ngài\, nhìn xem những ai cậy trông ân sủng của Ngài\, để cứu gỡ họ khỏi tay thần chết\, và nuôi dưỡng họ trong cảnh cơ hàn. – Đáp. \n3) Linh hồn chúng con mong đợi Chúa\, chính Ngài là Đấng phù trợ và che chở chúng con. Lạy Chúa\, xin đổ lòng từ bi xuống trên chúng con\, theo như chúng con tin cậy ở nơi Ngài. – Đáp. \nALLELUIA: Ga 14\, 8\nAlleluia\, alleluia! – Thầy sẽ xin Chúa Cha và Người sẽ ban cho các con một Đấng Phù Trợ khác\, để ở cùng các con luôn mãi. – Alleluia. \nPHÚC ÂM: Ga 20\, 11-18\n“Tôi đã trông thấy và Người đã phán với tôi những điều ấy”. \nTin Mừng Chúa Giêsu Kitô theo Thánh Gioan. \nKhi ấy\, bà Maria đang còn đứng gần mồ Chúa mà than khóc. Nhìn vào trong mồ\, bà thấy hai thiên thần mặc áo trắng đang ngồi nơi đã đặt xác Chúa Giêsu\, một vị ngồi phía đàng đầu\, một vị ngồi phía đàng chân. Hai vị hỏi: “Tại sao bà khóc?” Bà trả lời: “Người ta đã lấy mất xác Chúa tôi và tôi không biết người ta đã để Người ở đâu?” Vừa nói xong\, bà quay mặt lại\, thì thấy Chúa Giêsu đã đứng đó\, nhưng bà chưa biết là Chúa Giêsu. Chúa Giêsu hỏi: “Bà kia\, sao mà khóc\, bà tìm ai?” Tưởng là người giữ vườn\, Maria thưa: “Thưa ông\, nếu ông đã mang xác Người đi\, thì xin cho tôi biết ông đã đặt Người ở đâu\, để tôi đến lấy xác Người”. Chúa Giêsu gọi: “Maria”. Quay mặt lại\, bà thưa Người: “Rabboni!” (nghĩa là “Lạy Thầy!”). Chúa Giêsu bảo bà: “Đừng động đến Ta\, vì Ta chưa về cùng Cha Ta. Nhưng hãy đi báo tin cho các anh em Ta hay và bảo họ rằng: Ta về cùng Cha Ta\, cũng là Cha các con; về cùng Thiên Chúa Ta\, cũng là Thiên Chúa các con”. \nMaria Mađalêna đi báo tin cho các môn đệ rằng: “Tôi đã trông thấy Chúa và Chúa đã phán với tôi những điều ấy”. Đó là lời Chúa.
URL:https://dongchuacuuthe.us/calendar/thu-ba-tuan-bat-nhat-phuc-sinh-3/
END:VEVENT
END:VCALENDAR