BEGIN:VCALENDAR
VERSION:2.0
PRODID:-//Dòng Chúa Cứu Thế Hải Ngoại - ECPv6.15.20//NONSGML v1.0//EN
CALSCALE:GREGORIAN
METHOD:PUBLISH
X-WR-CALNAME:Dòng Chúa Cứu Thế Hải Ngoại
X-ORIGINAL-URL:https://dongchuacuuthe.us
X-WR-CALDESC:Events for Dòng Chúa Cứu Thế Hải Ngoại
REFRESH-INTERVAL;VALUE=DURATION:PT1H
X-Robots-Tag:noindex
X-PUBLISHED-TTL:PT1H
BEGIN:VTIMEZONE
TZID:America/Los_Angeles
BEGIN:DAYLIGHT
TZOFFSETFROM:-0800
TZOFFSETTO:-0700
TZNAME:PDT
DTSTART:20250309T100000
END:DAYLIGHT
BEGIN:STANDARD
TZOFFSETFROM:-0700
TZOFFSETTO:-0800
TZNAME:PST
DTSTART:20251102T090000
END:STANDARD
BEGIN:DAYLIGHT
TZOFFSETFROM:-0800
TZOFFSETTO:-0700
TZNAME:PDT
DTSTART:20260308T100000
END:DAYLIGHT
BEGIN:STANDARD
TZOFFSETFROM:-0700
TZOFFSETTO:-0800
TZNAME:PST
DTSTART:20261101T090000
END:STANDARD
BEGIN:DAYLIGHT
TZOFFSETFROM:-0800
TZOFFSETTO:-0700
TZNAME:PDT
DTSTART:20270314T100000
END:DAYLIGHT
BEGIN:STANDARD
TZOFFSETFROM:-0700
TZOFFSETTO:-0800
TZNAME:PST
DTSTART:20271107T090000
END:STANDARD
END:VTIMEZONE
BEGIN:VEVENT
DTSTART;VALUE=DATE:20260405
DTEND;VALUE=DATE:20260406
DTSTAMP:20260423T082219
CREATED:20260312T055445Z
LAST-MODIFIED:20260312T055445Z
UID:13935-1775347200-1775433599@dongchuacuuthe.us
SUMMARY:CN Lễ Chúa Phục Sinh
DESCRIPTION:BÀI ĐỌC I: Cv 10\, 34a. 37-43  \n“Chúng tôi đã ăn uống với Người\, sau khi Người từ cõi chết sống lại”.  \nTrích sách Tông đồ Công vụ.  \nTrong những ngày ấy\, Phêrô lên tiếng nói rằng: “Như anh em biết điều đã xảy ra trong toàn cõi Giuđêa\, khởi đầu từ Galilêa\, sau khi Gioan rao giảng phép rửa: ấy là Chúa Giêsu thành Nadarét. Thiên Chúa đã dùng Thánh Thần và quyền năng mà xức dầu cho Người. Người đi khắp nơi\, ban bố ơn lành và chữa mọi người bị quỷ ám\, bởi vì Thiên Chúa ở cùng Người. Và chúng tôi\, chúng tôi là chứng nhân tất cả những gì Người đã làm trong nước Do-thái\, và tại Giêrusalem\, Người là Đấng người ta đã giết treo Người trên thập giá. Nhưng ngày thứ ba\, Thiên Chúa đã cho Người sống lại và hiện ra không phải với toàn dân\, mà là với chúng tôi là nhân chứng Thiên Chúa đã tuyển chọn trước\, chính chúng tôi đã ăn uống với Người sau khi Người từ cõi chết sống lại. Và Người đã truyền cho chúng tôi rao giảng cho toàn dân và làm chứng rằng chính Người đã được Thiên Chúa tôn làm quan án xét xử kẻ sống và kẻ chết. Mọi tiên tri đều làm chứng về Người rằng: Tất cả những ai tin vào Người\, thì nhờ danh Người mà được tha tội”. Đó là lời Chúa.  \nĐÁP CA: Tv 117\, 1-2. 16ab-17. 22-23  \nĐáp: Đây là ngày Chúa đã lập ra\, chúng ta hãy mừng rỡ hân hoan về ngày đó (c. 24).  \nHoặc đọc: Alleluia.  \nXướng: 1) Hãy cảm tạ Chúa\, vì Chúa hảo tâm\, vì đức từ bi của Người muôn thuở. Hỡi nhà Israel\, hãy xướng lên: “Đức từ bi của Người muôn thuở”. – Đáp.  \n2) Tay hữu Chúa đã hành động mãnh liệt\, tay hữu Chúa đã cất nhắc tôi lên. Tôi không chết\, nhưng tôi sẽ sống\, và tôi sẽ loan truyền công cuộc của Chúa. – Đáp.  \n3) Phiến đá mà những người thợ xây loại bỏ\, đã biến nên tảng đá góc tường. Việc đó đã do Chúa làm ra\, việc đó kỳ diệu trước mắt chúng ta. – Đáp.  \nBÀI ĐỌC II: Cl 3\, 1-4  \n“Anh em hãy tìm những sự trên trời\, nơi Đức Kitô ngự”.  \nTrích thư Thánh Phaolô Tông đồ gửi tín hữu Côlôxê.  \nAnh em thân mến\, nếu anh em đã sống lại với Đức Kitô\, anh em hãy tìm những sự trên trời\, nơi Đức Kitô ngự bên hữu Thiên Chúa. Anh em hãy nghĩ đến những sự trên trời\, chứ đừng nghĩ đến những sự dưới đất. Vì anh em đã chết\, và sự sống anh em được ẩn giấu với Đức Kitô trong Thiên Chúa. Khi Đức Kitô là sự sống anh em xuất hiện\, bấy giờ anh em sẽ xuất hiện với Người trong vinh quang. Đó là lời Chúa.  \nHoặc đọc: 1 Cr 5\, 6b-8  \n“Anh em hãy tìm những sự trên trời\, nơi Đức Kitô ngự”.  \nTrích thư thứ nhất của Thánh Phaolô Tông đồ gửi tín hữu Cô-rintô.  \nAnh em thân mến\, anh em không biết sao?: chỉ một tí men là đã đủ làm dậy men cả khối bột! Anh em hãy tẩy trừ men cũ để nên bột mới anh em là bánh không men. Vì Chiên Vượt Qua của ta\, là Đức Kitô\, đã chịu sát tế. Cho nên ta hãy mừng lễ\, đừng với men cũ\, và men gian tà\, ác độc\, nhưng là với Bánh không men của lòng tinh tuyền và chân thật. Đó là lời Chúa.  \nCA TIẾP LIÊN  \n(Đọc trong Chúa Nhật Phục Sinh\, còn các ngày khác trong tuần Bát nhật thì không buộc đọc)  \nCác Kitô hữu hãy tiến dâng\nlời khen ngợi hy lễ Vượt Qua.\nChiên con đã cứu chuộc đoàn chiên mẹ:\nĐức Kitô vô tội đã hoà giải tội nhân với Chúa Cha.\nSống và chết hai bên song đấu cách diệu kỳ\,\ntướng lãnh sự sống đã chết đi\, nhưng vẫn sống mà cai trị.\nHỡi Maria\, hãy nói cho chúng tôi nghe\nbà đã thấy gì trên quãng đường đi?\nTôi đã thấy mồ Đức Kitô đang sống\nvà vinh quang của Đấng Phục Sinh\,\nthấy các thiên thần làm chứng\,\nthấy khăn liệm và y phục.\nĐức Kitô là hy vọng của tôi đã phục sinh\,\nNgười đi trước chư vị tới xứ Galilêa.\nChúng tôi biết Đức Kitô đã sống lại thật từ cõi chết!\nLạy Chúa\, Vua chiến thắng\, xin thương xót chúng con.  \nALLELUIA: 1 Cr 5\, 7b-8a  \nAlleluia\, alleluia! – Lễ Vượt Qua của chúng ta là Đức Kitô đã hiến tế vậy chúng ta hãy mừng lễ trong Chúa. – Alleluia.  \nPHÚC ÂM: Ga 20\, 1-9  \n“Người phải sống lại từ cõi chết”.  \nTin Mừng Chúa Giêsu Kitô theo Thánh Gioan.  \nNgày đầu tuần\, Maria Mađalêna đi ra mồ từ sáng sớm khi trời còn tối và bà thấy tảng đá đã được lăn ra khỏi mồ\, bà liền chạy về tìm Simon-Phêrô và người môn đệ kia được Chúa Giêsu yêu mến\, bà nói với các ông rằng: “Người ta đã lấy xác Thầy khỏi mồ\, và chúng tôi không biết người ta đã để Thầy ở đâu”. Phêrô và môn đệ kia ra đi đến mồ. Cả hai cùng chạy\, nhưng môn đệ kia chạy nhanh hơn Phêrô\, và đến mồ trước. Ông cúi mình xuống thấy những khăn liệm để đó\, nhưng ông không vào trong. Vậy Simon-Phêrô theo sau cũng tới nơi\, ông vào trong mồ và thấy những dây băng nhỏ để đó\, và khăn liệm che đầu Người trước đây\, khăn này không để lẫn với dây băng\, nhưng cuộn lại để riêng một chỗ. Bấy giờ môn đệ kia mới vào\, dù ông đã tới mồ trước. Ông thấy và ông tin\, vì chưng các ông còn chưa hiểu rằng\, theo Kinh Thánh\, thì Người phải sống lại từ cõi chết. Đó là lời Chúa.
URL:https://dongchuacuuthe.us/calendar/cn-le-chua-phuc-sinh/
END:VEVENT
END:VCALENDAR