BEGIN:VCALENDAR
VERSION:2.0
PRODID:-//Dòng Chúa Cứu Thế Hải Ngoại - ECPv6.15.20//NONSGML v1.0//EN
CALSCALE:GREGORIAN
METHOD:PUBLISH
X-WR-CALNAME:Dòng Chúa Cứu Thế Hải Ngoại
X-ORIGINAL-URL:https://dongchuacuuthe.us
X-WR-CALDESC:Events for Dòng Chúa Cứu Thế Hải Ngoại
REFRESH-INTERVAL;VALUE=DURATION:PT1H
X-Robots-Tag:noindex
X-PUBLISHED-TTL:PT1H
BEGIN:VTIMEZONE
TZID:America/Los_Angeles
BEGIN:DAYLIGHT
TZOFFSETFROM:-0800
TZOFFSETTO:-0700
TZNAME:PDT
DTSTART:20250309T100000
END:DAYLIGHT
BEGIN:STANDARD
TZOFFSETFROM:-0700
TZOFFSETTO:-0800
TZNAME:PST
DTSTART:20251102T090000
END:STANDARD
BEGIN:DAYLIGHT
TZOFFSETFROM:-0800
TZOFFSETTO:-0700
TZNAME:PDT
DTSTART:20260308T100000
END:DAYLIGHT
BEGIN:STANDARD
TZOFFSETFROM:-0700
TZOFFSETTO:-0800
TZNAME:PST
DTSTART:20261101T090000
END:STANDARD
BEGIN:DAYLIGHT
TZOFFSETFROM:-0800
TZOFFSETTO:-0700
TZNAME:PDT
DTSTART:20270314T100000
END:DAYLIGHT
BEGIN:STANDARD
TZOFFSETFROM:-0700
TZOFFSETTO:-0800
TZNAME:PST
DTSTART:20271107T090000
END:STANDARD
END:VTIMEZONE
BEGIN:VEVENT
DTSTART;VALUE=DATE:20260327
DTEND;VALUE=DATE:20260328
DTSTAMP:20260423T094657
CREATED:20260312T055311Z
LAST-MODIFIED:20260312T055311Z
UID:13931-1774569600-1774655999@dongchuacuuthe.us
SUMMARY:Thứ Sáu Tuần V Mùa Chay
DESCRIPTION:BÀI ĐỌC I: Gr 20\, 10-13\n“Chúa ở cùng tôi như người lính chiến hùng dũng”. \nTrích sách Tiên tri Giêrêmia. \nTôi đã nghe nhiều người thoá mạ và chế nhạo rằng: “Người này gieo khủng bố khắp nơi. Chúng ta hãy tố cáo nó\, chúng ta hãy tố cáo nó”. Tất cả bạn hữu tôi rình tôi vấp ngã mà nói rằng: “Ước gì nó bị lừa dối để chúng ta thắng nó và sẽ trả thù nó”. Nhưng Chúa ở cùng tôi như người lính chiến hùng dũng; vì thế\, những kẻ bắt bớ tôi sẽ ngã quỵ và kiệt sức. Chúng sẽ thất bại bẽ bàng\, chuốc lấy sự hổ nhục muôn đời\, không bao giờ quên được. \nCòn Chúa\, lạy Chúa các đạo binh\, Đấng xét xử người công chính\, thấu suốt tâm can\, lạy Chúa\, ước gì con sẽ được thấy Chúa trả thù chúng cho con\, vì con đã tỏ bày công việc con cho Chúa. \nHãy hát mừng Chúa\, hãy ca tụng Chúa\, vì Người đã cứu thoát mạng sống người bất hạnh khỏi tay kẻ dữ. Đó là lời Chúa. \nĐÁP CA: Tv 17\, 2-3a. 3bc-4. 5-6. 7\nĐáp: Trong cơn đại hoạ\, tôi đã cầu khẩn Chúa\, tôi đã kêu xin Thiên Chúa của tôi (x.c. 7). \nXướng: 1) Lạy Chúa là dũng lực con\, con yêu mến Chúa\, lạy Chúa là Tảng Đá\, chiến luỹ\, cứu tinh. – Đáp. \n2) Lạy Chúa là Thiên Chúa\, là sơn động chỗ con nương mình\, là khiên thuẫn\, là uy quyền cứu độ\, là sức hộ phù con. Con xướng ca khen ngợi cầu cứu Chúa\, và con sẽ được cứu thoát khỏi tay quân thù. – Đáp. \n3) Sóng tử thần đã bao bọc thân con\, và thác nước ôn dịch làm con kinh hãi. Thừng chão địa ngục đã quấn lấy con\, lưới tử thần đã chụp bắt con rồi. – Đáp. \n4) Trong cơn đại hoạ\, tôi đã cầu khẩn Chúa\, tôi đã kêu xin Thiên Chúa của tôi; từ nơi thánh đài\, Ngài nghe rõ tiếng\, và tiếng tôi kêu thấu đến tai Ngài. – Đáp. \nCÂU XƯỚNG TRƯỚC PHÚC ÂM: Ed 33\, 11\nChúa phán: “Ta không muốn kẻ gian ác phải chết\, nhưng muốn nó ăn năn sám hối và được sống”. \nPHÚC ÂM: Ga 10\, 31-42\n“Họ tìm bắt Người\, nhưng Người thoát khỏi tay họ”. \nTin Mừng Chúa Giêsu Kitô theo Thánh Gioan. \nKhi ấy\, người Do-thái lượm đá để ném Chúa Giêsu. Người lên tiếng hỏi rằng: “Ta đã cho các ngươi thấy nhiều việc tốt lành bởi Cha Ta. Vậy vì việc nào mà các ngươi muốn ném đá Ta?” \nNgười Do-thái trả lời: “Chúng tôi muốn ném đá ông không phải vì việc lành\, nhưng vì một lời lộng ngôn\, bởi vì ông chỉ là người mà lại tự cho mình là Thiên Chúa”. \nChúa Giêsu đáp lại: “Nào trong sách luật của các ngươi không có chép câu này: ‘Ta đã nói: các ngươi là thần’? Vậy nếu sách luật gọi những kẻ được nghe lời Chúa là thần\, mà Kinh Thánh không thể huỷ diệt được\, thì tại sao các ngươi nói với Đấng đã được Chúa Cha thánh hoá và sai đến trong trần gian rằng ‘Ông nói lộng ngôn’\, vì Ta đã nói Ta là Con Thiên Chúa? Nếu Ta không làm những việc của Cha Ta\, thì các ngươi đừng tin Ta. Nhưng nếu Ta làm những việc đó\, thì dầu các ngươi không muốn tin Ta\, cũng hãy tin vào các việc đó\, để các ngươi biết và tin rằng: Cha ở trong Ta\, và Ta ở trong Cha”. \nBởi đó họ tìm cách bắt Người\, nhưng Người thoát khỏi tay họ. Người lại qua bên kia sông Giođan\, nơi trước kia Gioan đã làm phép rửa. Và Người ở lại đó. Có nhiều kẻ đến cùng Người. Họ nói: “Gioan đã không làm một phép lạ nào. Nhưng mọi điều Gioan nói về người này đều đúng cả”. Và có nhiều kẻ tin Người. Đó là lời Chúa.
URL:https://dongchuacuuthe.us/calendar/thu-sau-tuan-v-mua-chay-3/
END:VEVENT
END:VCALENDAR