BEGIN:VCALENDAR
VERSION:2.0
PRODID:-//Dòng Chúa Cứu Thế Hải Ngoại - ECPv6.15.20//NONSGML v1.0//EN
CALSCALE:GREGORIAN
METHOD:PUBLISH
X-WR-CALNAME:Dòng Chúa Cứu Thế Hải Ngoại
X-ORIGINAL-URL:https://dongchuacuuthe.us
X-WR-CALDESC:Events for Dòng Chúa Cứu Thế Hải Ngoại
REFRESH-INTERVAL;VALUE=DURATION:PT1H
X-Robots-Tag:noindex
X-PUBLISHED-TTL:PT1H
BEGIN:VTIMEZONE
TZID:America/Los_Angeles
BEGIN:DAYLIGHT
TZOFFSETFROM:-0800
TZOFFSETTO:-0700
TZNAME:PDT
DTSTART:20250309T100000
END:DAYLIGHT
BEGIN:STANDARD
TZOFFSETFROM:-0700
TZOFFSETTO:-0800
TZNAME:PST
DTSTART:20251102T090000
END:STANDARD
BEGIN:DAYLIGHT
TZOFFSETFROM:-0800
TZOFFSETTO:-0700
TZNAME:PDT
DTSTART:20260308T100000
END:DAYLIGHT
BEGIN:STANDARD
TZOFFSETFROM:-0700
TZOFFSETTO:-0800
TZNAME:PST
DTSTART:20261101T090000
END:STANDARD
BEGIN:DAYLIGHT
TZOFFSETFROM:-0800
TZOFFSETTO:-0700
TZNAME:PDT
DTSTART:20270314T100000
END:DAYLIGHT
BEGIN:STANDARD
TZOFFSETFROM:-0700
TZOFFSETTO:-0800
TZNAME:PST
DTSTART:20271107T090000
END:STANDARD
END:VTIMEZONE
BEGIN:VEVENT
DTSTART;VALUE=DATE:20260325
DTEND;VALUE=DATE:20260326
DTSTAMP:20260423T094658
CREATED:20260312T055219Z
LAST-MODIFIED:20260312T055219Z
UID:13927-1774396800-1774483199@dongchuacuuthe.us
SUMMARY:Lễ Truyền Tin Cho Đức Mẹ
DESCRIPTION:BÀI ĐỌC I: Is 7\, 10-14\n“Này trinh nữ sẽ thụ thai”. \nTrích sách Tiên tri Isaia. \nNgày ấy\, Chúa phán bảo vua Achaz rằng: “Hãy xin Thiên Chúa\, Chúa ngươi\, một dấu ở dưới lòng đất hay ở trên trời cao!” Nhưng vua Achaz thưa: “Tôi sẽ không xin\, vì tôi không dám thử Chúa”. Và Isaia nói: “Vậy nghe đây\, hỡi nhà Đavít\, làm phiền lòng người ta chưa đủ ư\, mà còn muốn làm phiền lòng Thiên Chúa nữa? Vì thế chính Chúa sẽ cho các ngươi một dấu: này một trinh nữ sẽ thụ thai\, sinh hạ một con trai\, và tên con trẻ sẽ gọi là Emmanuel\, nghĩa là Thiên-Chúa-ở-cùng-chúng-ta”. Đó là lời Chúa. \nĐÁP CA: Tv 39\, 7-8a. 8b-9. 10. 11\nĐáp: Lạy Chúa\, này con xin đến để thực thi ý Chúa (c. 8a và 9a). \nXướng: 1) Hy sinh và lễ vật thì Chúa chẳng ưng\, nhưng Ngài đã mở tai con. Chúa không đòi hỏi lễ toàn thiêu và lễ đền tội\, bấy giờ con đã thưa: “Này con xin đến”. – Đáp. \n2) Như trong cuốn sách đã chép về con\, lạy Chúa\, con sung sướng thực thi ý Chúa\, và luật pháp của Chúa ghi tận đáy lòng con. – Đáp. \n3) Con đã loan truyền đức công minh Chúa trong đại hội\, thực con đã chẳng ngậm môi\, lạy Chúa\, Chúa biết rồi. – Đáp. \n4) Con chẳng có che đậy đức công minh Chúa trong lòng con; con đã kể ra lòng trung thành với ơn phù trợ Chúa; con đã không giấu giếm gì với đại hội về ân sủng và lòng trung thành của Chúa. – Đáp. \nBÀI ĐỌC II: Dt 10\, 4-10\n“Ở đoạn đầu cuốn sách đã viết về tôi là\, lạy Chúa\, tôi thi hành thánh ý Chúa”. \nTrích thư gửi tín hữu Do-thái. \nAnh em thân mến\, máu bò và dê đực không thể xoá được tội lỗi. Vì thế\, khi đến trong thế gian\, Chúa Giêsu phán: “Chúa đã không muốn hy tế và của lễ hiến dâng\, nhưng đã tạo nên cho con một thể xác. Chúa không nhận của lễ toàn thiêu và của lễ đền tội. Nên con nói: Lạy Chúa\, này con đến để thi hành thánh ý Chúa\, như đã nói về con ở đoạn đầu cuốn sách. Sách ấy bắt đầu như thế này: Của lễ hy tế\, của lễ hiến dâng\, của lễ toàn thiêu và của lễ đền tội\, Chúa không muốn cũng không nhận\, mặc dầu được hiến dâng theo lề luật”. Đoạn Người nói tiếp: “Lạy Chúa\, này con đến để thi hành thánh ý Chúa”. Như thế đã bãi bỏ điều trước để thiết lập điều sau\, chính bởi thánh ý đó mà chúng ta được thánh hoá nhờ việc hiến dâng Mình Chúa Giêsu Kitô một lần là đủ. Đó là lời Chúa. \nALLELUIA HOẶC CÂU XƯỚNG TRƯỚC PHÚC ÂM\n(Mùa Chay: bỏ Alleluia) \nGa 1\, 14ab\nAlleluia\, alleluia! – Ngôi Lời đã hoá thành nhục thể\, và Người đã cư ngụ giữa chúng ta\, và chúng ta đã nhìn thấy vinh quang của Người. -Alleluia. \nPHÚC ÂM: Lc 1\, 26-38\n“Này Bà sẽ thụ thai\, sinh hạ một con trai”. \nTin Mừng Chúa Giêsu Kitô theo Thánh Luca. \nKhi ấy\, thiên thần Gabriel được Chúa sai đến một thành xứ Galilêa\, tên là Nadarét\, đến với một trinh nữ đã đính hôn với một người tên là Giuse\, thuộc chi họ Đavít\, trinh nữ ấy tên là Maria. Thiên thần vào nhà trinh nữ và chào rằng: “Kính chào Bà đầy ơn phước\, Thiên Chúa ở cùng Bà\, Bà được chúc phúc giữa các người phụ nữ”. Nghe lời đó\, Bà bối rối và tự hỏi lời chào đó có ý nghĩa gì. \nThiên thần liền thưa: “Maria đừng sợ\, vì đã được nghĩa với Chúa. Này Bà sẽ thụ thai\, sinh một Con trai và đặt tên là Giêsu. Người sẽ nên cao trọng và được gọi là Con Đấng Tối Cao. Thiên Chúa sẽ ban cho Người ngôi báu Đavít tổ phụ Người. Người sẽ cai trị đời đời trong nhà Giacóp\, và triều đại Người sẽ vô tận”. \nNhưng Maria thưa với thiên thần: “Việc đó xảy đến thế nào được\, vì tôi không biết đến người nam?” \nThiên thần thưa: “Chúa Thánh Thần sẽ đến với Bà và uy quyền Đấng Tối Cao sẽ bao trùm Bà. Vì thế Đấng Bà sinh ra\, sẽ là Đấng Thánh và được gọi là Con Thiên Chúa. Và này\, Isave chị họ Bà cũng đã thụ thai con trai trong lúc tuổi già và nay đã mang thai được sáu tháng\, người mà thiên hạ gọi là son sẻ; vì không có việc gì mà Chúa không làm được”. \nMaria liền thưa: “Này tôi là tôi tớ Chúa\, tôi xin vâng như lời Thiên thần truyền”. Và thiên thần cáo biệt Bà. Đó là lời Chúa.
URL:https://dongchuacuuthe.us/calendar/le-truyen-tin-cho-duc-me-3/
END:VEVENT
END:VCALENDAR