BEGIN:VCALENDAR
VERSION:2.0
PRODID:-//Dòng Chúa Cứu Thế Hải Ngoại - ECPv6.15.20//NONSGML v1.0//EN
CALSCALE:GREGORIAN
METHOD:PUBLISH
X-ORIGINAL-URL:https://dongchuacuuthe.us
X-WR-CALDESC:Events for Dòng Chúa Cứu Thế Hải Ngoại
REFRESH-INTERVAL;VALUE=DURATION:PT1H
X-Robots-Tag:noindex
X-PUBLISHED-TTL:PT1H
BEGIN:VTIMEZONE
TZID:America/Los_Angeles
BEGIN:DAYLIGHT
TZOFFSETFROM:-0800
TZOFFSETTO:-0700
TZNAME:PDT
DTSTART:20250309T100000
END:DAYLIGHT
BEGIN:STANDARD
TZOFFSETFROM:-0700
TZOFFSETTO:-0800
TZNAME:PST
DTSTART:20251102T090000
END:STANDARD
BEGIN:DAYLIGHT
TZOFFSETFROM:-0800
TZOFFSETTO:-0700
TZNAME:PDT
DTSTART:20260308T100000
END:DAYLIGHT
BEGIN:STANDARD
TZOFFSETFROM:-0700
TZOFFSETTO:-0800
TZNAME:PST
DTSTART:20261101T090000
END:STANDARD
BEGIN:DAYLIGHT
TZOFFSETFROM:-0800
TZOFFSETTO:-0700
TZNAME:PDT
DTSTART:20270314T100000
END:DAYLIGHT
BEGIN:STANDARD
TZOFFSETFROM:-0700
TZOFFSETTO:-0800
TZNAME:PST
DTSTART:20271107T090000
END:STANDARD
END:VTIMEZONE
BEGIN:VEVENT
DTSTART;VALUE=DATE:20260324
DTEND;VALUE=DATE:20260325
DTSTAMP:20260423T094718
CREATED:20260312T054938Z
LAST-MODIFIED:20260312T054938Z
UID:13915-1774310400-1774396799@dongchuacuuthe.us
SUMMARY:Thứ Ba Tuần V Mùa Chay
DESCRIPTION:BÀI ĐỌC I: Ds 21\, 4-9\n“Kẻ nào bị rắn cắn mà nhìn lên con rắn đồng\, thì được sống”. \nTrích sách Dân Số. \nTrong những ngày ấy\, các người Do-thái rời bỏ núi Hor\, theo con đường về phía Biển Đỏ\, để vòng quanh xứ Eđom. Dân chúng đi đường xa mệt nhọc\, nên nản chí\, kêu trách Chúa và Môsê rằng: “Tại sao các người dẫn chúng tôi ra khỏi Ai-cập\, cho chúng tôi chết trong hoang địa. Không bánh ăn\, không nước uống\, chúng tôi đã ngán thức ăn nhàm chán này”. \nBởi đó Chúa cho rắn lửa bò ra cắn chết nhiều người\, họ chạy đến cùng Môsê và thưa rằng: “Chúng tôi đã phạm tội\, vì chúng tôi nói những lời phản nghịch Chúa và phản nghịch ông. Xin ông cầu nguyện để Chúa cho chúng tôi khỏi rắn cắn”. Môsê cầu nguyện cho dân. Và Chúa phán cùng Môsê rằng: “Ngươi hãy đúc một con rắn đồng và treo nó lên làm dấu; kẻ nào bị rắn cắn mà nhìn lên rắn đồng\, thì được sống”. Môsê đúc một con rắn đồng\, treo nó lên làm dấu\, và kẻ nào bị rắn cắn mà nhìn lên rắn đồng\, thì được chữa lành. Đó là lời Chúa. \nĐÁP CA: Tv 101\, 2-3. 16-18. 19-21\nĐáp: Lạy Chúa\, xin nhậm lời con cầu nguyện\, và cho tiếng con kêu lên tới Chúa (c. 2). \nXướng: 1) Lạy Chúa\, xin nhậm lời con cầu nguyện\, và cho tiếng con kêu lên tới Chúa. Xin Chúa đừng ẩn giấu thánh nhan\, trong ngày con phải phiền muộn. Xin Chúa lắng tai nghe con\, khi con cầu nguyện\, Chúa mau nhậm lời. – Đáp. \n2) Lạy Chúa\, muôn dân sẽ kính tôn danh thánh Chúa\, và mọi vua trên địa cầu sẽ quý trọng vinh quang Ngài; khi Chúa sẽ tái lập Sion\, Ngài xuất hiện trong vinh quang xán lạn; Ngài sẽ đoái nghe lời nguyện kẻ túng nghèo\, và không chê lời họ kêu van.- Đáp. \n3) Những điều này được ghi lại cho thế hệ mai sau\, và dân tộc được tác tạo sẽ ca tụng Thiên Chúa. Từ thánh điện cao sang Chúa đã đoái nhìn\, từ trời cao Chúa đã ngó xuống trần thế\, để nghe tiếng than khóc của tù nhân\, để giải thoát kẻ bị lên án tử. – Đáp. \nCÂU XƯỚNG TRƯỚC PHÚC ÂM: Tv 94\, 8ab\nHôm nay các ngươi đừng cứng lòng\, nhưng hãy nghe tiếng Chúa phán. \nPHÚC ÂM: Ga 8\, 21-30\n“Khi nào các ông đưa Con Người lên cao\, các ông sẽ nhận biết Ta là ai”. \nTin Mừng Chúa Giêsu Kitô theo Thánh Gioan. \nKhi ấy\, Chúa Giêsu nói với những người biệt phái rằng: “Ta ra đi\, các ông sẽ tìm kiếm Ta và sẽ chết trong tội của các ông. Nơi Ta đi các ông không thể tới được”. \nNgười Do-thái nói với nhau rằng: “Ông ta sắp tự vẫn hay sao mà lại nói ‘Nơi Ta đi các ông không thể tới được’?” \nChúa Giêsu nói tiếp: “Các ông thuộc về hạ giới; còn Ta\, Ta bởi trời cao. Các ông thuộc về thế gian này; còn Ta\, Ta không thuộc về thế gian này. Ta đã nói: Các ông sẽ chết trong tội các ông. Vì\, nếu các ông không tin Ta\, các ông sẽ chết trong tội của các ông”. \nVậy họ liền hỏi: “Ông là ai?” Chúa Giêsu trả lời: “Là Nguyên thuỷ đang nói với các ông đây! Ta có nhiều điều phải nói và đoán xét về các ông\, nhưng Đấng đã sai Ta là Đấng chân thật\, và điều Ta nói ra trong thế gian đây\, chính là điều Ta đã nghe biết ở Ngài”. \nNhưng họ không hiểu là Người nói về Chúa Cha\, vì thế Chúa Giêsu nói: “Khi nào các ông đưa Con Người lên cao\, các ông sẽ nhận biết Ta là ai. Ta không tự mình làm điều gì. Điều Ta nói\, chính là điều Chúa Cha đã dạy Ta. Đấng đã sai Ta đang ở với Ta; Ngài không để Ta một mình\, bởi vì Ta luôn luôn làm điều đẹp lòng Ngài”. Khi Người nói những điều ấy thì có nhiều kẻ tin vào Người. Đó là lời Chúa.
URL:https://dongchuacuuthe.us/calendar/thu-ba-tuan-v-mua-chay-2/
END:VEVENT
END:VCALENDAR