BEGIN:VCALENDAR
VERSION:2.0
PRODID:-//Dòng Chúa Cứu Thế Hải Ngoại - ECPv6.15.20//NONSGML v1.0//EN
CALSCALE:GREGORIAN
METHOD:PUBLISH
X-ORIGINAL-URL:https://dongchuacuuthe.us
X-WR-CALDESC:Events for Dòng Chúa Cứu Thế Hải Ngoại
REFRESH-INTERVAL;VALUE=DURATION:PT1H
X-Robots-Tag:noindex
X-PUBLISHED-TTL:PT1H
BEGIN:VTIMEZONE
TZID:America/Los_Angeles
BEGIN:DAYLIGHT
TZOFFSETFROM:-0800
TZOFFSETTO:-0700
TZNAME:PDT
DTSTART:20250309T100000
END:DAYLIGHT
BEGIN:STANDARD
TZOFFSETFROM:-0700
TZOFFSETTO:-0800
TZNAME:PST
DTSTART:20251102T090000
END:STANDARD
BEGIN:DAYLIGHT
TZOFFSETFROM:-0800
TZOFFSETTO:-0700
TZNAME:PDT
DTSTART:20260308T100000
END:DAYLIGHT
BEGIN:STANDARD
TZOFFSETFROM:-0700
TZOFFSETTO:-0800
TZNAME:PST
DTSTART:20261101T090000
END:STANDARD
BEGIN:DAYLIGHT
TZOFFSETFROM:-0800
TZOFFSETTO:-0700
TZNAME:PDT
DTSTART:20270314T100000
END:DAYLIGHT
BEGIN:STANDARD
TZOFFSETFROM:-0700
TZOFFSETTO:-0800
TZNAME:PST
DTSTART:20271107T090000
END:STANDARD
END:VTIMEZONE
BEGIN:VEVENT
DTSTART;VALUE=DATE:20260317
DTEND;VALUE=DATE:20260318
DTSTAMP:20260423T094719
CREATED:20260312T054914Z
LAST-MODIFIED:20260312T054914Z
UID:13913-1773705600-1773791999@dongchuacuuthe.us
SUMMARY:Thứ Ba Tuần IV Mùa Chay
DESCRIPTION:BÀI ĐỌC I: Ed 47\, 1-9. 12\n“Tôi đã thấy nước từ bên phải đền thờ chảy ra\, và nước ấy chảy đến ai\, thì tất cả đều được cứu rỗi”. \nTrích sách Tiên tri Êdêkiel. \nTrong những ngày ấy\, thiên thần dẫn tôi đến cửa nhà Chúa\, và đây nước chảy dưới thềm nhà phía hướng đông\, vì mặt tiền nhà Chúa hướng về phía đông\, còn nước thì chảy từ bên phải đền thờ\, về phía nam bàn thờ. Thiên thần dẫn tôi qua cửa phía bắc\, đưa đi phía ngoài\, đến cửa ngoài nhìn về hướng đông\, và đây nước chảy từ bên phải. Khi đó có người đàn ông đi ra về hướng đông\, tay cầm sợi dây\, ông đo một ngàn thước tay và dẫn tôi đi qua dưới nước tới mắt cá chân. Ông đo một ngàn thước tay nữa và dẫn tôi đi qua dưới nước đến đầu gối. Ông còn đo một ngàn thước tay và dẫn tôi đi qua dưới nước đến ngang lưng. Ông lại đo thêm một ngàn thước tay nữa\, và đây là suối nước\, tôi không thể đi qua được\, vì nước suối dâng lên cao quá\, phải lội mới đi qua được\, nên người ta không thể đi qua được. Người ấy nói với tôi: “Hỡi người\, hẳn ngươi đã xem thấy”. Rồi ông dẫn tôi đi\, rồi dẫn trở lại trên bờ suối. Khi trở lại\, tôi thấy hai bên suối có nhiều cây cối. Người ấy lại nói với tôi: “Nước này chảy về phía cồn cát\, phía đông\, chảy xuống đồng bằng hoang địa\, rồi chảy ra biển\, biến mất trong biển và trở nên nước trong sạch. Tất cả những sinh vật sống động\, nhờ suối nước chảy qua\, đều được sống. Sẽ có rất nhiều cá và nơi nào nước này chảy đến\, nơi đó sẽ trở nên trong lành\, và sự sống sẽ được phát triển ở nơi mà suối nước chảy đến. \nGần suối nước\, hai bên bờ ở mỗi phía\, mọi thứ cây ăn trái sẽ mọc lên; lá của nó sẽ không khô héo\, và trái của nó sẽ không bao giờ hết; mỗi tháng nó có trái mới\, vì dòng nước này phát xuất từ đền thờ; trái của nó dùng làm thức ăn\, và lá của nó dùng làm thuốc uống. Đó là lời Chúa. \nĐÁP CA: Tv 45\, 2-3. 5-6. 8-9\nĐáp: Chúa thiên binh hằng ở cùng ta\, và ta được Chúa Giacóp hằng bảo vệ (c. 8). \nXướng: 1) Chúa là nơi ẩn náu và là sức mạnh của chúng ta\, Người hằng cứu giúp khi ta sầu khổ. Dầu đất có rung chuyển\, ta không sợ chi\, dầu núi đổ xuống đầy lòng biển cả. – Đáp. \n2) Nước dòng sông làm cho thành Chúa vui mừng\, làm hân hoan cung thánh Đấng Tối Cao hiển ngự. Chúa ở giữa thành\, nên nó không chuyển rung\, lúc tinh sương\, thành được Chúa cứu giúp. – Đáp. \n3) Chúa thiên binh hằng ở cùng ta\, ta được Chúa Giacóp hằng bảo vệ. Các ngươi hãy đến mà xem mọi kỳ công Chúa làm\, Người thực hiện muôn kỳ quan trên vũ trụ. – Đáp. \nCÂU XƯỚNG TRƯỚC PHÚC ÂM: Tv 50\, 12a và 14a\nÔi lạy Chúa\, xin tạo cho con quả tim trong sạch. Xin ban lại cho con niềm vui ơn cứu độ. \nPHÚC ÂM: Ga 5\, 1-3a. 5-16\n“Tức khắc người ấy được lành bệnh”. \nTin Mừng Chúa Giêsu Kitô theo Thánh Gioan. \nHôm đó là ngày lễ của người Do-thái\, Chúa Giêsu lên Giêru-salem. Tại Giêrusalem\, gần cửa “Chiên”\, có một cái hồ\, tiếng Do-thái gọi là Bếtsaiđa\, chung quanh có năm hành lang. Trong các hành lang này\, có rất nhiều người đau yếu\, mù loà\, què quặt\, bất toại nằm la liệt. Trong số đó\, có một người nằm đau liệt đã ba mươi tám năm. Khi Chúa Giêsu thấy người ấy nằm đó và biết anh đã đau từ lâu\, liền hỏi: “Anh muốn được lành bệnh không?” Người đó thưa: “Thưa Ngài\, tôi không được ai đem xuống hồ\, mỗi khi nước động. Khi tôi lết tới\, thì có người xuống trước tôi rồi”. Chúa Giêsu nói: “Anh hãy đứng dậy vác chõng mà về”. Tức khắc người ấy được lành bệnh. Anh ta vác chõng và đi. Nhưng hôm đó lại là ngày Sabbat\, nên người Do-thái bảo người vừa được khỏi bệnh rằng: “Hôm nay là ngày Sabbat\, anh không được phép vác chõng”. Anh ta trả lời: “Chính người chữa tôi lành bệnh bảo tôi: “Vác chõng mà đi”. Họ hỏi: “Ai là người đã bảo anh ‘Vác chõng mà đi’?” Nhưng kẻ đã được chữa lành không biết Người là ai\, vì Chúa Giêsu đã lánh vào đám đông tụ tập nơi đó. \nSau đó\, Chúa Giêsu gặp anh ta trong đền thờ\, Người nói: “Này\, anh đã được lành bệnh\, đừng phạm tội nữa\, kẻo phải khốn khổ hơn trước”. Anh ta đi nói cho người Do-thái biết chính Chúa Giêsu là người đã chữa anh ta lành bệnh. \nVì thế người Do-thái gây sự với Chúa Giêsu\, vì Người đã làm như thế trong ngày Sabbat. \nĐó là lời Chúa.
URL:https://dongchuacuuthe.us/calendar/thu-ba-tuan-iv-mua-chay-2/
END:VEVENT
END:VCALENDAR