BEGIN:VCALENDAR
VERSION:2.0
PRODID:-//Dòng Chúa Cứu Thế Hải Ngoại - ECPv6.15.20//NONSGML v1.0//EN
CALSCALE:GREGORIAN
METHOD:PUBLISH
X-WR-CALNAME:Dòng Chúa Cứu Thế Hải Ngoại
X-ORIGINAL-URL:https://dongchuacuuthe.us
X-WR-CALDESC:Events for Dòng Chúa Cứu Thế Hải Ngoại
REFRESH-INTERVAL;VALUE=DURATION:PT1H
X-Robots-Tag:noindex
X-PUBLISHED-TTL:PT1H
BEGIN:VTIMEZONE
TZID:America/Los_Angeles
BEGIN:DAYLIGHT
TZOFFSETFROM:-0800
TZOFFSETTO:-0700
TZNAME:PDT
DTSTART:20250309T100000
END:DAYLIGHT
BEGIN:STANDARD
TZOFFSETFROM:-0700
TZOFFSETTO:-0800
TZNAME:PST
DTSTART:20251102T090000
END:STANDARD
BEGIN:DAYLIGHT
TZOFFSETFROM:-0800
TZOFFSETTO:-0700
TZNAME:PDT
DTSTART:20260308T100000
END:DAYLIGHT
BEGIN:STANDARD
TZOFFSETFROM:-0700
TZOFFSETTO:-0800
TZNAME:PST
DTSTART:20261101T090000
END:STANDARD
BEGIN:DAYLIGHT
TZOFFSETFROM:-0800
TZOFFSETTO:-0700
TZNAME:PDT
DTSTART:20270314T100000
END:DAYLIGHT
BEGIN:STANDARD
TZOFFSETFROM:-0700
TZOFFSETTO:-0800
TZNAME:PST
DTSTART:20271107T090000
END:STANDARD
END:VTIMEZONE
BEGIN:VEVENT
DTSTART;VALUE=DATE:20260314
DTEND;VALUE=DATE:20260315
DTSTAMP:20260423T094604
CREATED:20260303T071528Z
LAST-MODIFIED:20260303T071528Z
UID:13861-1773446400-1773532799@dongchuacuuthe.us
SUMMARY:Thứ Bảy Tuần III Mùa Chay
DESCRIPTION:BÀI ĐỌC I: Hs 6\, 1b-6\n“Ta muốn tình yêu\, chớ không muốn hy lễ”. \nTrích sách Tiên tri Hôsê. \nĐây Chúa phán: Trong cảnh khốn khổ\, từ ban mai\, họ chỗi dậy chạy tìm kiếm Ta. “Hãy đến\, và chúng ta quay trở về với Chúa\, vì Chúa bắt chúng ta\, rồi sẽ tha chúng ta; Chúa đánh chúng ta\, rồi sẽ lại chữa chúng ta. Sau hai ngày Người cho chúng ta sống lại\, đến ngày thứ ba\, Người đỡ chúng ta đứng lên\, và chúng ta sẽ sống trước mặt Người. Chúng ta hãy nhận biết Chúa và hãy ra sức nhận biết Chúa. Người sẵn sàng xuất hiện như vừng đông\, và sẽ đến cùng chúng ta như mưa thuận và như mưa xuân trên mặt đất”. \nHỡi Ephraim\, Ta sẽ làm gì cho ngươi? Hỡi Giuđa\, Ta sẽ làm gì cho ngươi? Tình thương các ngươi như đám mây ban sáng\, như sương sớm tan đi. Vì thế\, Ta dùng các tiên tri nghiêm trị chúng\, và Ta dùng lời từ miệng Ta phán ra mà giết chúng. Án phạt các ngươi bừng lên như ánh sáng. Vì chưng\, Ta muốn tình yêu\, chớ không muốn hy lễ. Ta muốn sự hiểu biết Thiên Chúa hơn là của lễ toàn thiêu. Đó là lời Chúa. \nĐÁP CA: Tv 50\, 3-4. 18-19. 20-21ab\nĐáp: Ta muốn tình yêu\, chớ không muốn hy lễ (Hs 6\, 6). \nXướng: 1) Lạy Chúa\, nguyện thương con theo lòng nhân hậu Chúa\, xoá tội con theo lượng cả đức từ bi. Xin rửa con tuyệt gốc lỗi lầm\, và tẩy con sạch lâng tội ác. – Đáp. \n2) Bởi vì Chúa chẳng ưa gì sinh lễ\, nếu con dâng lễ toàn thiêu Chúa sẽ không ưng. Của lễ con dâng\, lạy Chúa\, là tâm hồn tan nát\, lạy Chúa\, xin đừng chê tấm lòng tan nát\, khiêm cung. – Đáp. \n3) Lạy Chúa\, xin thịnh tình với Sion theo lòng nhân hậu\, hầu xây lại thành trì của Giêrusalem. Bấy giờ Chúa con sẽ nhận những lễ vật chính đáng\, những hy sinh với lễ toàn thiêu. – Đáp. \nCÂU XƯỚNG TRƯỚC PHÚC ÂM: Ga 8\, 12b\nChúa phán: “Ta là sự sáng thế gian\, ai theo Ta\, sẽ được ánh sáng ban sự sống”. \nPHÚC ÂM: Lc 18\, 9-14\n“Người thu thuế ra về được khỏi tội”. \nTin Mừng Chúa Giêsu Kitô theo thánh Luca. \nKhi ấy\, Chúa Giêsu nói dụ ngôn sau đây với những người hay tự hào mình là người công chính và hay khinh bỉ kẻ khác: “Có hai người lên đền thờ cầu nguyện\, một người biệt phái\, một người thu thuế. Người biệt phái đứng thẳng\, cầu nguyện rằng: ‘Lạy Chúa\, tôi cảm tạ Chúa vì tôi không như các người khác: tham lam\, bất công\, ngoại tình\, hay là như tên thu thuế kia; tôi ăn chay mỗi tuần hai lần\, và dâng một phần mười tất cả các hoa lợi của tôi’. Người thu thuế đứng xa xa\, không dám ngước mắt lên trời\, đấm ngực mà nguyện rằng: ‘Lạy Chúa\, xin thương xót con là kẻ có tội’. Ta bảo các ngươi: người này ra về được khỏi tội\, còn người kia thì không. Vì tất cả những ai tự nâng mình lên\, sẽ bị hạ xuống; và ai hạ mình xuống\, sẽ được nâng lên”. \nĐó là lời Chúa.
URL:https://dongchuacuuthe.us/calendar/thu-bay-tuan-iii-mua-chay-3/
END:VEVENT
END:VCALENDAR