BEGIN:VCALENDAR
VERSION:2.0
PRODID:-//Dòng Chúa Cứu Thế Hải Ngoại - ECPv6.15.20//NONSGML v1.0//EN
CALSCALE:GREGORIAN
METHOD:PUBLISH
X-ORIGINAL-URL:https://dongchuacuuthe.us
X-WR-CALDESC:Events for Dòng Chúa Cứu Thế Hải Ngoại
REFRESH-INTERVAL;VALUE=DURATION:PT1H
X-Robots-Tag:noindex
X-PUBLISHED-TTL:PT1H
BEGIN:VTIMEZONE
TZID:America/Los_Angeles
BEGIN:DAYLIGHT
TZOFFSETFROM:-0800
TZOFFSETTO:-0700
TZNAME:PDT
DTSTART:20250309T100000
END:DAYLIGHT
BEGIN:STANDARD
TZOFFSETFROM:-0700
TZOFFSETTO:-0800
TZNAME:PST
DTSTART:20251102T090000
END:STANDARD
BEGIN:DAYLIGHT
TZOFFSETFROM:-0800
TZOFFSETTO:-0700
TZNAME:PDT
DTSTART:20260308T100000
END:DAYLIGHT
BEGIN:STANDARD
TZOFFSETFROM:-0700
TZOFFSETTO:-0800
TZNAME:PST
DTSTART:20261101T090000
END:STANDARD
BEGIN:DAYLIGHT
TZOFFSETFROM:-0800
TZOFFSETTO:-0700
TZNAME:PDT
DTSTART:20270314T100000
END:DAYLIGHT
BEGIN:STANDARD
TZOFFSETFROM:-0700
TZOFFSETTO:-0800
TZNAME:PST
DTSTART:20271107T090000
END:STANDARD
END:VTIMEZONE
BEGIN:VEVENT
DTSTART;VALUE=DATE:20260313
DTEND;VALUE=DATE:20260314
DTSTAMP:20260423T094713
CREATED:20260303T071508Z
LAST-MODIFIED:20260303T071508Z
UID:13859-1773360000-1773446399@dongchuacuuthe.us
SUMMARY:Thứ Sáu Tuần III Mùa Chay
DESCRIPTION:BÀI ĐỌC I: Hs 14\, 2-10\n“Chúng tôi sẽ không còn nói rằng: Thần minh chúng tôi là sản phẩm do tay chúng tôi làm ra”. \nTrích sách Tiên tri Hôsê. \nĐây Chúa phán: Hỡi Israel\, hãy trở về với Chúa là Thiên Chúa ngươi\, vì ngươi đã gục ngã trong đường tội ác. Các ngươi hãy mang lấy lời Chúa và trở về với Chúa; các ngươi hãy thưa rằng: “Xin hãy xoá bỏ mọi tội ác\, và nhận điều lành. Chúng tôi dâng lên Chúa của lễ ca tụng. Asurô sẽ không giải thoát chúng tôi\, chúng tôi sẽ không cỡi ngựa và sẽ không còn nói rằng: Thần minh chúng tôi là sản phẩm do tay chúng tôi làm ra\, vì nơi Chúa\, kẻ mồ côi tìm được sự thương xót”. \nTa sẽ chữa sự bất trung của họ và hết lòng yêu thương họ\, vì Ta đã nguôi giận họ. Ta sẽ như sương sa\, Israel sẽ mọc lên như bông huệ và đâm rễ như chân núi Liban. Các nhánh của nó sẽ sum sê\, vẻ xinh tươi của nó như cây ô-liu và hương thơm của nó như hương thơm núi Liban. Thiên hạ sẽ đến ngồi núp dưới bóng mát của nó\, họ sống bằng lúa mì và lớn lên như cây nho. Nó sẽ được lừng danh như rượu Liban. \nHỡi Ephraim\, tượng thần giúp ích gì cho ngươi không? Chính Ta sẽ nhậm lời và săn sóc ngươi\, cho ngươi mọc lên như cây hương nam xinh tươi. Nhờ Ta\, ngươi sẽ sinh hoa kết quả. \nAi là người khôn ngoan hiểu được các việc này\, ai là người sáng suốt biết được các việc đó? Vì chưng đường lối của Chúa là đường ngay thẳng và những người công chính sẽ đi trên đó\, còn các người gian ác sẽ gục ngã trên đó”. Đó là lời Chúa. \nĐÁP CA: Tv 80\, 6c-8a. 8bc-9. 10-11ab. 14 và 17\nĐáp: Ta là Chúa\, là Thiên Chúa của ngươi\, hãy nghe Ta răn bảo (x. c. 11 và 9a). \nXướng: 1) Tôi đã nghe lời nói mới lạ rằng: Ta đã cứu vai ngươi khỏi mang gánh nặng\, tay ngươi không còn phải mang thúng mủng. Trong cảnh gian truân ngươi cầu cứu\, và Ta giải thoát ngươi. – Đáp. \n2) Ta đáp lời ngươi từ trong áng mây vang ran sấm sét\, Ta thử thách ngươi gần suối nước Mêriba. Hỡi dân tộc Ta\, hãy nghe Ta răn bảo\, Israel\, ước chi ngươi biết nghe lời Ta! – Đáp. \n3) Ở nơi ngươi đừng có một chúa tể nào khác cả\, ngươi cũng đừng thờ tự một chúa tể ngoại lai: vì Ta là Chúa\, là Thiên Chúa của ngươi\, Ta đã đưa ngươi ra khỏi Ai-cập. – Đáp. \n4) Phải chi dân của Ta biết nghe lời Ta\, Israel biết theo đường lối Ta mà ăn ở: Ta sẽ lấy tinh hoa lúa mì nuôi dưỡng chúng\, và cho chúng ăn no mật từ hốc đá chảy ra. – Đáp. \nCÂU XƯỚNG TRƯỚC PHÚC ÂM:\nPhúc cho những ai thành tâm thiện chí giữ lấy lời Chúa\, và nhẫn nại sinh hoa kết quả. \nPHÚC ÂM: Mc 12\, 28b-34\n“Thiên Chúa của ngươi là Thiên Chúa duy nhất\, và ngươi hãy kính mến Người”. \nTin Mừng Chúa Giêsu Kitô theo thánh Marcô. \nKhi ấy\, có người trong nhóm Luật sĩ tiến đến Chúa Giêsu và hỏi Người rằng: “Trong các giới răn\, điều nào trọng nhất?” \nChúa Giêsu đáp: “Giới răn trọng nhất chính là: ‘Hỡi Israel\, hãy nghe đây: Thiên Chúa\, Chúa chúng ta\, là Chúa duy nhất\, và ngươi hãy yêu mến Thiên Chúa ngươi hết lòng\, hết linh hồn\, hết trí khôn và hết sức ngươi’. Còn đây là giới răn thứ hai: ‘Ngươi hãy yêu mến tha nhân như chính mình ngươi’. Không có giới răn nào trọng hơn hai giới răn đó”. Luật sĩ thưa Ngài: “Thưa Thầy\, đúng lắm! Thầy dạy phải lẽ khi nói Thiên Chúa là Chúa duy nhất và ngoài Người\, chẳng có Chúa nào khác nữa. Mến Chúa hết lòng\, hết trí khôn\, hết sức mình\, và yêu tha nhân như chính mình thì hơn mọi lễ vật toàn thiêu và mọi lễ vật hy sinh”. Thấy người ấy tỏ ý kiến khôn ngoan\, Chúa Giêsu bảo: “Ông không còn xa Nước Thiên Chúa bao nhiêu”. Và không ai dám hỏi Người thêm điều gì nữa. \nĐó là lời Chúa.
URL:https://dongchuacuuthe.us/calendar/thu-sau-tuan-iii-mua-chay-3/
END:VEVENT
END:VCALENDAR