BEGIN:VCALENDAR
VERSION:2.0
PRODID:-//Dòng Chúa Cứu Thế Hải Ngoại - ECPv6.15.20//NONSGML v1.0//EN
CALSCALE:GREGORIAN
METHOD:PUBLISH
X-WR-CALNAME:Dòng Chúa Cứu Thế Hải Ngoại
X-ORIGINAL-URL:https://dongchuacuuthe.us
X-WR-CALDESC:Events for Dòng Chúa Cứu Thế Hải Ngoại
REFRESH-INTERVAL;VALUE=DURATION:PT1H
X-Robots-Tag:noindex
X-PUBLISHED-TTL:PT1H
BEGIN:VTIMEZONE
TZID:America/Los_Angeles
BEGIN:DAYLIGHT
TZOFFSETFROM:-0800
TZOFFSETTO:-0700
TZNAME:PDT
DTSTART:20250309T100000
END:DAYLIGHT
BEGIN:STANDARD
TZOFFSETFROM:-0700
TZOFFSETTO:-0800
TZNAME:PST
DTSTART:20251102T090000
END:STANDARD
BEGIN:DAYLIGHT
TZOFFSETFROM:-0800
TZOFFSETTO:-0700
TZNAME:PDT
DTSTART:20260308T100000
END:DAYLIGHT
BEGIN:STANDARD
TZOFFSETFROM:-0700
TZOFFSETTO:-0800
TZNAME:PST
DTSTART:20261101T090000
END:STANDARD
BEGIN:DAYLIGHT
TZOFFSETFROM:-0800
TZOFFSETTO:-0700
TZNAME:PDT
DTSTART:20270314T100000
END:DAYLIGHT
BEGIN:STANDARD
TZOFFSETFROM:-0700
TZOFFSETTO:-0800
TZNAME:PST
DTSTART:20271107T090000
END:STANDARD
END:VTIMEZONE
BEGIN:VEVENT
DTSTART;VALUE=DATE:20260312
DTEND;VALUE=DATE:20260313
DTSTAMP:20260423T094657
CREATED:20260303T071437Z
LAST-MODIFIED:20260303T071437Z
UID:13857-1773273600-1773359999@dongchuacuuthe.us
SUMMARY:Thứ Năm Tuần III Mùa Chay
DESCRIPTION:BÀI ĐỌC I: Gr 7\, 23-28\n“Này là dân không chịu nghe lời Chúa là Thiên Chúa của họ”. \nTrích sách Tiên tri Giêrêmia. \nĐây Chúa phán: Ta truyền cho họ lời này: Các ngươi hãy nghe lời Ta\, thì Ta sẽ là Thiên Chúa các ngươi\, và các ngươi sẽ là dân Ta. Các ngươi hãy đi trong mọi đường lối mà Ta truyền dạy cho các ngươi\, để các ngươi được hạnh phúc. \nNhưng họ không nghe\, họ không chịu lắng tai\, họ vẫn chạy theo ý định và lòng xấu xa của họ\, họ đã ngoảnh mặt đi chứ không nhìn Ta. Từ ngày cha ông họ ra khỏi đất Ai-cập cho đến ngày nay\, ngay từ sáng sớm\, Ta lần lượt sai các tiên tri tôi tớ của Ta đến với họ\, nhưng họ không nghe Ta\, không chịu lắng tai nghe. Họ tỏ ra cứng đầu cứng cổ\, và còn sống tệ hơn cha ông họ! Ngươi có nói cho họ biết tất cả các điều ấy\, thì họ sẽ không nghe ngươi đâu; Vậy ngươi hãy nói cho họ biết: Này là dân không chịu nghe lời Chúa là Thiên Chúa của họ\, không chấp nhận kỷ luật\, lòng trung tín đã mất và miệng họ không còn nhắc đến nữa. Đó là lời Chúa. \nĐÁP CA: Tv 94\, 1-2. 6-7. 8-9\nĐáp: Ước chi hôm nay các bạn nghe tiếng Người: Các bạn đừng cứng lòng(c. 8). \nXướng: 1) Hãy tới\, chúng ta hãy reo mừng Chúa\, hãy hoan hô Đá Tảng cứu độ của ta! Hãy ra trước thiên nhan với lời ca ngợi; chúng ta hãy xướng ca để hoan hô Người. – Đáp. \n2) Hãy tiến lên\, cúc cung bái và sụp lạy; hãy quỳ gối trước nhan Chúa\, Đấng tạo thành ta. Vì chính Người là Thiên Chúa của ta\, và ta là dân Người chăn dẫn\, là đoàn chiên thuộc ở tay Người. – Đáp. \n3) Ước chi hôm nay các bạn nghe tiếng Người: “Đừng cứng lòng như ở Mêriba\, như hôm ở Massa trong khu rừng vắng\, nơi mà cha ông các ngươi đã thử thách Ta\, họ đã thử Ta mặc dầu đã thấy công cuộc của Ta”. – Đáp. \nCÂU XƯỚNG TRƯỚC PHÚC ÂM: 2 Cr 6\, 2\nĐây là lúc thuận tiện\, đây là ngày cứu độ. \nPHÚC ÂM: Lc 11\, 14-23\n“Ai không thuận với Ta là nghịch cùng Ta”. \nTin Mừng Chúa Giêsu Kitô theo thánh Luca. \nKhi ấy\, Chúa Giêsu trừ một quỷ câm. Khi quỷ ra khỏi\, người câm liền nói được và dân chúng đều bỡ ngỡ. Nhưng có mấy người trong bọn họ nói rằng: “Ông ta nhờ tướng quỷ Bêelgiêbút mà trừ quỷ”. Mấy kẻ khác muốn thử Người\, nên xin Người một dấu lạ từ trời xuống. Nhưng Người biết ý của họ\, liền phán: \n“Nước nào tự chia rẽ\, sẽ diệt vong\, và nhà cửa sẽ sụp đổ chồng chất lên nhau. Vậy nếu Satan cũng tự chia rẽ\, thì nước nó làm sao đứng vững được? Bởi các ngươi bảo Ta nhờ Bêelgiêbút mà trừ quỷ\, vậy nếu Ta nhờ Bêelgiêbút mà trừ quỷ\, thì con cái các ngươi nhờ ai mà trừ? Bởi đó\, chính con cái các ngươi sẽ xét xử các ngươi. Nhưng nếu Ta nhờ ngón tay Thiên Chúa mà trừ quỷ\, ắt là nước Thiên Chúa đã đến giữa các ngươi rồi. \n“Khi có người khoẻ mạnh và võ trang đầy đủ canh giữ nhà mình\, thì của cải người đó được an toàn; nhưng nếu có người mạnh hơn xông đến đánh bại hắn\, thì sẽ tước hết khí giới hắn tin tưởng\, và làm tiêu tan hết những gì đã tước đoạt. Ai không thuận với Ta là nghịch cùng Ta\, và ai không thu góp với Ta là phân tán”. \nĐó là lời Chúa.
URL:https://dongchuacuuthe.us/calendar/thu-nam-tuan-iii-mua-chay-3/
END:VEVENT
END:VCALENDAR