BEGIN:VCALENDAR
VERSION:2.0
PRODID:-//Dòng Chúa Cứu Thế Hải Ngoại - ECPv6.15.20//NONSGML v1.0//EN
CALSCALE:GREGORIAN
METHOD:PUBLISH
X-WR-CALNAME:Dòng Chúa Cứu Thế Hải Ngoại
X-ORIGINAL-URL:https://dongchuacuuthe.us
X-WR-CALDESC:Events for Dòng Chúa Cứu Thế Hải Ngoại
REFRESH-INTERVAL;VALUE=DURATION:PT1H
X-Robots-Tag:noindex
X-PUBLISHED-TTL:PT1H
BEGIN:VTIMEZONE
TZID:America/Los_Angeles
BEGIN:DAYLIGHT
TZOFFSETFROM:-0800
TZOFFSETTO:-0700
TZNAME:PDT
DTSTART:20250309T100000
END:DAYLIGHT
BEGIN:STANDARD
TZOFFSETFROM:-0700
TZOFFSETTO:-0800
TZNAME:PST
DTSTART:20251102T090000
END:STANDARD
BEGIN:DAYLIGHT
TZOFFSETFROM:-0800
TZOFFSETTO:-0700
TZNAME:PDT
DTSTART:20260308T100000
END:DAYLIGHT
BEGIN:STANDARD
TZOFFSETFROM:-0700
TZOFFSETTO:-0800
TZNAME:PST
DTSTART:20261101T090000
END:STANDARD
BEGIN:DAYLIGHT
TZOFFSETFROM:-0800
TZOFFSETTO:-0700
TZNAME:PDT
DTSTART:20270314T100000
END:DAYLIGHT
BEGIN:STANDARD
TZOFFSETFROM:-0700
TZOFFSETTO:-0800
TZNAME:PST
DTSTART:20271107T090000
END:STANDARD
END:VTIMEZONE
BEGIN:VEVENT
DTSTART;VALUE=DATE:20260303
DTEND;VALUE=DATE:20260304
DTSTAMP:20260423T094657
CREATED:20260303T070807Z
LAST-MODIFIED:20260303T070807Z
UID:13833-1772496000-1772582399@dongchuacuuthe.us
SUMMARY:Thứ Ba tuần 2 mùa chay
DESCRIPTION:BÀI ĐỌC I: Is 1\, 10. 16-20\n“Các ngươi hãy học làm điều lành và tìm kiếm công lý”. \nTrích sách Tiên tri Isaia. \nHỡi các Thủ lãnh thành Sôđôma\, hãy nghe lời Chúa; hỡi dân thành Gômôra\, hãy lắng nghe lề luật của Thiên Chúa chúng ta. Các ngươi hãy tắm rửa\, hãy thanh tẩy\, đừng làm điều xấu nữa\, hãy làm điều lành; hãy tìm kiếm công lý\, hãy cứu giúp kẻ bị áp bức\, hãy xét xử công bằng cho những trẻ mồ côi và bênh vực người goá bụa. \nVà Chúa phán: “Các ngươi hãy đến và đối chất với Ta: cho dầu tội lỗi các ngươi như màu đỏ thắm\, cũng sẽ trở nên trắng như tuyết; cho dầu đỏ như vải điều\, cũng sẽ trở nên trắng như len. Nếu các ngươi quyết tâm nghe Ta\, các ngươi sẽ hưởng hoa màu ruộng đất; nhưng nếu các ngươi cố chấp không nghe và khiêu khích Ta\, thì lưỡi gươm sẽ tiêu diệt các ngươi\, vì miệng Chúa phán như thế”. Đó là lời Chúa. \nĐÁP CA: Tv 49\, 8-9. 16bc-17. 21 và 23\nĐáp: Ai đi đường ngay thẳng\, Ta chỉ cho thấy ơn Thiên Chúa cứu độ (c. 23b). \nXướng: 1) Ta không khiển trách ngươi về chuyện dâng lễ vật\, vì lễ toàn thiêu của ngươi đặt ở trước mặt Ta luôn. Ta không nhận từ nhà ngươi một con bò non\, cũng không nhận từ đoàn chiên ngươi những con dê đực. – Đáp. \n2) Tại sao ngươi ưa kể ra những điều huấn lệnh\, và miệng ngươi thường nói về minh ước của Ta\, ngươi là kẻ không ưa lời giáo huấn\, và ném bỏ lời Ta lại sau lưng? – Đáp. \n3) Ngươi làm thế\, mà Ta đành yên lặng? Ngươi đã tưởng rằng Ta giống như ngươi? Ta sẽ bắt lỗi\, sẽ phơi bày trước mặt ngươi tất cả. Ai hiến dâng lời khen ngợi\, người đó trọng kính Ta; ai đi đường ngay thẳng\, Ta chỉ cho thấy ơn Thiên Chúa cứu độ. – Đáp. \nCÂU XƯỚNG TRƯỚC PHÚC ÂM: Ga 6\, 64b và 69b\nLạy Chúa\, lời của Chúa là thần trí và là sự sống; Chúa có những lời ban sự sống đời đời. \nPHÚC ÂM: Mt 23\, 1-12\n“Họ nói mà không làm”. \nTin Mừng Chúa Giêsu Kitô theo Thánh Matthêu. \nKhi ấy\, Chúa Giêsu phán cùng dân chúng và các môn đệ rằng: “Các Luật sĩ và các người biệt phái ngồi trên toà Môsê: vậy những gì họ nói với các ngươi\, hãy làm và tuân giữ\, nhưng đừng noi theo hành vi của họ\, vì họ nói mà không làm. Họ buộc những bó nặng và chất lên vai người ta\, còn chính họ lại không muốn giơ ngón tay lay thử. Mọi công việc họ làm đều có ý cho người ta thấy\, vì thế họ nới rộng thẻ Kinh\, may dài tua áo. Họ muốn được chỗ nhất trong đám tiệc và ghế đầu trong hội đường\, ưa được bái chào nơi đường phố và được người ta xưng hô là “thầy”. Phần các ngươi\, các ngươi đừng muốn được người ta gọi là thầy\, vì các ngươi chỉ có một Thầy\, còn tất cả các ngươi đều là anh em với nhau. Và các ngươi cũng đừng gọi ai dưới đất là cha\, vì các ngươi chỉ có một Cha\, Người ngự trên trời. Các ngươi cũng đừng bắt người ta gọi là người chỉ đạo\, vì các ngươi có một người chỉ đạo\, đó là Đức Kitô. Trong các ngươi ai quyền thế hơn sẽ là người phục vụ các ngươi. Hễ ai tự nhắc mình lên\, sẽ bị hạ xuống\, và ai tự hạ mình xuống\, sẽ được nâng lên”. \nĐó là lời Chúa.
URL:https://dongchuacuuthe.us/calendar/thu-ba-tuan-2-mua-chay-2/
END:VEVENT
END:VCALENDAR