BEGIN:VCALENDAR
VERSION:2.0
PRODID:-//Dòng Chúa Cứu Thế Hải Ngoại - ECPv6.15.20//NONSGML v1.0//EN
CALSCALE:GREGORIAN
METHOD:PUBLISH
X-ORIGINAL-URL:https://dongchuacuuthe.us
X-WR-CALDESC:Events for Dòng Chúa Cứu Thế Hải Ngoại
REFRESH-INTERVAL;VALUE=DURATION:PT1H
X-Robots-Tag:noindex
X-PUBLISHED-TTL:PT1H
BEGIN:VTIMEZONE
TZID:America/Los_Angeles
BEGIN:DAYLIGHT
TZOFFSETFROM:-0800
TZOFFSETTO:-0700
TZNAME:PDT
DTSTART:20250309T100000
END:DAYLIGHT
BEGIN:STANDARD
TZOFFSETFROM:-0700
TZOFFSETTO:-0800
TZNAME:PST
DTSTART:20251102T090000
END:STANDARD
BEGIN:DAYLIGHT
TZOFFSETFROM:-0800
TZOFFSETTO:-0700
TZNAME:PDT
DTSTART:20260308T100000
END:DAYLIGHT
BEGIN:STANDARD
TZOFFSETFROM:-0700
TZOFFSETTO:-0800
TZNAME:PST
DTSTART:20261101T090000
END:STANDARD
BEGIN:DAYLIGHT
TZOFFSETFROM:-0800
TZOFFSETTO:-0700
TZNAME:PDT
DTSTART:20270314T100000
END:DAYLIGHT
BEGIN:STANDARD
TZOFFSETFROM:-0700
TZOFFSETTO:-0800
TZNAME:PST
DTSTART:20271107T090000
END:STANDARD
END:VTIMEZONE
BEGIN:VEVENT
DTSTART;VALUE=DATE:20260227
DTEND;VALUE=DATE:20260228
DTSTAMP:20260423T111642
CREATED:20260212T004141Z
LAST-MODIFIED:20260212T004141Z
UID:13748-1772150400-1772236799@dongchuacuuthe.us
SUMMARY:Thứ Sáu Tuần I Mùa Chay
DESCRIPTION:BÀI ĐỌC I: Ed 18\, 21-28\n“Có phải Ta muốn kẻ gian ác phải chết\, chớ không muốn nó bỏ đàng tội lỗi và được sống ư?” \nTrích sách Tiên tri Êdêkiel. \nĐây Chúa là Thiên Chúa phán: “Nếu kẻ gian ác ăn năn sám hối mọi tội nó đã phạm\, tuân giữ mọi giới răn của Ta\, và thực thi công bình chính trực\, nó sẽ sống chớ không phải chết. Ta sẽ không nhớ lại mọi tội ác nó đã phạm: nó sẽ sống nhờ việc công chính mà nó đã thực hành! Chúa là Thiên Chúa phán: “Có phải Ta muốn kẻ gian ác phải chết\, chớ không muốn nó bỏ đàng tội lỗi và được sống ư? \nCòn nếu kẻ công chính bỏ đàng công chính\, và phạm tội ác cách ghê tởm như người gian ác quen phạm\, có phải nó được sống ư? Chẳng ai còn nhớ đến mọi việc công chính nó đã thực hiện\, vì sự bất trung nó đã làm và tội lỗi nó đã phạm\, nó sẽ phải chết. \nCác ngươi nói rằng: ‘Đường lối của Chúa không chính trực’. Vậy hỡi nhà Israel\, hãy nghe đây: Có phải đường lối của Ta không chính trực ư? Hay trái lại đường lối của các ngươi không chính trực? Khi người công chính từ bỏ lẽ công chính và phạm tội ác\, nó phải chết\, chính vì tội ác nó phạm mà nó phải chết. Nếu kẻ gian ác bỏ đàng gian ác nó đã đi\, và thực thi công bình chính trực\, nó sẽ được sống. Nếu nó suy nghĩ và từ bỏ mọi tội ác nó đã phạm\, nó sẽ sống chớ không phải chết”. Đó là lời Chúa. \nĐÁP CA: Tv 130\, 1-2. 3-4ab. 4c-6. 7-8\nĐáp: Nếu Chúa con nhớ hoài sự lỗi\, lạy Chúa\, nào ai chịu nổi được ư? (c. 3) \nXướng: 1) Từ vực sâu\, lạy Chúa\, con kêu lên Chúa. Lạy Chúa\, xin nghe tiếng con cầu; dám xin Chúa hãy lắng tai\, hầu nghe thấu tiếng van nài của con. – Đáp. \n2) Nếu Chúa con nhớ hoài sự lỗi\, lạy Chúa\, nào ai chịu nổi được ư? Nhưng Chúa thường rộng lượng thứ tha\, để cho thiên hạ tôn thờ kính yêu. – Đáp. \n3) Tôi hy vọng rất nhiều vào Chúa\, linh hồn tôi trông cậy ở lời Ngài. Linh hồn tôi mong đợi Chúa tôi\, hơn người lính gác mong trời rạng đông. – Đáp. \n4) Hơn lính gác mong hừng đông dậy\, Israel đang mong đợi Chúa tôi: Bởi vì Chúa rộng lượng từ bi\, và Chúa rất giàu ơn cứu độ. Và chính Ngài sẽ giải thoát Israel cho khỏi mọi điều gian ác. – Đáp. \nCÂU XƯỚNG TRƯỚC PHÚC ÂM: Ga 11\, 25a và 26\nChúa phán: “Ta là sự sống lại và là sự sống; ai tin Ta\, sẽ không chết đời đời”. \nPHÚC ÂM: Mt 5\, 20-26\n“Hãy đi làm hoà với người anh em ngươi trước đã”. \nTin Mừng Chúa Giêsu Kitô theo Thánh Matthêu. \nKhi ấy\, Chúa Giêsu phán cùng các môn đệ rằng: “Nếu các con không công chính hơn các luật sĩ và biệt phái\, thì các con chẳng được vào Nước Trời đâu. Các con đã nghe dạy người xưa rằng: Không được giết người. Ai giết người\, sẽ bị luận phạt nơi toà án. Còn Ta\, Ta bảo các con: Bất cứ ai phẫn nộ với anh em mình\, thì sẽ bị toà án luận phạt. Ai bảo anh em là “ngốc”\, thì bị phạt trước công nghị. Ai rủa anh em là “khùng”\, thì sẽ bị vạ lửa địa ngục. Nếu con đang dâng của lễ nơi bàn thờ mà sực nhớ người anh em đang có điều bất bình với con\, thì con hãy để của lễ lại trước bàn thờ\, đi làm hoà với người anh em con trước đã\, rồi hãy trở lại dâng của lễ. Hãy liệu làm hoà với kẻ thù ngay lúc còn đi dọc đường với nó\, kẻo kẻ thù sẽ đưa con ra trước mặt quan toà\, quan toà lại trao con cho tên lính canh và con sẽ bị tống ngục. Ta bảo thật cho con biết: Con sẽ không thoát khỏi nơi ấy cho đến khi trả hết đồng bạc cuối cùng!” \nĐó là lời Chúa.
URL:https://dongchuacuuthe.us/calendar/thu-sau-tuan-i-mua-chay-3/
END:VEVENT
END:VCALENDAR