BEGIN:VCALENDAR
VERSION:2.0
PRODID:-//Dòng Chúa Cứu Thế Hải Ngoại - ECPv6.15.20//NONSGML v1.0//EN
CALSCALE:GREGORIAN
METHOD:PUBLISH
X-ORIGINAL-URL:https://dongchuacuuthe.us
X-WR-CALDESC:Events for Dòng Chúa Cứu Thế Hải Ngoại
REFRESH-INTERVAL;VALUE=DURATION:PT1H
X-Robots-Tag:noindex
X-PUBLISHED-TTL:PT1H
BEGIN:VTIMEZONE
TZID:America/Los_Angeles
BEGIN:DAYLIGHT
TZOFFSETFROM:-0800
TZOFFSETTO:-0700
TZNAME:PDT
DTSTART:20250309T100000
END:DAYLIGHT
BEGIN:STANDARD
TZOFFSETFROM:-0700
TZOFFSETTO:-0800
TZNAME:PST
DTSTART:20251102T090000
END:STANDARD
BEGIN:DAYLIGHT
TZOFFSETFROM:-0800
TZOFFSETTO:-0700
TZNAME:PDT
DTSTART:20260308T100000
END:DAYLIGHT
BEGIN:STANDARD
TZOFFSETFROM:-0700
TZOFFSETTO:-0800
TZNAME:PST
DTSTART:20261101T090000
END:STANDARD
BEGIN:DAYLIGHT
TZOFFSETFROM:-0800
TZOFFSETTO:-0700
TZNAME:PDT
DTSTART:20270314T100000
END:DAYLIGHT
BEGIN:STANDARD
TZOFFSETFROM:-0700
TZOFFSETTO:-0800
TZNAME:PST
DTSTART:20271107T090000
END:STANDARD
END:VTIMEZONE
BEGIN:VEVENT
DTSTART;VALUE=DATE:20260226
DTEND;VALUE=DATE:20260227
DTSTAMP:20260423T111642
CREATED:20260212T004115Z
LAST-MODIFIED:20260212T004115Z
UID:13746-1772064000-1772150399@dongchuacuuthe.us
SUMMARY:Thứ Năm Tuần I Mùa Chay
DESCRIPTION:BÀI ĐỌC I: Est 14\, 1. 3-5. 12-14 (NV 4\, 17k. 17lm. 17r-t)\n“Lạy Chúa\, con không có sự trợ giúp nào khác ngoài Chúa”. \nTrích sách Esther. \nTrong những ngày ấy\, nữ hoàng Esther kinh hoàng vì lâm nguy\, nên tìm nương tựa nơi Chúa. Bà nài xin Chúa là Thiên Chúa Israel rằng: “Lạy Chúa con\, chỉ mình Chúa là Vua chúng con\, xin cứu giúp con đang sống cô độc\, ngoài Chúa không có ai khác giúp đỡ con. Con đang lâm cơn nguy biến. Lạy Chúa\, con nghe cha con nói rằng Chúa ưu đãi Israel hơn mọi dân tộc\, ưu đãi cha ông chúng con hơn bậc tiền bối của các ngài\, đã nhận các ngài làm phần cơ nghiệp muôn đời và đã thực thi lời hứa với các ngài. \n“Lạy Chúa\, xin hãy nhớ (đến chúng con) và hãy tỏ mình ra cho chúng con trong cơn gian truân của chúng con. Lạy Chúa là Vua các thần minh và mọi bậc quyền bính\, xin ban cho con lòng tin tưởng. Xin đặt trong miệng con những lời khôn khéo trước mặt sư tử\, xin Chúa đổi lòng sư tử để nó ghét kẻ thù của chúng con\, để kẻ thù ấy và những ai đồng loã với hắn sẽ phải chết. Nhưng phần chúng con\, thì xin Chúa ra tay giải thoát chúng con và phù trợ con\, vì lạy Chúa\, ngoài Chúa là Đấng thông suốt mọi sự\, không ai giúp đỡ con”. Đó là lời Chúa. \nĐÁP CA: Tv 137\, 1-2a. 2bc-3. 7c-8\nĐáp: Lạy Chúa\, khi con kêu cầu\, Chúa đã nhậm lời con (c. 3a). \nXướng: 1) Lạy Chúa\, con sẽ ca tụng Chúa hết lòng\, vì Chúa đã nghe lời miệng con xin; trước mặt các Thiên Thần\, con đàn ca mừng Chúa\, con sấp mình thờ lạy bên thánh điện Ngài. – Đáp. \n2) Và con sẽ ca tụng uy danh Chúa\, vì lòng nhân hậu và trung thành của Chúa. Khi con kêu cầu\, Chúa đã nhậm lời con\, Chúa đã ban cho tâm hồn con nhiều sức mạnh. – Đáp. \n3) Tay hữu Chúa khiến con được sống an lành. Chúa sẽ hoàn tất cho con những điều đã khởi sự\, lạy Chúa\, lòng nhân hậu Chúa tồn tại muôn đời\, xin đừng bỏ rơi công cuộc tay Chúa. – Đáp. \nCÂU XƯỚNG TRƯỚC PHÚC ÂM: Ga 11\, 25a và 26\nChúa phán: “Ta là sự sống lại và là sự sống; ai tin Ta\, sẽ không chết đời đời”. \nPHÚC ÂM: Mt 7\, 7-12\n“Ai xin thì sẽ nhận được”. \nTin Mừng Chúa Giêsu Kitô theo Thánh Matthêu. \nKhi ấy\, Chúa Giêsu phán cùng các môn đệ rằng: “Hãy xin thì sẽ được\, hãy tìm thì sẽ gặp\, hãy gõ cửa thì sẽ mở cho. Vì bất cứ ai xin thì sẽ nhận được\, ai tìm thì sẽ gặp\, ai gõ cửa sẽ mở cho. Nào ai trong các con thấy con mình xin bánh\, mà lại đưa cho nó hòn đá ư? Hay là nó xin con cá mà lại trao cho nó con rắn ư? Vậy nếu các con\, dù là kẻ xấu\, còn biết lấy của tốt mà cho con cái\, thì huống chi Cha các con\, Đấng ở trên trời\, sẽ ban những sự lành biết bao cho kẻ cầu khẩn Người! \n“Vậy tất cả những gì các con muốn người ta làm cho mình\, thì chính các con hãy làm cho người ta như thế: Đấy là điều mà Lề luật và các tiên tri dạy”. \nĐó là lời Chúa.
URL:https://dongchuacuuthe.us/calendar/thu-nam-tuan-i-mua-chay-3/
END:VEVENT
END:VCALENDAR