BEGIN:VCALENDAR
VERSION:2.0
PRODID:-//Dòng Chúa Cứu Thế Hải Ngoại - ECPv6.15.20//NONSGML v1.0//EN
CALSCALE:GREGORIAN
METHOD:PUBLISH
X-WR-CALNAME:Dòng Chúa Cứu Thế Hải Ngoại
X-ORIGINAL-URL:https://dongchuacuuthe.us
X-WR-CALDESC:Events for Dòng Chúa Cứu Thế Hải Ngoại
REFRESH-INTERVAL;VALUE=DURATION:PT1H
X-Robots-Tag:noindex
X-PUBLISHED-TTL:PT1H
BEGIN:VTIMEZONE
TZID:America/Los_Angeles
BEGIN:DAYLIGHT
TZOFFSETFROM:-0800
TZOFFSETTO:-0700
TZNAME:PDT
DTSTART:20250309T100000
END:DAYLIGHT
BEGIN:STANDARD
TZOFFSETFROM:-0700
TZOFFSETTO:-0800
TZNAME:PST
DTSTART:20251102T090000
END:STANDARD
BEGIN:DAYLIGHT
TZOFFSETFROM:-0800
TZOFFSETTO:-0700
TZNAME:PDT
DTSTART:20260308T100000
END:DAYLIGHT
BEGIN:STANDARD
TZOFFSETFROM:-0700
TZOFFSETTO:-0800
TZNAME:PST
DTSTART:20261101T090000
END:STANDARD
BEGIN:DAYLIGHT
TZOFFSETFROM:-0800
TZOFFSETTO:-0700
TZNAME:PDT
DTSTART:20270314T100000
END:DAYLIGHT
BEGIN:STANDARD
TZOFFSETFROM:-0700
TZOFFSETTO:-0800
TZNAME:PST
DTSTART:20271107T090000
END:STANDARD
END:VTIMEZONE
BEGIN:VEVENT
DTSTART;VALUE=DATE:20260223
DTEND;VALUE=DATE:20260224
DTSTAMP:20260423T111524
CREATED:20260212T003953Z
LAST-MODIFIED:20260212T003953Z
UID:13740-1771804800-1771891199@dongchuacuuthe.us
SUMMARY:Thứ Hai Tuần I Mùa Chay
DESCRIPTION:BÀI ĐỌC I: Lv 19\, 1-2. 11-18\n“Hãy xét đoán công minh đối với kẻ khác”. \nTrích sách Lêvi. \nChúa phán cùng Môsê rằng: “Ngươi hãy nói cho toàn thể cộng đồng con cái Israel: Các ngươi hãy nên thánh\, vì Ta là Đấng Thánh\, là Thiên Chúa các ngươi. Các ngươi đừng trộm cắp\, đừng nói dối\, đừng phỉnh gạt kẻ khác\, đừng lấy danh Ta mà thề dối\, và đừng xúc phạm danh Thiên Chúa các ngươi. Ta là Chúa. \nCác ngươi đừng nhục mạ kẻ khác và đừng hà hiếp họ. Đừng giam tiền công lại cho đến ngày mai. Đừng nguyền rủa người điếc\, đừng đặt trước kẻ mù vật gì có thể làm cho nó vấp ngã; nhưng các ngươi hãy kính sợ Chúa là Thiên Chúa các ngươi\, vì Ta là Chúa. \nĐừng làm điều bất công\, cũng đừng xét đoán bất công. Đừng thiên tư kẻ nghèo\, cũng đừng nể mặt người quyền thế. Hãy cứ công minh mà xét đoán kẻ khác. Đừng lăng mạ\, cũng đừng gièm pha kẻ khác. Đừng mưu sát ai. Ta là Chúa. \nĐừng giữ lòng thù ghét anh em\, nhưng hãy răn bảo họ công khai\, để khỏi mang tội vì họ. Đừng tìm báo oán\, đừng nhớ lại lời mắng nhiếc của kẻ đồng hương. Hãy yêu thương bạn hữu như chính mình. Ta là Chúa”. Đó là lời Chúa. \nĐÁP CA: Tv 18\, 8. 9. 10. 15\nĐáp: Lạy Chúa\, lời Chúa là thần trí và là sự sống (Ga 6\, 64b). \nXướng: 1) Luật pháp Chúa toàn thiện\, bồi bổ tâm linh; chỉ thị Chúa cố định\, phá ngu kẻ dốt. – Đáp. \n2) Giới răn Chúa chính trực\, làm hoan lạc tâm can; mệnh lệnh Chúa trong ngời\, sáng soi con mắt. – Đáp. \n3) Lòng tôn sợ Chúa thuần khiết\, còn mãi muôn đời; phán quyết của Chúa chân thật\, công minh hết thảy. – Đáp. \n4) Xin Chúa nhậm những lời miệng con công bố\, và sự lòng con suy gẫm trước thiên nhan\, lạy Chúa là Đá tảng\, là Đấng Cứu Chuộc con. – Đáp. \nCÂU XƯỚNG TRƯỚC PHÚC ÂM: Tv 50\, 12a và 14a\nÔi lạy Chúa\, xin tạo cho con quả tim trong sạch. Xin ban lại cho con niềm vui ơn cứu độ. \nPHÚC ÂM: Mt 25\, 31-46\n“Những gì các ngươi làm cho một trong các anh em bé mọn nhất của Ta đây\, là các ngươi đã làm cho chính Ta”. \nTin Mừng Chúa Giêsu Kitô theo Thánh Matthêu. \nKhi ấy\, Chúa Giêsu phán cùng các môn đệ rằng: “Khi Con Người đến trong vinh quang\, có hết thảy mọi thiên thần hầu cận\, Người sẽ ngự trên ngai uy linh của Người. Muôn dân sẽ được tập họp lại trước mặt Người\, và Người sẽ phân chia họ ra\, như mục tử tách chiên ra khỏi dê. Chiên thì Người cho đứng bên phải\, còn dê ở bên trái. Bấy giờ Vua sẽ phán với những người bên hữu rằng: ‘Hãy đến\, hỡi những kẻ Cha Ta chúc phúc\, hãy lãnh lấy phần gia nghiệp là Nước Trời đã chuẩn bị cho các ngươi từ khi tạo dựng vũ trụ. Vì xưa Ta đói\, các ngươi đã cho ăn; Ta khát\, các ngươi đã cho uống; Ta là khách lạ\, các ngươi đã tiếp rước; Ta mình trần\, các ngươi đã cho mặc; Ta đau yếu\, các ngươi đã viếng thăm; Ta bị tù đày\, các ngươi đã đến với Ta’. Khi ấy người lành đáp lại rằng: ‘Lạy Chúa\, có bao giờ chúng con thấy Chúa đói mà cho ăn\, khát mà cho uống; có bao giờ chúng con thấy Chúa là lữ khách mà tiếp rước\, mình trần mà cho mặc; có khi nào chúng con thấy Chúa yếu đau hay bị tù đày mà chúng con đến viếng Chúa đâu?’ Vua đáp lại: ‘Quả thật\, Ta bảo các ngươi: Những gì các ngươi đã làm cho một trong các anh em bé mọn nhất của Ta đây\, là các ngươi đã làm cho chính Ta’. \n“Rồi Người cũng sẽ nói với những kẻ bên trái rằng: ‘Hỡi phường bị chúc dữ\, hãy lui khỏi mặt Ta mà vào lửa muôn đời đã đốt sẵn cho ma quỷ và kẻ theo chúng. Vì xưa Ta đói\, các ngươi không cho ăn; Ta khát\, các ngươi không cho uống; Ta là khách lạ\, các ngươi chẳng tiếp rước; Ta mình trần\, các ngươi không cho đồ mặc; Ta đau yếu và ở tù\, các ngươi đâu có viếng thăm Ta!’ Bấy giờ họ cũng đáp lại rằng: ‘Lạy Chúa\, có bao giờ chúng con đã thấy Chúa đói khát\, khách lạ hay mình trần\, yếu đau hay ở tù\, mà chúng con chẳng giúp đỡ Chúa đâu?’ Khi ấy Người đáp lại: ‘Quả thật\, Ta bảo cho các ngươi biết\, những gì các ngươi đã không làm cho một trong các anh em bé mọn nhất của Ta đây\, là các ngươi đã không làm cho chính Ta’. Những kẻ ấy sẽ phải tống vào chốn cực hình muôn thuở\, còn các người lành thì được vào cõi sống ngàn thu”. \nĐó là lời Chúa.
URL:https://dongchuacuuthe.us/calendar/thu-hai-tuan-i-mua-chay-3/
END:VEVENT
END:VCALENDAR