BEGIN:VCALENDAR
VERSION:2.0
PRODID:-//Dòng Chúa Cứu Thế Hải Ngoại - ECPv6.15.20//NONSGML v1.0//EN
CALSCALE:GREGORIAN
METHOD:PUBLISH
X-ORIGINAL-URL:https://dongchuacuuthe.us
X-WR-CALDESC:Events for Dòng Chúa Cứu Thế Hải Ngoại
REFRESH-INTERVAL;VALUE=DURATION:PT1H
X-Robots-Tag:noindex
X-PUBLISHED-TTL:PT1H
BEGIN:VTIMEZONE
TZID:America/Los_Angeles
BEGIN:DAYLIGHT
TZOFFSETFROM:-0800
TZOFFSETTO:-0700
TZNAME:PDT
DTSTART:20250309T100000
END:DAYLIGHT
BEGIN:STANDARD
TZOFFSETFROM:-0700
TZOFFSETTO:-0800
TZNAME:PST
DTSTART:20251102T090000
END:STANDARD
BEGIN:DAYLIGHT
TZOFFSETFROM:-0800
TZOFFSETTO:-0700
TZNAME:PDT
DTSTART:20260308T100000
END:DAYLIGHT
BEGIN:STANDARD
TZOFFSETFROM:-0700
TZOFFSETTO:-0800
TZNAME:PST
DTSTART:20261101T090000
END:STANDARD
BEGIN:DAYLIGHT
TZOFFSETFROM:-0800
TZOFFSETTO:-0700
TZNAME:PDT
DTSTART:20270314T100000
END:DAYLIGHT
BEGIN:STANDARD
TZOFFSETFROM:-0700
TZOFFSETTO:-0800
TZNAME:PST
DTSTART:20271107T090000
END:STANDARD
END:VTIMEZONE
BEGIN:VEVENT
DTSTART;VALUE=DATE:20260215
DTEND;VALUE=DATE:20260216
DTSTAMP:20260423T111641
CREATED:20260120T034515Z
LAST-MODIFIED:20260120T034515Z
UID:13645-1771113600-1771199999@dongchuacuuthe.us
SUMMARY:CN VI Thường Niên
DESCRIPTION:BÀI ĐỌC I:  Hc 15\, 16-21 (Hl 15-20)  \n“Người không truyền dạy cho một ai làm điều gian ác”. \nTrích sách Huấn Ca.  \nNếu ngươi muốn tuân giữ các giới răn: việc trung thành giữ các giới răn là tuỳ ở ngươi. Người đặt trước mặt ngươi nước và lửa\, ngươi muốn cái gì\, thì giơ tay ra trên đó. Trước mặt con người là sự sống và sự chết\, sự lành và sự dữ\, họ thích thứ nào\, thì được thứ ấy. Bởi chưng\, Thiên Chúa đầy khôn ngoan\, hùng dũng và toàn năng\, Người luôn luôn nhìn thấy mọi loài. Chúa nhìn đến những kẻ kính sợ Người\, và thấu suốt mọi hành động của con người. Người không truyền dạy cho một ai làm điều gian ác\, và không cho phép một ai phạm tội. \nĐó là lời Chúa.  \n\nĐÁP CA:  Tv 118\, 1-2. 4-5. 17-18. 33-34. \nĐáp=Phước đức những ai tiến thân trong pháp luật của Chúa (c. 1b). \n1) Phước đức những ai theo đường lối tinh tuyền\, họ tiến thân trong pháp luật của Chúa. Phước đức những ai giữ lời Ngài nghiêm huấn\, những người đó tận tâm kiếm tìm Ngài.  \n2)Phần Chúa\, Ngài ban bố huấn lệnh\, cốt để người ta tuân giữ hết sức ân cần. Nguyện cho đường nẻo con vững chắc\, để tuân giữ các thánh chỉ của Ngài.  \n3)Xin gia ân cho tôi tớ Ngài được sống\, để tuân giữ những lời Ngài răn. Xin mở rộng tầm con mắt của con\, để quan chiêm những điều kỳ diệu trong luật Chúa.  \n4)Lạy Chúa\, xin dạy bảo con đường lối thánh chỉ Ngài\, để con tuân giữ cho bằng triệt để. Xin dạy con\, để con tuân theo luật pháp Ngài\, và để con hết lòng tuân giữ luật đó. \n\nBÀI ĐỌC II:  1 Cr 2\, 6-10 \n“Thiên Chúa đã tiền định từ trước muôn thuở\, để làm nên sự hiển vinh của chúng ta”. \nTrích thư thứ nhất của Thánh Phaolô Tông đồ gửi tín hữu Côrintô. \nAnh em thân mến\, chúng tôi có bàn giải sự khôn ngoan với những người toàn thiện\, mà đó không phải là sự khôn ngoan của thế gian\, cũng không phải của những bậc vua chúa thế trần\, hạng người đã bị dồn vào chỗ hư vong. Nhưng chúng tôi thuyết sự khôn ngoan đầy nhiệm mầu của Thiên Chúa vẫn được giấu kín\, mà Thiên Chúa đã tiền định từ trước muôn thuở để làm nên sự hiển vinh của chúng tôi. Sự khôn ngoan đó\, không một ai trong các vua chúa thế trần đã biết tới: vì giá thử nhận biết\, hẳn họ đã không đóng đinh Chúa sự hiển vinh. Nhưng chúng tôi rao giảng như lời đã chép: “Sự mắt chưa từng thấy\, tai chưa từng nghe\, và lòng người cũng chưa từng mơ ước tới\, đó là tất cả những điều Thiên Chúa đã làm cho những ai yêu mến Người”. Bởi chưng Thiên Chúa đã mạc khải điều đó cho chúng tôi do Thánh Thần của Người. Thật vậy\, Thánh Thần thấu suốt mọi sự\, cả những điều thâm sâu của Thiên Chúa. \nĐó là lời Chúa. \nALLELUIA:  Ga 1\, 14 và 12b\n-Lạy Chúa\, xin hãy nói\, vì tôi tớ Chúa đang nghe; Chúa có lời ban sự sống đời đời. – Alleluia. \n\nPHÚC ÂM:  Mt 5\, 17-37   (bài dài) \n“Người xưa đã bảo như thế\, còn Ta\, Ta bảo các con thế này”.  \nTin Mừng Chúa Giêsu Kitô theo Thánh Matthêu. \nKhi ấy\, Chúa Giêsu phán cùng các môn đệ rằng: “Các con đừng tưởng Ta đến để huỷ bỏ lề luật hay các tiên tri; Ta không đến để huỷ bỏ\, nhưng để kiện toàn. Vì Ta bảo thật các con: Cho dù trời đất có qua đi\, thì một chấm\, một phẩy trong bộ luật cũng không bỏ sót\, cho đến khi mọi sự hoàn thành. Bởi vậy\, ai huỷ bỏ một trong những điều luật nhỏ mọn nhất và dạy người khác làm như vậy\, sẽ kể là người nhỏ nhất trong Nước Trời; trái lại\, ai giữ và dạy người ta giữ những điều đó\, sẽ được kể là người cao cả trong Nước Trời. Nếu các con không công chính hơn các luật sĩ và biệt phái\, thì các con chẳng được vào Nước Trời đâu. \n“Các con đã nghe dạy người xưa rằng: ‘Không được giết người. Ai giết người\, sẽ bị luận phạt nơi toà án’. Còn Ta\, Ta bảo các con: Bất cứ ai phẫn nộ với anh em mình\, thì sẽ bị toà án luận phạt. Ai bảo anh em là ‘ngốc’\, thì bị phạt trước công nghị. Ai rủa anh em là ‘khùng’\, thì sẽ bị vạ lửa địa ngục. Nếu ngươi đang dâng của lễ nơi bàn thờ mà sực nhớ người anh em đang có điều bất bình với ngươi\, thì ngươi hãy để của lễ lại trước bàn thờ\, đi làm hoà với người anh em ngươi trước đã\, rồi hãy trở lại dâng của lễ. Hãy liệu làm hoà với kẻ thù ngay lúc còn đi dọc đường với nó\, kẻo kẻ thù sẽ đưa ngươi ra trước mặt quan toà\, quan toà lại trao ngươi cho tên lính canh và ngươi sẽ bị tống ngục. Ta bảo thật các ngươi biết: Ngươi sẽ không thoát khỏi nơi ấy cho đến khi trả hết đồng bạc cuối cùng. \n“Các con đã nghe nói với người xưa rằng: ‘Chớ ngoại tình’. Còn Ta\, Ta bảo các con: Hễ ai nhìn xem phụ nữ mà ước ao phạm tội với họ\, thì đã ngoại tình với họ trong lòng rồi. Nếu con mắt phải của con nên dịp tội cho con\, thì hãy móc nó mà ném xa con; vì thà mất một chi thể còn lợi hơn là toàn thân bị ném vào hoả ngục. Và nếu tay phải con nên dịp tội cho con\, thì hãy chặt mà ném nó xa con; vì thà mất một chi thể còn hơn là toàn thân bị ném vào hoả ngục. \n“Cũng có lời dạy rằng: ‘Ai ly dị vợ mình\, thì hãy trao cho vợ tờ ly dị’. Còn Ta\, Ta bảo các con: Hễ ai ly dị vợ mình\, trừ trường hợp tà dâm\, thì làm cớ cho vợ ngoại tình; và ai cưới người vợ đã ly dị\, cũng phạm tội ngoại tình. \n“Các con cũng đã nghe có lời bảo người xưa rằng: ‘Chớ thề gian\, nhưng hãy giữ trọn lời mình thề với Chúa’. Còn Ta\, Ta bảo các con: Đừng thề chi cả; đừng lấy trời mà thề\, vì trời là ngai Thiên Chúa; đừng lấy đất mà thề\, vì đất là bệ chân Người; đừng lấy Giêrusalem mà thề\, vì là thành của Vua cao cả. cũng đừng chỉ đầu ngươi mà thề\, vì ngươi không thể làm cho một sợi tóc ra trắng hay đen được. Nhưng lời nói của các con phải là: Có thì nói có\, không thì nói không\, thêm điều đặt chuyện là bởi ma quỷ mà ra”. \nĐó là lời Chúa. \nHoặc bài vắn này:  Mt 5\, 20-22a. 27-28. 33-34a. 37 \nKhi ấy\, Chúa Giêsu phán cùng các môn đệ rằng: “Ta bảo thật các con: Nếu các con không công chính hơn các luật sĩ và biệt phái\, thì các con chẳng được vào Nước Trời đâu. \n“Các con đã nghe dạy người xưa rằng: ‘Không được giết người. Ai giết người\, sẽ bị luận phạt nơi toà án’. Còn Ta\, Ta bảo các con: Bất cứ ai phẫn nộ với anh em mình\, thì sẽ bị toà án luận phạt. Ai bảo anh em là ‘ngốc’\, thì bị phạt trước công nghị. \n“Các con đã nghe nói với người xưa rằng: ‘Chớ ngoại tình’. Còn Ta\, Ta bảo các con: Hễ ai nhìn xem phụ nữ mà ước ao phạm tội với họ\, thì đã ngoại tình với họ trong lòng rồi. \n“Các con cũng đã nghe có lời bảo người xưa rằng: ‘Chớ thề gian\, nhưng hãy giữ trọn lời mình thề với Chúa’. Còn Ta\, Ta bảo các con: Đừng thề chi cả. Nhưng lời nói của các con phải là: Có thì nói có\, không thì nói không\, thêm điều đặt chuyện là bởi ma quỷ mà ra”. \nĐó là lời Chúa.
URL:https://dongchuacuuthe.us/calendar/cn-vi-thuong-nien/
END:VEVENT
END:VCALENDAR