BEGIN:VCALENDAR
VERSION:2.0
PRODID:-//Dòng Chúa Cứu Thế Hải Ngoại - ECPv6.15.20//NONSGML v1.0//EN
CALSCALE:GREGORIAN
METHOD:PUBLISH
X-ORIGINAL-URL:https://dongchuacuuthe.us
X-WR-CALDESC:Events for Dòng Chúa Cứu Thế Hải Ngoại
REFRESH-INTERVAL;VALUE=DURATION:PT1H
X-Robots-Tag:noindex
X-PUBLISHED-TTL:PT1H
BEGIN:VTIMEZONE
TZID:America/Los_Angeles
BEGIN:DAYLIGHT
TZOFFSETFROM:-0800
TZOFFSETTO:-0700
TZNAME:PDT
DTSTART:20250309T100000
END:DAYLIGHT
BEGIN:STANDARD
TZOFFSETFROM:-0700
TZOFFSETTO:-0800
TZNAME:PST
DTSTART:20251102T090000
END:STANDARD
BEGIN:DAYLIGHT
TZOFFSETFROM:-0800
TZOFFSETTO:-0700
TZNAME:PDT
DTSTART:20260308T100000
END:DAYLIGHT
BEGIN:STANDARD
TZOFFSETFROM:-0700
TZOFFSETTO:-0800
TZNAME:PST
DTSTART:20261101T090000
END:STANDARD
BEGIN:DAYLIGHT
TZOFFSETFROM:-0800
TZOFFSETTO:-0700
TZNAME:PDT
DTSTART:20270314T100000
END:DAYLIGHT
BEGIN:STANDARD
TZOFFSETFROM:-0700
TZOFFSETTO:-0800
TZNAME:PST
DTSTART:20271107T090000
END:STANDARD
END:VTIMEZONE
BEGIN:VEVENT
DTSTART;VALUE=DATE:20260212
DTEND;VALUE=DATE:20260213
DTSTAMP:20260423T111642
CREATED:20260202T061430Z
LAST-MODIFIED:20260202T061430Z
UID:13702-1770854400-1770940799@dongchuacuuthe.us
SUMMARY:Thứ Năm Tuần V Thường Niên Năm II
DESCRIPTION:BÀI ĐỌC I: 1 V 11\, 4-13\n“Bởi ngươi không giữ giao ước\, Ta cất vương quốc khỏi ngươi; nhưng vì Đavít thân phụ ngươi\,Ta sẽ dành một chi tộc cho con trai ngươi”.  \nTrích sách Các Vua quyển thứ nhất. \nKhi vua Salomon đã về già\, các bà vợ của ông mê hoặc lòng ông\, kéo ông theo các thần dân ngoại\, lòng ông không còn trọn vẹn với Chúa là Thiên Chúa của ông\, như lòng Đavít thân phụ ông. Salomon tôn thờ nữ thần Astarthê của dân Siđon\, và thần Môlốc của dân Ammon. Và Salomon đã làm điều không đẹp lòng Chúa và không trọn niềm theo Chúa\, như Đavít thân phụ ông. Bấy giờ Salomon xây am trên núi đối diện với Giêrusalem cho Khanios\, thần của dân Moab\, và cho Môlốc\, thần của dân Ammon. Ông cũng làm như thế cho tất cả các bà vợ ngoại bang của ông\, để các bà dâng hương và tế lễ cho các thần của các bà. Vậy Chúa thịnh nộ với Salomon\, vì tâm hồn ông đã bỏ Chúa là Thiên Chúa Israel\, Đấng đã hiện ra với ông hai lần\, và cấm ông không được chạy theo các thần khác\, nhưng Salomon không tuân giữ điều Chúa truyền dạy ông. \nDo đó\, Chúa phán cùng Salomon rằng: “Bởi ngươi đã ăn ở như thế\, và đã không tuân giữ giao ước và lề luật mà Ta đã truyền cho ngươi\, Ta sẽ phân chia vương quốc của ngươi\, và trao cho tôi tớ ngươi. Nhưng vì nể Đavít\, thân phụ ngươi\, Ta sẽ không thi hành điều đó khi ngươi còn sống. Ta sẽ phân chia vương quốc ngươi ngay trên tay con của ngươi. Vì Đavít\, tôi tớ Ta\, và vì Giêrusalem Ta đã tuyển chọn\, Ta sẽ không lấy tất cả vương quốc: Ta sẽ dành một chi tộc cho con trai ngươi”. \nĐó là lời Chúa. \nĐÁP CA:  Tv 105\, 3-4. 35-36. 37 và 40 \nĐáp-Lạy Chúa\, xin nhớ chúng con khi gia ân huệ cho dân Ngài (c. 4a). \n1)Phúc cho ai tuân giữ những lời huấn lệnh\, và luôn luôn thực thi điều công chính. Lạy Chúa\, xin nhớ chúng con khi gia ân huệ cho dân Ngài; xin mang ơn cứu độ đến thăm viếng chúng con. \n2)Họ đã hoà mình với người chư dân\, và học theo công việc chúng làm. Họ sùng bái tà thần của chúng\, những tà thần đã hoá thành lưới dò hại họ. \n3)Họ đã giết những người con trai và con gái\, để làm lễ cúng tế quỷ thần. Chúa đã bừng cơn thịnh nộ với dân tộc\, và tởm ghét phần gia nghiệp của Ngài. \nALLELUIA:  1 Sm 3\, 9\n-Lạy Chúa\, xin hãy phán\, vì tôi tớ Chúa đang lắng tai nghe; Chúa có lời ban sự sống đời đời. – Alleluia. \nPHÚC ÂM:  Mc 7\, 24-30 \n“Những con chó ở dưới gầm bàn cũng ăn những mụn bánh rơi của con cái”.  \nTin Mừng Chúa Giêsu Kitô theo Thánh Marcô. \nKhi ấy\, Chúa Giêsu đến địa hạt Tyrô và Siđon. Vào một nhà kia\, Người không muốn ai biết Mình\, nhưng Người không thể ẩn náu được. Vì ngay lúc đó\, một bà kia có đứa con gái bị thần ô uế ám\, bà nghe nói về Người liền đến phục lạy Người. Bà đó là người dân ngoại\, dòng giống Syrô-phênixi\, và bà xin Người trừ quỷ ra khỏi con bà. Người nói: “Hãy để con cái ăn no trước đã\, vì không nên lấy bánh của con cái mà ném cho chó”. Nhưng bà trả lời và thưa Người rằng: “Thưa Thầy\, đúng thế\, nhưng các chó con cũng được ăn những mụn rơi dưới bàn ăn của con cái”. Người liền nói với bà: “Vì lời bà nói đó\, bà hãy về; quỷ đã ra khỏi con gái bà rồi”. Khi bà về đến nhà\, thì thấy cô gái nhỏ nằm trên giường và quỷ đã xuất rồi. \nĐó là lời Chúa.
URL:https://dongchuacuuthe.us/calendar/thu-nam-tuan-v-thuong-nien-nam-ii-2/
END:VEVENT
END:VCALENDAR