BEGIN:VCALENDAR
VERSION:2.0
PRODID:-//Dòng Chúa Cứu Thế Hải Ngoại - ECPv6.15.20//NONSGML v1.0//EN
CALSCALE:GREGORIAN
METHOD:PUBLISH
X-ORIGINAL-URL:https://dongchuacuuthe.us
X-WR-CALDESC:Events for Dòng Chúa Cứu Thế Hải Ngoại
REFRESH-INTERVAL;VALUE=DURATION:PT1H
X-Robots-Tag:noindex
X-PUBLISHED-TTL:PT1H
BEGIN:VTIMEZONE
TZID:America/Los_Angeles
BEGIN:DAYLIGHT
TZOFFSETFROM:-0800
TZOFFSETTO:-0700
TZNAME:PDT
DTSTART:20250309T100000
END:DAYLIGHT
BEGIN:STANDARD
TZOFFSETFROM:-0700
TZOFFSETTO:-0800
TZNAME:PST
DTSTART:20251102T090000
END:STANDARD
BEGIN:DAYLIGHT
TZOFFSETFROM:-0800
TZOFFSETTO:-0700
TZNAME:PDT
DTSTART:20260308T100000
END:DAYLIGHT
BEGIN:STANDARD
TZOFFSETFROM:-0700
TZOFFSETTO:-0800
TZNAME:PST
DTSTART:20261101T090000
END:STANDARD
BEGIN:DAYLIGHT
TZOFFSETFROM:-0800
TZOFFSETTO:-0700
TZNAME:PDT
DTSTART:20270314T100000
END:DAYLIGHT
BEGIN:STANDARD
TZOFFSETFROM:-0700
TZOFFSETTO:-0800
TZNAME:PST
DTSTART:20271107T090000
END:STANDARD
END:VTIMEZONE
BEGIN:VEVENT
DTSTART;VALUE=DATE:20260210
DTEND;VALUE=DATE:20260211
DTSTAMP:20260423T111620
CREATED:20260202T061334Z
LAST-MODIFIED:20260202T061334Z
UID:13698-1770681600-1770767999@dongchuacuuthe.us
SUMMARY:Thứ Ba Tuần V Thường Niên Năm II
DESCRIPTION:BÀI ĐỌC I:1 V 8\, 22-23. 27-30\nChúa đã phán: “Danh Ta sẽ ở nơi đó\, để nhậm lời van nài của dân Israel”.  \nTrích sách Các Vua quyển thứ nhất. \nTrong những ngày ấy\, Salomon đứng trước bàn thờ Chúa\, đối diện với cộng đoàn Israel\, ông giơ hai tay lên trời và nguyện rằng: “Lạy Chúa là Thiên Chúa Israel\, trên trời dưới đất\, không có thần nào giống như Chúa. Chúa giữ lời giao ước và lòng từ bi đối với các tôi tớ đang thành tâm đi trước mặt Chúa. Nhưng ai dám nghĩ rằng: quả thật Thiên Chúa ngự ở trần gian? Vì nếu trời và các tầng trời còn không thể chứa được Chúa\, huống chi ngôi nhà con xây cất đây! Nhưng lạy Chúa là Thiên Chúa của con\, xin đoái nghe lời cầu nguyện và sự van nài của tôi tớ Chúa; xin lắng nghe lời ca khen và kinh nguyện mà tôi tớ Chúa dâng lên trước mặt Chúa hôm nay\, ngõ hầu đêm ngày mắt Chúa nhìn xem ngôi nhà này là nơi Chúa đã phán ‘Danh Ta sẽ ở nơi đó’\, để nghe lời cầu nguyện mà tôi tớ Chúa kêu xin trong nơi này\, để nhậm lời van nài của tôi tớ Chúa và của dân Israel sẽ cầu nguyện tại nơi đây. Từ thiên cung nơi Chúa ngự\, xin Chúa nhậm lời\, và khi đã nhậm lời\, xin Chúa dủ lòng thương”. \nĐó là lời Chúa. \nĐÁP CA:  Tv 83\, 3. 4. 5 và 10. 11 \nĐáp-Lạy Chúa thiên binh\, khả ái thay cung điện của Chúa(c. 2). \n1)Linh hồn tôi khát khao và mòn mỏi\, mong vào hành lang nhà Đức Thiên Chúa. Tâm thần và thể xác tôi hoan hỉ tìm đến cùng Thiên Chúa trường sinh. \n2)Đến như chim sẻ còn kiếm được nhà\, và chim nhạn tìm ra tổ ấm\, để làm nơi ấp ủ con mình\, cạnh bàn thờ Chúa\, ôi Chúa là Thiên Chúa thiên binh\, Ôi Đại Vương và Thiên Chúa của con. \n3)Ôi Thiên Chúa\, phúc đức ai ngụ nơi nhà Chúa: họ sẽ khen ngợi Chúa tới muôn đời. Thuẫn đỡ cho chúng con\, xin hãy nhìn xem\, lạy Thiên Chúa\, xin hãy đoái nhìn mặt Đức Kitô của Người. \n4)Thực\, một ngày sống trong hành lang nhà Chúa\, đáng quý hơn ngàn ngày ở nơi đâu khác. Con ưa đứng nơi ngưỡng cửa nhà Chúa con\, hơn là cư ngụ trong lều bọn ác nhân. \nALLELUIA:  Ga 14\, 23\n-Nếu ai yêu mến Thầy\, thì sẽ giữ lời Thầy\, và Cha Thầy sẽ yêu mến người ấy\, và Chúng Ta sẽ đến và ở trong người ấy. – Alleluia. \nPHÚC ÂM:  Mc 7\, 1-13 \n“Các ngươi gác bỏ một bên các giới răn Thiên Chúa\, để nắm giữ tập tục phàm nhân”. \nTin Mừng Chúa Giêsu Kitô theo Thánh Marcô. \nKhi ấy\, những người biệt phái và mấy luật sĩ từ Giêrusalem tụ tập lại bên Chúa Giêsu\, và họ thấy vài môn đệ Người dùng bữa với những bàn tay không tinh sạch\, nghĩa là không rửa trước. Vì theo đúng tập tục của tiền nhân\, những người biệt phái và mọi người Do-thái không dùng bữa mà không rửa tay trước\, và ở nơi công cộng về\, họ không dùng bữa mà không tắm rửa trước. Họ còn giữ nhiều tập tục khác nữa\, như rửa chén\, rửa bình\, rửa các đồ đồng. Vậy những người biệt phái và luật sĩ hỏi Người: “Sao môn đệ ông không giữ tập tục của tiền nhân mà lại dùng bữa với những bàn tay không tinh sạch?” Người đáp: “Hỡi bọn giả hình\, Isaia thật đã nói tiên tri rất chí lý về các ngươi\, như lời chép rằng: ‘Dân này kính Ta ngoài môi miệng\, nhưng lòng chúng ở xa Ta. Nó sùng kính Ta cách giả dối\, bởi vì nó dạy những giáo lý và những luật lệ loài người’. Vì các ngươi bỏ qua các giới răn Thiên Chúa\, để nắm giữ tập tục loài người: rửa bình\, rửa chén và làm nhiều điều như vậy”. Và Người bảo: “Các ngươi đã khéo bỏ giới răn Thiên Chúa\, để nắm giữ tập tục của các ngươi. Thật vậy\, Môsê đã nói: ‘Hãy thảo kính cha mẹ’\, và ‘ai rủa cha mẹ\, sẽ phải xử tử’. Còn các ngươi thì lại bảo: ‘Nếu ai nói với cha mẹ mình rằng: Những của tôi có thể giúp cha mẹ được là Corban rồi (nghĩa là của dâng cho Chúa)’\, và các ngươi không để cho kẻ ấy giúp gì cho cha mẹ nữa. Như thế các ngươi huỷ bỏ lời Chúa bằng những tập tục truyền lại cho nhau. Và các ngươi còn làm nhiều điều khác giống như thế”. \nĐó là lời Chúa.
URL:https://dongchuacuuthe.us/calendar/thu-ba-tuan-v-thuong-nien-nam-ii-2/
END:VEVENT
END:VCALENDAR