BEGIN:VCALENDAR
VERSION:2.0
PRODID:-//Dòng Chúa Cứu Thế Hải Ngoại - ECPv6.15.20//NONSGML v1.0//EN
CALSCALE:GREGORIAN
METHOD:PUBLISH
X-ORIGINAL-URL:https://dongchuacuuthe.us
X-WR-CALDESC:Events for Dòng Chúa Cứu Thế Hải Ngoại
REFRESH-INTERVAL;VALUE=DURATION:PT1H
X-Robots-Tag:noindex
X-PUBLISHED-TTL:PT1H
BEGIN:VTIMEZONE
TZID:America/Los_Angeles
BEGIN:DAYLIGHT
TZOFFSETFROM:-0800
TZOFFSETTO:-0700
TZNAME:PDT
DTSTART:20250309T100000
END:DAYLIGHT
BEGIN:STANDARD
TZOFFSETFROM:-0700
TZOFFSETTO:-0800
TZNAME:PST
DTSTART:20251102T090000
END:STANDARD
BEGIN:DAYLIGHT
TZOFFSETFROM:-0800
TZOFFSETTO:-0700
TZNAME:PDT
DTSTART:20260308T100000
END:DAYLIGHT
BEGIN:STANDARD
TZOFFSETFROM:-0700
TZOFFSETTO:-0800
TZNAME:PST
DTSTART:20261101T090000
END:STANDARD
BEGIN:DAYLIGHT
TZOFFSETFROM:-0800
TZOFFSETTO:-0700
TZNAME:PDT
DTSTART:20270314T100000
END:DAYLIGHT
BEGIN:STANDARD
TZOFFSETFROM:-0700
TZOFFSETTO:-0800
TZNAME:PST
DTSTART:20271107T090000
END:STANDARD
END:VTIMEZONE
BEGIN:VEVENT
DTSTART;VALUE=DATE:20260201
DTEND;VALUE=DATE:20260202
DTSTAMP:20260423T111621
CREATED:20260120T034403Z
LAST-MODIFIED:20260120T034403Z
UID:13641-1769904000-1769990399@dongchuacuuthe.us
SUMMARY:CN IV Thường Niên
DESCRIPTION:BÀI ĐỌC I: Xp 2\, 3; 3\, 12-13 \n“Ta sẽ để sống sót lại giữa ngươi\, một dân tộc khiêm tốn và nghèo hèn”. \nTrích sách Tiên tri Xôphônia.  \nHãy tìm Chúa\, hỡi tất cả các người hiền lành trong nước\, là những kẻ tuân giữ luật Chúa; hãy tìm công lý\, hãy tìm sự khiêm nhường\, nếu các ngươi muốn được che chở trong ngày thịnh nộ của Chúa. Ta sẽ để sống sót lại giữa ngươi một dân tộc khiêm tốn và nghèo hèn\, biết tin tưởng vào thánh danh Chúa. Kẻ sống sót của Israel sẽ không làm điều bất công\, sẽ không nói dối\, miệng chúng sẽ không nói lời phỉnh gạt\, vì chúng sẽ được chăn dắt và nằm ngủ không bị quấy rầy.  \nĐó là lời Chúa. \n\nĐÁP CA: Tv 145\, 7. 8-9a. 9bc-10. \nĐáp: Phúc cho những ai có tinh thần nghèo khó\, vì Nước Trời là của họ (Mt 5\,3). \nXướng: 1) Thiên Chúa trả lại quyền lợi cho người bị áp bức\, và ban cho những kẻ đói được cơm ăn. Thiên Chúa cứu gỡ những người tù tội. – Đáp.  \n2) Thiên Chúa mở mắt những kẻ đui mù\, Thiên Chúa giải thoát những kẻ bị khòm lưng khuất phục\, Thiên Chúa yêu quý các bậc hiền nhân; Thiên Chúa che chở những khách kiều cư. – Đáp.  \n3) Thiên Chúa nâng đỡ những người mồ côi quả phụ\, và làm rối loạn đường nẻo đứa ác nhân. Thiên Chúa sẽ làm vua tới muôn đời. Sion hỡi\, Đức Thiên Chúa của ngươi sẽ làm vua từ đời này sang đời khác. – Đáp.  \n\nBÀI ĐỌC II: 1 Cr 1\, 26-31 \n“Thiên Chúa đã chọn những điều hèn hạ đối với thế gian”. \nTrích thư thứ nhất của Thánh Phaolô Tông đồ gửi tín hữu Côrintô.  \nAnh em thân mến\, anh em hãy xem ơn kêu gọi của anh em: Vì (trong anh em) không có mấy người khôn ngoan theo xác thịt\, không có mấy người quyền thế\, không có mấy người sang trọng. Nhưng điều mà thế gian cho là điên dại\, thì Thiên Chúa đã chọn để làm cho những người khôn ngoan phải xấu hổ; điều mà thế gian cho là yếu hèn\, thì Thiên Chúa đã chọn để làm cho những gì là mạnh mẽ phải hổ ngươi. Thiên Chúa đã chọn những điều hèn hạ đối với thế gian\, những điều bị khinh chê\, những điều không không\, để phá huỷ những điều hiện hữu\, hầu mọi xác thịt không thể vinh vang trước mặt Người. Chính do Người mà anh em ở trong Chúa Giêsu Kitô\, Đấng do Thiên Chúa\, đã trở nên sự khôn ngoan\, sự công chính\, sự thánh hoá và sự cứu rỗi cho chúng ta\, ngõ hầu\, như đã chép: “Ai tự phụ\, thì hãy tự phụ trong Chúa”.  \nĐó là lời Chúa. \n\nALLELUIA: Lc 19\, 38 \nAlleluia\, alleluia! – Chúc tụng Đấng nhân danh Chúa mà đến\, bình an trên trời và vinh quang trên các tầng trời. – Alleluia. \n\nPHÚC ÂM: Mt 5\, 1-12a \n“Phúc cho những ai có tinh thần nghèo khó”. \nTin Mừng Chúa Giêsu Kitô theo Thánh Matthêu.  \nKhi ấy\, Chúa Giêsu thấy đoàn lũ đông đảo\, Người đi lên núi\, và lúc Người ngồi xuống\, các môn đệ đến gần Người. Bấy giờ Người mở miệng dạy họ rằng:  \n“Phúc cho những ai có tinh thần nghèo khó\, vì Nước Trời là của họ. Phúc cho những ai hiền lành\, vì họ sẽ được Đất Nước làm cơ nghiệp. Phúc cho những ai đau buồn\, vì họ sẽ được ủi an. Phúc cho những ai đói khát điều công chính\, vì họ sẽ được no thoả. Phúc cho những ai hay thương xót người\, vì họ sẽ được xót thương. Phúc cho những ai có lòng trong sạch\, vì họ sẽ được nhìn xem Thiên Chúa. Phúc cho những ai ăn ở thuận hoà\, vì họ sẽ được gọi là con Thiên Chúa. Phúc cho những ai bị bách hại vì lẽ công chính\, vì Nước Trời là của họ. Phúc cho các con khi người ta ghen ghét\, bách hại các con\, và bởi ghét Thầy\, họ vu khống cho các con mọi điều gian ác. Các con hãy vui mừng hân hoan\, vì phần thưởng của các con sẽ trọng đại ở trên trời”.  \nĐó là lời Chúa.
URL:https://dongchuacuuthe.us/calendar/cn-iv-thuong-nien/
END:VEVENT
END:VCALENDAR