BEGIN:VCALENDAR
VERSION:2.0
PRODID:-//Dòng Chúa Cứu Thế Hải Ngoại - ECPv6.15.20//NONSGML v1.0//EN
CALSCALE:GREGORIAN
METHOD:PUBLISH
X-ORIGINAL-URL:https://dongchuacuuthe.us
X-WR-CALDESC:Events for Dòng Chúa Cứu Thế Hải Ngoại
REFRESH-INTERVAL;VALUE=DURATION:PT1H
X-Robots-Tag:noindex
X-PUBLISHED-TTL:PT1H
BEGIN:VTIMEZONE
TZID:America/Los_Angeles
BEGIN:DAYLIGHT
TZOFFSETFROM:-0800
TZOFFSETTO:-0700
TZNAME:PDT
DTSTART:20250309T100000
END:DAYLIGHT
BEGIN:STANDARD
TZOFFSETFROM:-0700
TZOFFSETTO:-0800
TZNAME:PST
DTSTART:20251102T090000
END:STANDARD
BEGIN:DAYLIGHT
TZOFFSETFROM:-0800
TZOFFSETTO:-0700
TZNAME:PDT
DTSTART:20260308T100000
END:DAYLIGHT
BEGIN:STANDARD
TZOFFSETFROM:-0700
TZOFFSETTO:-0800
TZNAME:PST
DTSTART:20261101T090000
END:STANDARD
BEGIN:DAYLIGHT
TZOFFSETFROM:-0800
TZOFFSETTO:-0700
TZNAME:PDT
DTSTART:20270314T100000
END:DAYLIGHT
BEGIN:STANDARD
TZOFFSETFROM:-0700
TZOFFSETTO:-0800
TZNAME:PST
DTSTART:20271107T090000
END:STANDARD
END:VTIMEZONE
BEGIN:VEVENT
DTSTART;VALUE=DATE:20260127
DTEND;VALUE=DATE:20260128
DTSTAMP:20260423T124200
CREATED:20260120T034102Z
LAST-MODIFIED:20260120T034102Z
UID:13631-1769472000-1769558399@dongchuacuuthe.us
SUMMARY:Thứ Ba Tuần III Thường Niên Năm II
DESCRIPTION:BÀI ĐỌC I: 2 Sm 6\, 12b-15\, 17-19\n“Đavít và toàn dân Israel hân hoan đi rước hòm bia Thiên Chúa”. \nTrích sách Samuel quyển thứ hai. \nTrong những ngày ấy\, Đavít hân hoan đi mang hòm bia Thiên Chúa từ nhà Obêđê về thành Đavít. Vua dẫn theo bảy ca đoàn và đàn bò con làm của lễ. Khi những người mang hòm bia Thiên Chúa đi được sáu bước\, thì Đavít hiến tế một con bò và một con bê. Ngài tận lực nhảy múa trước Thiên Chúa. Ngài mang khăn vải điều ngang lưng. Ngài và toàn thể nhà Israel mang hòm bia Thiên Chúa hân hoan và trong tiếng kèn trống. Họ rước hòm bia Thiên Chúa vào đặt giữa nhà tạm mà Đavít đã dựng sẵn. Rồi ngài hiến dâng của lễ toàn thiêu và của lễ bình an; ngài nhân danh Chúa các đạo binh mà chúc lành cho dân chúng\, đoạn ngài phân phát cho toàn dân Israel\, nam cũng như nữ\, mỗi người một ổ bánh mì\, một miếng thịt và một chiếc bánh chiên dầu. Và toàn dân giải tán\, ai về nhà nấy. Đó là lời Chúa. \nĐÁP CA: Tv 23\, 7. 8. 9. 10\nĐáp: Vua hiển vinh là ai vậy? Chính Người là Thiên Chúa (c. 8a). \nXướng: 1) Các cửa ơi\, hãy ngẩng đầu lên; vươn mình lên\, hỡi cửa ngàn thu\, để vua hiển vinh Người ngự quá! – Đáp. \n2) Nhưng vua hiển vinh là ai vậy? Đó là Chúa dũng lực hùng anh\, đó là Chúa anh hùng của chiến chinh. – Đáp. \n3) Các cửa ơi\, hãy ngẩng đầu lên\, vươn mình lên\, hỡi cửa ngàn thu\, để vua hiển vinh Người ngự quá. – Đáp. \n4) Nhưng vua hiển vinh là ai vậy? Đó là Chúa đạo thiên binh\, chính Người là Hoàng Đế hiển vinh. – Đáp. \nALLELUIA: Ga 15\, 15b\nAlleluia\, alleluia! – Chúa phán: “Thầy gọi các con là bạn hữu\, vì tất cả những gì Thầy đã nghe biết nơi Cha Thầy\, thì Thầy đã cho các con biết”. – Alleluia. \nPHÚC ÂM: Mc 3\, 31-35\n“Ai làm theo ý Thiên Chúa\, thì người ấy là anh chị em và là mẹ Ta”.  \nTin Mừng Chúa Giêsu Kitô theo Thánh Marcô. \nKhi ấy\, mẹ Chúa Giêsu và anh em Người đến và đứng ở ngoài\, sai người vào mời Chúa ra. Bấy giờ có đám đông ngồi chung quanh Người và họ trình Người rằng: “Kìa mẹ và anh em Thầy ở ngoài kia đang tìm Thầy”. Người trả lời rằng: “Ai là mẹ Ta? Ai là anh em Ta?” Rồi đưa mắt nhìn những người ngồi vòng quanh\, Người nói: “Đây là mẹ Ta và anh em Ta. Vì ai làm theo ý Thiên Chúa\, thì người ấy là anh chị em và là mẹ Ta”. \nĐó là lời Chúa.
URL:https://dongchuacuuthe.us/calendar/thu-ba-tuan-iii-thuong-nien-nam-ii-2/
END:VEVENT
END:VCALENDAR