BEGIN:VCALENDAR
VERSION:2.0
PRODID:-//Dòng Chúa Cứu Thế Hải Ngoại - ECPv6.15.20//NONSGML v1.0//EN
CALSCALE:GREGORIAN
METHOD:PUBLISH
X-WR-CALNAME:Dòng Chúa Cứu Thế Hải Ngoại
X-ORIGINAL-URL:https://dongchuacuuthe.us
X-WR-CALDESC:Events for Dòng Chúa Cứu Thế Hải Ngoại
REFRESH-INTERVAL;VALUE=DURATION:PT1H
X-Robots-Tag:noindex
X-PUBLISHED-TTL:PT1H
BEGIN:VTIMEZONE
TZID:America/Los_Angeles
BEGIN:DAYLIGHT
TZOFFSETFROM:-0800
TZOFFSETTO:-0700
TZNAME:PDT
DTSTART:20250309T100000
END:DAYLIGHT
BEGIN:STANDARD
TZOFFSETFROM:-0700
TZOFFSETTO:-0800
TZNAME:PST
DTSTART:20251102T090000
END:STANDARD
BEGIN:DAYLIGHT
TZOFFSETFROM:-0800
TZOFFSETTO:-0700
TZNAME:PDT
DTSTART:20260308T100000
END:DAYLIGHT
BEGIN:STANDARD
TZOFFSETFROM:-0700
TZOFFSETTO:-0800
TZNAME:PST
DTSTART:20261101T090000
END:STANDARD
BEGIN:DAYLIGHT
TZOFFSETFROM:-0800
TZOFFSETTO:-0700
TZNAME:PDT
DTSTART:20270314T100000
END:DAYLIGHT
BEGIN:STANDARD
TZOFFSETFROM:-0700
TZOFFSETTO:-0800
TZNAME:PST
DTSTART:20271107T090000
END:STANDARD
END:VTIMEZONE
BEGIN:VEVENT
DTSTART;VALUE=DATE:20260124
DTEND;VALUE=DATE:20260125
DTSTAMP:20260423T124055
CREATED:20260120T034003Z
LAST-MODIFIED:20260120T034003Z
UID:13627-1769212800-1769299199@dongchuacuuthe.us
SUMMARY:Thứ Bảy Tuần II Thường Niên Năm II
DESCRIPTION:BÀI ĐỌC I: 2 Sm 1\, 1-4\, 11-12. 19. 23-27\n“Cớ sao các anh hùng lại ngã gục trên chiến trường như thế?” \nKhởi đầu sách Samuel quyển thứ hai. \nTrong những ngày ấy\, sau khi thắng quân Amalec\, Đavít trở về\, và tạm nghỉ hai ngày tại Sicelê. Qua ngày thứ ba\, có người từ trại quân của Saolê trở về\, áo quần rách nát\, đầu tóc đầy bụi bặm\, anh đến trước mặt Đavít sấp mình kính lạy. Đavít hỏi anh: “Ngươi từ đâu tới?” Anh ta trả lời: “Tôi trốn từ trại quân Israel về”. Đavít lại hỏi: “Có chuyện gì xảy ra đó\, hãy kể lại cho ta nghe”. Anh ta nói: “Dân chúng chạy trốn khỏi chiến trường\, nhiều người trong dân đã bị hạ sát\, vua Saolê và thái tử Gionathan cũng tử trận”. \nĐavít liền xé áo mình ra\, các người hầu cận của ông cũng làm như thế. Tất cả đều than van khóc lóc và ăn chay cho tới chiều để chịu tang vua Saolê\, thái tử Gionathan\, dân Chúa và nhà Israel\, vì họ ngã gục dưới lưỡi gươm. (Và Đavít đã khóc rằng:) \n“Các nhân tài Israel đều bị giết trên núi. Cớ sao các anh hùng bị ngã gục như thế? \n“Saolê và Gionathan đáng yêu đáng quý\, khi sống cũng như khi chết\, họ không hề lìa nhau. Họ lanh lẹ hơn chim phượng hoàng\, và hùng dũng hơn loài sư tử. Hỡi thiếu nữ Israel\, hãy than khóc Saolê đi\, người đã mặc cho các cô áo điều sặc sỡ\, đã gắn lên y phục các cô những đồ nữ trang bằng vàng. \n“Cớ sao các anh hùng lại ngã gục trên chiến trường như thế? \n“Gionathan đã bị giết trên đồi cao. Hỡi anh Gionathan\, tôi thương tiếc anh. Tôi yêu mến anh\, và tình bạn giữa đôi ta cao quý hơn tình yêu phụ nữ. \n“Cớ sao mà các anh hùng lại ngã gục như thế? Cớ sao binh khí lại bị phá huỷ như thế?” Đó là lời Chúa. \nĐÁP CA: Tv 79\, 2-3. 5-7\nĐáp: Lạy Chúa\, xin tỏ thiên nhan hiền từ Chúa ra\, hầu cho chúng con được ơn cứu sống (c. 4b) \nXướng: 1) Lạy Đấng chăn dắt của Israel\, xin hãy lắng tai! Chúa là Đấng chăn dẫn Giuse như thể bầy chiên. Chúa ngự trên các Vệ Binh Thần\, xin hiện ra trong sáng láng\, trước mặt con cháu Ephraim\, Bengiamin và Manassê. Xin thức tỉnh quyền năng của Chúa\, và ngự tới để cứu độ chúng con. – Đáp. \n2) Lạy Chúa thiên binh\, Chúa còn thịnh nộ tới bao giờ\, bởi vì dân Chúa đang dâng lời khẩn nguyện? Chúa nuôi chúng con bằng cơm bánh trộn giọt châu\, và cho chúng con uống bằng nước mắt chảy tràn trề. Chúa biến chúng con thành miếng mồi cho lân bang tranh chấp\, và quân thù phỉ báng chúng con. – Đáp. \nALLELUIA: Ga 14\, 5\nAlleluia\, alleluia! – Chúa phán: “Thầy là đường\, là sự thật và là sự sống\, không ai đến được với Cha mà không qua Thầy”. – Alleluia. \nPHÚC ÂM: Mc 3\, 20-21\n“Những thân nhân của Người nói: ‘Người đã mất trí'”.  \nTin Mừng Chúa Giêsu Kitô theo Thánh Marcô. \nKhi ấy Chúa Giêsu cùng các môn đệ trở về nhà\, và dân chúng đông đảo lại đổ xô tới\, đến nỗi Người không dùng bữa được. Những thân nhân của Người hay tin đó\, liền đi bắt Người\, vì họ nói: “Người đã mất trí”. \nĐó là lời Chúa.
URL:https://dongchuacuuthe.us/calendar/thu-bay-tuan-ii-thuong-nien-nam-ii-2/
END:VEVENT
END:VCALENDAR