BEGIN:VCALENDAR
VERSION:2.0
PRODID:-//Dòng Chúa Cứu Thế Hải Ngoại - ECPv6.15.20//NONSGML v1.0//EN
CALSCALE:GREGORIAN
METHOD:PUBLISH
X-ORIGINAL-URL:https://dongchuacuuthe.us
X-WR-CALDESC:Events for Dòng Chúa Cứu Thế Hải Ngoại
REFRESH-INTERVAL;VALUE=DURATION:PT1H
X-Robots-Tag:noindex
X-PUBLISHED-TTL:PT1H
BEGIN:VTIMEZONE
TZID:America/Los_Angeles
BEGIN:DAYLIGHT
TZOFFSETFROM:-0800
TZOFFSETTO:-0700
TZNAME:PDT
DTSTART:20250309T100000
END:DAYLIGHT
BEGIN:STANDARD
TZOFFSETFROM:-0700
TZOFFSETTO:-0800
TZNAME:PST
DTSTART:20251102T090000
END:STANDARD
BEGIN:DAYLIGHT
TZOFFSETFROM:-0800
TZOFFSETTO:-0700
TZNAME:PDT
DTSTART:20260308T100000
END:DAYLIGHT
BEGIN:STANDARD
TZOFFSETFROM:-0700
TZOFFSETTO:-0800
TZNAME:PST
DTSTART:20261101T090000
END:STANDARD
BEGIN:DAYLIGHT
TZOFFSETFROM:-0800
TZOFFSETTO:-0700
TZNAME:PDT
DTSTART:20270314T100000
END:DAYLIGHT
BEGIN:STANDARD
TZOFFSETFROM:-0700
TZOFFSETTO:-0800
TZNAME:PST
DTSTART:20271107T090000
END:STANDARD
END:VTIMEZONE
BEGIN:VEVENT
DTSTART;VALUE=DATE:20260122
DTEND;VALUE=DATE:20260123
DTSTAMP:20260423T124200
CREATED:20260120T033855Z
LAST-MODIFIED:20260120T033855Z
UID:13621-1769040000-1769126399@dongchuacuuthe.us
SUMMARY:Thứ Năm Tuần II Thường Niên Năm II
DESCRIPTION:BÀI ĐỌC I: 1 Sm 18\, 6-9; 19\, 1-7\n“Thân phụ tôi là Saolê định giết anh”.  \nTrích sách Samuel quyển thứ nhất. \nTrong những ngày ấy\, sau khi hạ sát tên Philitinh\, Đavít trở về\, các phụ nữ từ mọi thành phố Israel đều tuôn ra ca hát nhảy múa với đàn địch trống phách\, vui vẻ đón vua Saolê. Các phụ nữ nhảy múa xướng hoạ rằng: “Saolê giết một ngàn\, và Đavít giết mười ngàn”. Saolê bực tức lắm\, vì lời ca ấy làm phật lòng ông\, ông nói: “Họ tặng Đavít mười ngàn\, còn Ta chỉ có một ngàn\, như vậy y chỉ còn thiếu có ngai vàng”. Từ ngày đó trở đi\, Saolê nhìn Đavít với vẻ mặt căm tức. \nSaolê bàn với con ông là Gionathan và tất cả những cận thần của ông để sát hại Đavít. Nhưng Gionathan con của Saolê rất thương mến Đavít\, nên tiết lộ cho Đavít rằng: “Thân phụ tôi là Saolê tìm kế giết anh đấy”. Vì thế\, tôi xin anh sáng mai nên thận trọng và tìm nơi kín đáo mà ẩn mình. Tôi sẽ ra đứng gần cha tôi ngoài đồng nơi anh ẩn trốn\, tôi sẽ nói chuyện anh với cha tôi\, tôi thấy thế nào\, rồi sẽ báo cho anh biết”. \nVậy Gionathan khen Đavít với cha ông là Saolê\, ông nói: “Tâu phụ vương\, xin chớ hãm hại tôi tớ của phụ vương là Đavít\, vì anh không có lỗi gì đến phụ vương\, và anh đã lập nhiều công trạng cho phụ vương: Anh đã liều mạng sống và hạ sát nhiều tên Philitinh; Chúa đã dùng anh mà giải thoát toàn dân Israel. Phụ vương đã mục kích và đã hân hoan\, vậy tại sao phụ vương toan đổ máu người vô tội\, khi định giết Đavít là kẻ không có lỗi gì?” Saolê nghe Gionathan nói như vậy thì nguôi giận mà thề rằng: “Nhân danh Thiên Chúa hằng sống\, nó sẽ không bị giết”. Gionathan gọi Đavít và thuật lại cho anh nghe tất cả các lời ấy\, rồi dẫn Đavít đến trước Saolê\, và anh hầu cận Saolê như trước. Đó là lời Chúa. \nĐÁP CA: Tv 55\, 2-3. 9-10ab. 10c-11. 12-13\nĐáp: Con tin cậy vào Thiên Chúa\, con không kinh hãi (c. 5b). \nXướng: 1) Ôi Thiên Chúa\, xin thương con\, vì người ta chà đạp con\, người ta luôn luôn đấu tranh và áp bức con. Những kẻ thù ghét con chà đạp con luôn mọi lúc\, vì có nhiều người chiến đấu phản hại con. – Đáp. \n2) Con đường lưu vong của con\, Ngài đã biết\, lệ sầu của con đã được chứa trong bầu da của Ngài\, chúng há chẳng được ghi trong sổ sách của Ngài ư? Hễ bao giờ con kêu cầu Chúa\, lúc đó quân thù con sẽ tháo lui. – Đáp. \n3) Con biết chắc điều này là Thiên Chúa phù trợ con. Nhờ ơn Thiên Chúa là Đấng mà con ca tụng lời hứa\, con tin cậy vào Thiên Chúa\, con không kinh hãi\, con người phàm kia làm chi hại được con. – Đáp. \n4) Ôi Thiên Chúa\, con mắc nợ những điều con khấn cùng Ngài\, con sẽ tiến Ngài lễ vật bằng lời ca tụng. Vì Ngài đã cứu mạng con thoát khỏi tử thần\, và cứu chân con khỏi quỵ ngã\, để con được tiến thân trước nhan Thiên Chúa\, trong ánh thiều quang của cõi nhân sinh. – Đáp. \nALLELUIA: Mt 4\, 4b\nAlleluia\, alleluia! – Người ta sống không nguyên bởi bánh\, nhưng bởi mọi lời do miệng Thiên Chúa phán ra. – Alleluia. \nPHÚC ÂM: Mc 3\, 7-12\n“Các thần ô uế vừa thấy Người\, liền sụp lạy và kêu lên rằng: ‘Ngài là Con Thiên Chúa’\, nhưng Người nghiêm cấm chúng không được tiết lộ gì về Người”. \nTin Mừng Chúa Giêsu Kitô theo Thánh Marcô. \nKhi ấy\, Chúa Giêsu cùng các môn đệ lui về bờ biển\, đám đông từ Galilêa theo Người\, và từ Giuđêa\, Giêrusalem\, Iđumê\, bên kia sông Giođan\, miền Tyrô và Siđon\, nhiều kẻ đến cùng Người\, khi nghe biết tất cả những việc Người đã làm. Vì đông dân chúng\, nên Người bảo các môn đệ liệu cho Người một chiếc thuyền\, kẻo họ chen lấn Người. Vì chưng\, Người đã chữa lành nhiều bệnh nhân\, nên bất cứ ai mắc bệnh tật gì đều đến gần để động đến Người. Và những thần ô uế vừa thấy Người\, liền sụp lạy và kêu lên rằng: “Ngài là Con Thiên Chúa”\, nhưng Người nghiêm cấm chúng không được tiết lộ gì về Người. \nĐó là lời Chúa.
URL:https://dongchuacuuthe.us/calendar/thu-nam-tuan-ii-thuong-nien-nam-ii-2/
END:VEVENT
END:VCALENDAR