BEGIN:VCALENDAR
VERSION:2.0
PRODID:-//Dòng Chúa Cứu Thế Hải Ngoại - ECPv6.15.20//NONSGML v1.0//EN
CALSCALE:GREGORIAN
METHOD:PUBLISH
X-ORIGINAL-URL:https://dongchuacuuthe.us
X-WR-CALDESC:Events for Dòng Chúa Cứu Thế Hải Ngoại
REFRESH-INTERVAL;VALUE=DURATION:PT1H
X-Robots-Tag:noindex
X-PUBLISHED-TTL:PT1H
BEGIN:VTIMEZONE
TZID:America/Los_Angeles
BEGIN:DAYLIGHT
TZOFFSETFROM:-0800
TZOFFSETTO:-0700
TZNAME:PDT
DTSTART:20250309T100000
END:DAYLIGHT
BEGIN:STANDARD
TZOFFSETFROM:-0700
TZOFFSETTO:-0800
TZNAME:PST
DTSTART:20251102T090000
END:STANDARD
BEGIN:DAYLIGHT
TZOFFSETFROM:-0800
TZOFFSETTO:-0700
TZNAME:PDT
DTSTART:20260308T100000
END:DAYLIGHT
BEGIN:STANDARD
TZOFFSETFROM:-0700
TZOFFSETTO:-0800
TZNAME:PST
DTSTART:20261101T090000
END:STANDARD
BEGIN:DAYLIGHT
TZOFFSETFROM:-0800
TZOFFSETTO:-0700
TZNAME:PDT
DTSTART:20270314T100000
END:DAYLIGHT
BEGIN:STANDARD
TZOFFSETFROM:-0700
TZOFFSETTO:-0800
TZNAME:PST
DTSTART:20271107T090000
END:STANDARD
END:VTIMEZONE
BEGIN:VEVENT
DTSTART;VALUE=DATE:20260111
DTEND;VALUE=DATE:20260112
DTSTAMP:20260423T124200
CREATED:20251230T064353Z
LAST-MODIFIED:20251230T064353Z
UID:13457-1768089600-1768175999@dongchuacuuthe.us
SUMMARY:Lễ Chúa Chịu Phép Rửa
DESCRIPTION:BÀI ĐỌC I: Is 42\, 1-4. 6-7 \n“Này là tôi tớ Ta\, Ta hài lòng về người”. \nTrích sách Tiên tri Isaia. \nĐây là lời Chúa phán: “Này là tôi tớ Ta mà Ta nâng đỡ\, là người Ta chọn\, Ta hài lòng về người. Ta ban Thần trí Ta trên người. Người sẽ xét xử chư dân. Người sẽ không lớn tiếng\, không thiên vị ai; không ai nghe tiếng người ở công trường. Người không bẻ gẫy cây lau bị giập\, không dập tắt tim đèn còn khói. Người trung thành đem lại lẽ công bình. Người sẽ không buồn phiền\, không nao núng\, chỉ lo đặt công lý trên địa cầu\, vì trăm đảo mong đợi lề luật người.  \nTa là Chúa\, Ta đã gọi con trong công lý\, đã cầm lấy tay con\, đã gìn giữ con\, đã đặt con thành giao ước của dân\, và nên ánh sáng của chư dân\, để con mở mắt cho người mù\, đưa ra khỏi tù những người bị xiềng xích\, đưa ra khỏi ngục những người ngồi trong tối tăm”. Đó là lời Chúa. \nĐÁP CA: Tv 28\, 1a và 2. 3ac-4. 3b và 9b-10 \nĐáp: Chúa sẽ chúc phúc cho dân Người trong cảnh thái bình (c. 11b). \nXướng: 1) Các con cái Thiên Chúa hãy dâng kính Chúa\, hãy dâng kính Chúa vinh quang xứng với danh Người; hãy mang lễ phục thánh để thờ lạy Chúa. – Đáp.  \n2) Tiếng Chúa vang dội trên mặt nước\, Chúa ngự trên muôn ngàn sóng nước. Tiếng Chúa phán ra trong uy quyền\, tiếng Chúa phán ra trong oai vệ. – Đáp.  \n3) Thiên Chúa oai nghiêm làm cho sấm sét nổ ran\, và trong thánh đài của Chúa\, mọi người kêu lên: Vinh quang! Chúa ngự trị trong cơn hồng thuỷ\, và Chúa làm vua ngự trị tới muôn đời. – Đáp.  \nBÀI ĐỌC II: Cv 10\, 34-38 \n“Chúa dùng Thánh Thần mà xức dầu tấn phong cho Người”. \nTrích sách Tông đồ Công vụ. \nTrong những ngày ấy\, Phêrô mở miệng nói rằng: “Quả thật\, tôi nghiệm biết rằng Thiên Chúa không thiên tư tây vị\, nhưng ở bất cứ xứ nào\, ai kính sợ Người và thực hành sự công chính\, đều được Người đón nhận. Thiên Chúa đã sai Lời Người đến cùng con cái Israel\, loan tin bình an\, nhờ Chúa Giêsu Kitô là Chúa muôn loài. Như anh em biết\, điều đã xảy ra trong toàn cõi Giuđa\, khởi đầu từ Galilêa\, sau khi Gioan đã rao giảng phép rửa: ấy là Chúa Giêsu thành Nadarét. Thiên Chúa đã dùng Thánh Thần và quyền năng mà xức dầu tấn phong cho Người. Người đi qua mọi nơi\, ban bố ơn lành và chữa mọi người bị quỷ ám\, bởi vì Thiên Chúa ở với Người”. Đó là lời Chúa. \nALLELUIA: x. Mc 9\, 7 \nAlleluia\, alleluia! – Các tầng trời mở ra\, tiếng Chúa Cha tuyên phán: “Này là Con Ta yêu dấu\, hãy nghe lời Người”. – Alleluia. \nPHÚC ÂM: Mt 3\, 13-17 \n“Khi chịu phép rửa\, Chúa Giêsu thấy Thánh Thần Chúa ngự xuống  trên mình Người”. \nTin Mừng Chúa Giêsu Kitô theo Thánh Matthêu. \nKhi ấy\, Chúa Giêsu bỏ xứ Galilêa mà đến với Gioan ở sông Giođan\, để ông làm phép rửa cho. Nhưng Gioan can Người rằng: “Chính tôi phải được Ngài rửa\, thế mà Ngài lại đến với tôi sao?” Chúa Giêsu liền đáp lại: “Không sao\, vì chúng ta cần chu toàn bổn phận như thế”. Và bấy giờ ông Gioan chiều ý Người. Chúa Giêsu chịu phép rửa\, rồi bước lên khỏi nước. Này đây các tầng trời mở ra\, và Người thấy Thánh Thần Chúa ngự xuống như một bồ câu và đậu trên Người. Và ngay lúc ấy\, có tiếng từ trời phán: “Này là Con yêu dấu của Ta\, Con đẹp lòng Ta”.  \nĐó là lời Chúa.
URL:https://dongchuacuuthe.us/calendar/le-chua-chiu-phep-rua/
END:VEVENT
END:VCALENDAR