BEGIN:VCALENDAR
VERSION:2.0
PRODID:-//Dòng Chúa Cứu Thế Hải Ngoại - ECPv6.15.20//NONSGML v1.0//EN
CALSCALE:GREGORIAN
METHOD:PUBLISH
X-ORIGINAL-URL:https://dongchuacuuthe.us
X-WR-CALDESC:Events for Dòng Chúa Cứu Thế Hải Ngoại
REFRESH-INTERVAL;VALUE=DURATION:PT1H
X-Robots-Tag:noindex
X-PUBLISHED-TTL:PT1H
BEGIN:VTIMEZONE
TZID:America/Los_Angeles
BEGIN:DAYLIGHT
TZOFFSETFROM:-0800
TZOFFSETTO:-0700
TZNAME:PDT
DTSTART:20250309T100000
END:DAYLIGHT
BEGIN:STANDARD
TZOFFSETFROM:-0700
TZOFFSETTO:-0800
TZNAME:PST
DTSTART:20251102T090000
END:STANDARD
BEGIN:DAYLIGHT
TZOFFSETFROM:-0800
TZOFFSETTO:-0700
TZNAME:PDT
DTSTART:20260308T100000
END:DAYLIGHT
BEGIN:STANDARD
TZOFFSETFROM:-0700
TZOFFSETTO:-0800
TZNAME:PST
DTSTART:20261101T090000
END:STANDARD
BEGIN:DAYLIGHT
TZOFFSETFROM:-0800
TZOFFSETTO:-0700
TZNAME:PDT
DTSTART:20270314T100000
END:DAYLIGHT
BEGIN:STANDARD
TZOFFSETFROM:-0700
TZOFFSETTO:-0800
TZNAME:PST
DTSTART:20271107T090000
END:STANDARD
END:VTIMEZONE
BEGIN:VEVENT
DTSTART;VALUE=DATE:20260110
DTEND;VALUE=DATE:20260111
DTSTAMP:20260423T124201
CREATED:20251230T064833Z
LAST-MODIFIED:20251230T064833Z
UID:13474-1768003200-1768089599@dongchuacuuthe.us
SUMMARY:Thứ Bảy Tuần Sau Lễ Hiển Linh
DESCRIPTION:BÀI ĐỌC I:  1 Ga 5\, 14-21 \n“Chúa nhậm lời chúng ta kêu cầu”. \nTrích thư thứ nhất của Thánh Gioan Tông đồ. \nCác con thân mến\, này là sự chúng ta tin tưởng nơi Chúa: là hễ chúng ta xin sự gì hợp ý Người\, thì Người nhậm lời chúng ta. Và chúng ta biết Người nghe nhận mọi điều chúng ta xin\, vì chúng ta biết rằng chúng ta có kêu cầu Người. Ai biết anh em mình phạm thứ tội không đưa tới sự chết\, thì hãy cầu xin và Người sẽ ban sự sống cho kẻ phạm thứ tội đó. Có thứ tội đưa đến sự chết\, tôi không bảo ai cầu xin cho người phạm tội ấy đâu. Mọi sự gian tà đều là tội\, và có thứ tội đưa đến sự chết. \nChúng ta biết rằng ai sinh ra bởi Thiên Chúa\, thì không phạm tội\, chính sự sinh ra bởi Thiên Chúa gìn giữ họ\, và ma quỷ không làm gì được họ. Chúng ta biết rằng chúng ta bởi Thiên Chúa mà ra\, và toàn thể thế gian đều phục luỵ ma quỷ. Và chúng ta biết rằng Con Thiên Chúa đã đến và đã ban cho chúng ta ơn thông hiểu\, để chúng ta nhận biết Chúa chân thật\,  và được ở trong Con chân thật của Người. Chính Ngài là Thiên Chúa chân thật và là sự sống đời đời. Các con thân mến\, hãy giữ mình xa các tà thần.  Đó là lời Chúa. \nĐÁP CA:  Tv 149\, 1-2. 3-4. 5 và 6a và 9b \nĐáp:   Chúa yêu thương dân Người (c. 4a). \nHoặc đọc: Alleluia. \nXướng: 1)   Hãy ca mừng Chúa một bài ca mới\, hãy vang lên lời khen ngợi trong công hội các tín đồ. Israel hãy vui mừng vì Đấng tạo tác bản thân\, con cái Sion hãy hân hoan vì vua của họ.       – Đáp. \n2)   Họ hãy hoà nhạc để ngợi khen Người\, hãy hát mừng Người với cây đàn cầm\, với trống con: bởi vì Chúa yêu thương dân Người\, và ban cho kẻ khiêm nhường chiến thắng vẻ vang.       – Đáp. \n3)   Các tín đồ hãy mừng rỡ trong vinh quang\, hãy hoan hỉ trong những nơi khu phố. Miệng họ hãy reo lên lời hoan hô Thiên Chúa. Đó là vinh quang cho mọi tín đồ của Chúa.       – Đáp. \nALLELUIA:  Dt 1\, 1-2 \nAlleluia\, alleluia. – Thuở xưa\, nhiều lần nhiều cách\, Thiên Chúa đã dùng các tiên tri mà phán dạy cha ông\, nhưng đến thời sau hết\, tức là trong những ngày này\, Người đã phán dạy chúng ta nơi người Con. – Alleluia. \nPHÚC ÂM:  Ga 3\, 22-30 \n“Bạn hữu của tân lang vui mừng vì tiếng nói của tân lang”. \nTin Mừng Chúa Giêsu Kitô theo Thánh Gioan. \nKhi ấy\, Chúa Giêsu cùng các môn đệ Người đến đất Giuđêa. Người ở lại đó với họ và làm phép rửa. Cũng có Gioan làm phép rửa tại Ainon\, gần Salim\, vì ở đó có nhiều nước\, và người ta đến để chịu rửa. Vì chưng\, khi ấy Gioan chưa bị tống ngục. Xảy ra có cuộc tranh luận giữa các môn đệ của Gioan và người Do-thái về việc thanh tẩy. Họ đến cùng Gioan và nói với ông: “Thưa Thầy\, người đã ở với Thầy bên kia sông Giođan\, mà Thầy đã làm chứng cho\, nay cũng làm phép rửa và ai nấy đều đến cùng người!” Gioan trả lời rằng: “Người ta không tiếp nhận gì mà không phải bởi trời ban cho. Chính các ngươi đã làm chứng cho tôi là tôi đã nói: Tôi không phải là Đấng Kitô\, nhưng tôi được sai đến trước Người. Ai cưới vợ\, thì là người chồng\, còn bạn hữu của tân lang đứng mà nghe tân lang nói thì vui mừng vì tiếng nói của tân lang. Vậy niềm vui của tôi như thế là đầy đủ. Người phải lớn lên\, còn tôi phải nhỏ lại”. \nĐó là lời Chúa.
URL:https://dongchuacuuthe.us/calendar/thu-bay-tuan-sau-le-hien-linh-2/
END:VEVENT
END:VCALENDAR