BEGIN:VCALENDAR
VERSION:2.0
PRODID:-//Dòng Chúa Cứu Thế Hải Ngoại - ECPv6.15.20//NONSGML v1.0//EN
CALSCALE:GREGORIAN
METHOD:PUBLISH
X-WR-CALNAME:Dòng Chúa Cứu Thế Hải Ngoại
X-ORIGINAL-URL:https://dongchuacuuthe.us
X-WR-CALDESC:Events for Dòng Chúa Cứu Thế Hải Ngoại
REFRESH-INTERVAL;VALUE=DURATION:PT1H
X-Robots-Tag:noindex
X-PUBLISHED-TTL:PT1H
BEGIN:VTIMEZONE
TZID:America/Los_Angeles
BEGIN:DAYLIGHT
TZOFFSETFROM:-0800
TZOFFSETTO:-0700
TZNAME:PDT
DTSTART:20250309T100000
END:DAYLIGHT
BEGIN:STANDARD
TZOFFSETFROM:-0700
TZOFFSETTO:-0800
TZNAME:PST
DTSTART:20251102T090000
END:STANDARD
BEGIN:DAYLIGHT
TZOFFSETFROM:-0800
TZOFFSETTO:-0700
TZNAME:PDT
DTSTART:20260308T100000
END:DAYLIGHT
BEGIN:STANDARD
TZOFFSETFROM:-0700
TZOFFSETTO:-0800
TZNAME:PST
DTSTART:20261101T090000
END:STANDARD
BEGIN:DAYLIGHT
TZOFFSETFROM:-0800
TZOFFSETTO:-0700
TZNAME:PDT
DTSTART:20270314T100000
END:DAYLIGHT
BEGIN:STANDARD
TZOFFSETFROM:-0700
TZOFFSETTO:-0800
TZNAME:PST
DTSTART:20271107T090000
END:STANDARD
END:VTIMEZONE
BEGIN:VEVENT
DTSTART;VALUE=DATE:20260109
DTEND;VALUE=DATE:20260110
DTSTAMP:20260423T124136
CREATED:20251230T064809Z
LAST-MODIFIED:20251230T064809Z
UID:13472-1767916800-1768003199@dongchuacuuthe.us
SUMMARY:Thứ Sáu Tuần Sau Lễ Hiển Linh
DESCRIPTION:BÀI ĐỌC I:  1 Ga 5\, 5-6. 8-13  (Hl 5-13) \n“Thánh Thần\, nước và máu”. \nTrích thư thứ nhất của Thánh Gioan Tông đồ. \nCác con thân mến\, ai là người chiến thắng thế gian\, nếu không phải là người tin rằng Chúa Giêsu là Con Thiên Chúa? Đấng đã đến nhờ nước và máu\, chính là Đức Giêsu Kitô\, không phải trong nước mà thôi\, nhưng trong nước và máu nữa. Có Thánh Thần làm chứng rằng Chúa Kitô là chân lý. Và trên mặt đất có ba nhân chứng: Thánh Thần\, nước và máu\, cả ba chỉ là một. Nếu chứng của người đời mà chúng ta còn nhận lấy\, thì chứng của Thiên Chúa còn mạnh hơn. Vì đó là chứng của Thiên Chúa\, chứng mạnh hơn là Người đã làm chứng về Con Mình. \nAi tin kính Con Thiên Chúa\, thì có chứng của Thiên Chúa nơi mình. Còn ai không tin Thiên Chúa\, thì cho Người là gian dối\, vì kẻ ấy không tin nơi chứng mà Thiên Chúa đã làm chứng về Con Mình. Và chứng đó là thế này: Thiên Chúa đã ban cho chúng ta sự sống đời đời\, và sự sống đó ở trong Con của Người. Ai có Chúa Con\, thì có sự sống; còn ai không có Chúa Con\, thì cũng không có sự sống. Ta viết các điều này cho các con\, để các con biết rằng các con là những người tin vào danh Con Thiên Chúa\, các con có sự sống đời đời.  Đó là lời Chúa. \nĐÁP CA:  Tv 147\, 12-13. 14-15. 19-20 \nĐáp: Giêrusalem hỡi\, hãy ngợi khen Chúa (c. 12a). \nHoặc đọc:  Alleluia. \nXướng: 1)   Giêrusalem hỡi\, hãy ngợi khen Chúa! Hãy ngợi khen Thiên Chúa của ngươi\, hỡi Sion! Vì Người đã giữ chặt các then cửa thành ngươi; Người đã chúc phúc cho con cái ngươi trong thành nội.       – Đáp. \n2)   Người sắp đặt bờ cõi ngươi trong thanh bình\, cho ngươi hưởng no nê những tinh hoa lúa miến. Người đã sai Lời Người xuống cõi trần ai\, và Lời Người lanh chai chạy rảo.       – Đáp. \n3)   Người đã loan truyền Lời Người cho Giacóp\, những thánh chỉ và huấn lệnh Người cho Israel. Người đã không làm cho dân tộc nào như thế; Người đã không công bố cho họ các huấn lệnh của Người.       – Đáp. \nALLELUIA:  1 Tm 3\,36 \nAlleluia\, alleluia. – Lạy Chúa Kitô\, Đấng được rao giảng cho lương dân\, vinh danh Chúa! Lạy Chúa Kitô\, Đấng được tin kính ở thế gian\, vinh danh Chúa! – Alleluia. \nPHÚC ÂM:  Lc 5\, 12-16 \n“Lập tức người ấy khỏi phong hủi”. \nTin Mừng Chúa Giêsu Kitô theo Thánh Luca. \nXảy ra khi Chúa Giêsu đang ở trong một thành kia\, thì có một người mình đầy phong hủi\, thấy Chúa Giêsu\, liền sấp mặt xuống đất\, van xin Ngài rằng: “Lạy Thầy\, nếu Thầy muốn\, Thầy có thể cho tôi được sạch”. Người giơ tay chạm đến người ấy và nói: “Ta muốn\, hãy nên trơn sạch”. Lập tức\, người ấy khỏi phong hủi. Người ra lệnh cho người ấy không được nói với ai\, nhưng: “Hãy đi trình diện với tư tế\, và hãy dâng lễ vật như luật Môsê đã dạy\, để làm chứng cho người ta biết ngươi được sạch”. Nhưng tiếng đồn về Người cứ lan rộng\, và dân chúng đông đảo kéo nhau đến  để nghe Người và được chữa lành bệnh tật. Còn Người\, thì lánh vào nơi hoang vắng và cầu nguyện. \nĐó là lời Chúa.
URL:https://dongchuacuuthe.us/calendar/thu-sau-tuan-sau-le-hien-linh-2/
END:VEVENT
END:VCALENDAR