BEGIN:VCALENDAR
VERSION:2.0
PRODID:-//Dòng Chúa Cứu Thế Hải Ngoại - ECPv6.15.20//NONSGML v1.0//EN
CALSCALE:GREGORIAN
METHOD:PUBLISH
X-WR-CALNAME:Dòng Chúa Cứu Thế Hải Ngoại
X-ORIGINAL-URL:https://dongchuacuuthe.us
X-WR-CALDESC:Events for Dòng Chúa Cứu Thế Hải Ngoại
REFRESH-INTERVAL;VALUE=DURATION:PT1H
X-Robots-Tag:noindex
X-PUBLISHED-TTL:PT1H
BEGIN:VTIMEZONE
TZID:America/Los_Angeles
BEGIN:DAYLIGHT
TZOFFSETFROM:-0800
TZOFFSETTO:-0700
TZNAME:PDT
DTSTART:20250309T100000
END:DAYLIGHT
BEGIN:STANDARD
TZOFFSETFROM:-0700
TZOFFSETTO:-0800
TZNAME:PST
DTSTART:20251102T090000
END:STANDARD
BEGIN:DAYLIGHT
TZOFFSETFROM:-0800
TZOFFSETTO:-0700
TZNAME:PDT
DTSTART:20260308T100000
END:DAYLIGHT
BEGIN:STANDARD
TZOFFSETFROM:-0700
TZOFFSETTO:-0800
TZNAME:PST
DTSTART:20261101T090000
END:STANDARD
BEGIN:DAYLIGHT
TZOFFSETFROM:-0800
TZOFFSETTO:-0700
TZNAME:PDT
DTSTART:20270314T100000
END:DAYLIGHT
BEGIN:STANDARD
TZOFFSETFROM:-0700
TZOFFSETTO:-0800
TZNAME:PST
DTSTART:20271107T090000
END:STANDARD
END:VTIMEZONE
BEGIN:VEVENT
DTSTART;VALUE=DATE:20260108
DTEND;VALUE=DATE:20260109
DTSTAMP:20260423T124034
CREATED:20251230T064745Z
LAST-MODIFIED:20251230T064745Z
UID:13470-1767830400-1767916799@dongchuacuuthe.us
SUMMARY:Thứ Năm Tuần Sau Lễ Hiển Linh
DESCRIPTION:BÀI ĐỌC I:  1 Ga 4\, 19 – 5\, 4 \n“Ai yêu mến Thiên Chúa thì cũng phải thương yêu anh em mình nữa”. \nTrích thư thứ nhất của Thánh Gioan Tông đồ. \nCác con thân mến\, chúng ta hãy yêu mến Thiên Chúa\, vì Người đã thương yêu chúng ta trước. Nếu ai nói mình yêu mến Thiên Chúa mà lại ghét anh em mình\, thì là người nói dối. Vì người anh em mình xem thấy mà không thương yêu họ được\, thì làm sao yêu mến Thiên Chúa là Đấng mình không thấy được? Đây là giới răn chúng ta lãnh nhận nơi Thiên Chúa: ai yêu mến Thiên Chúa\, thì cũng phải thương yêu anh em mình nữa. \nHễ ai tin Chúa Giêsu là Đấng Kitô\, thì đã được sinh ra bởi Thiên Chúa. Vì hễ ai yêu mến Chúa là Đấng đã sinh thành\, thì cũng yêu mến những kẻ bởi Người mà sinh ra. Do điều này mà chúng ta biết mình yêu thương con cái Thiên Chúa\, là hễ chúng ta yêu mến Thiên Chúa\, thì chúng ta phải thực hành giới răn Người. Tình yêu Thiên Chúa là thế này: là chúng ta giữ các giới răn Người\, và giới răn Người chẳng có nặng nề đâu. Hễ sự gì bởi Thiên Chúa mà sinh ra\, thì thắng được thế gian\, và đây là sự chiến thắng thế gian: đó là đức tin của chúng ta. Ai chiến thắng thế gian\, nếu không phải kẻ tin Đức Giêsu là Con Thiên Chúa? Đó là lời Chúa. \nĐÁP CA:  Tv 71\, 2. 14 và 15bc. 17 \nĐáp: Lạy Chúa\, muôn dân khắp mặt đất sẽ thờ lạy Chúa (x. c. 11). \nXướng: 1)   Lạy Chúa\, xin ban quyền xét đoán khôn ngoan cho đức vua\, và ban sự công chính cho hoàng tử\, để người đoán xét dân Chúa cách công minh\, và phân xử người nghèo khó cách chính trực.      – Đáp. \n2)   Người sẽ cứu tâm hồn họ khỏi bất công và đàn áp\, giá máu của họ đáng kể trước mặt người. Họ sẽ cầu nguyện cho người luôn và sẽ chúc phúc người mãi mãi.       – Đáp. \n3)   Chúc tụng danh người đến muôn đời\, danh người tồn tại lâu dài như mặt trời. Vì người\, các chi họ đất hứa sẽ được chúc phúc\, và các dân nước sẽ ca ngợi người.       – Đáp. \nALLELUIA:  Lc 7\, 16 \nAlleluia\, alleluia! – Một Tiên tri cao cả đã xuất hiện giữa chúng ta và Thiên Chúa đã viếng thăm dân Người. – Alleluia. \nPHÚC ÂM:  Lc 4\, 14-22a \n“Hôm nay đã ứng nghiệm lời Kinh Thánh này”. \nTin Mừng Chúa Giêsu Kitô theo Thánh Luca. \nKhi ấy\, Chúa Giêsu trở về Galilêa trong quyền năng của Thánh Thần và danh tiếng Người đồn khắp miền xung quanh. Người giảng dạy trong các hội đường của họ\, và ai nấy đều ca tụng Người. Người đến Nadarét là nơi Người sinh trưởng\, và theo thói quen của Người\,  Người vào hội đường ngày Sabbat\, và đứng dậy đọc sách. Người ta trao cho Người cuốn sách Tiên tri Isaia. Người mở sách và gặp chỗ có chép rằng: “Thánh Thần Chúa ở trên tôi\, vì Chúa đã xức dầu cho tôi\, sai tôi đi rao giảng tin mừng cho người nghèo khó\, chữa lành những người sầu khổ trong tâm hồn\, loan tin giải thoát cho kẻ bị giam cầm\, cho người mù được thấy\, giải thoát người bị áp chế\, công bố năm hồng ân của Thiên Chúa”. \nNgười xếp sách lại\, trao cho viên phụ trách\, đoạn ngồi xuống. Mọi người trong hội đường đều đưa mắt chăm chú nhìn Người. Người bắt đầu nói với họ rằng: “Hôm nay đã ứng nghiệm lời Kinh Thánh tai các ngươi vừa nghe”. Và ai nấy đều công nhận lời Người và ngạc nhiên vì những lời hấp dẫn thốt ra từ miệng Người. \nĐó là lời Chúa.
URL:https://dongchuacuuthe.us/calendar/thu-nam-tuan-sau-le-hien-linh-2/
END:VEVENT
END:VCALENDAR