BEGIN:VCALENDAR
VERSION:2.0
PRODID:-//Dòng Chúa Cứu Thế Hải Ngoại - ECPv6.15.20//NONSGML v1.0//EN
CALSCALE:GREGORIAN
METHOD:PUBLISH
X-WR-CALNAME:Dòng Chúa Cứu Thế Hải Ngoại
X-ORIGINAL-URL:https://dongchuacuuthe.us
X-WR-CALDESC:Events for Dòng Chúa Cứu Thế Hải Ngoại
REFRESH-INTERVAL;VALUE=DURATION:PT1H
X-Robots-Tag:noindex
X-PUBLISHED-TTL:PT1H
BEGIN:VTIMEZONE
TZID:America/Los_Angeles
BEGIN:DAYLIGHT
TZOFFSETFROM:-0800
TZOFFSETTO:-0700
TZNAME:PDT
DTSTART:20250309T100000
END:DAYLIGHT
BEGIN:STANDARD
TZOFFSETFROM:-0700
TZOFFSETTO:-0800
TZNAME:PST
DTSTART:20251102T090000
END:STANDARD
BEGIN:DAYLIGHT
TZOFFSETFROM:-0800
TZOFFSETTO:-0700
TZNAME:PDT
DTSTART:20260308T100000
END:DAYLIGHT
BEGIN:STANDARD
TZOFFSETFROM:-0700
TZOFFSETTO:-0800
TZNAME:PST
DTSTART:20261101T090000
END:STANDARD
BEGIN:DAYLIGHT
TZOFFSETFROM:-0800
TZOFFSETTO:-0700
TZNAME:PDT
DTSTART:20270314T100000
END:DAYLIGHT
BEGIN:STANDARD
TZOFFSETFROM:-0700
TZOFFSETTO:-0800
TZNAME:PST
DTSTART:20271107T090000
END:STANDARD
END:VTIMEZONE
BEGIN:VEVENT
DTSTART;VALUE=DATE:20260103
DTEND;VALUE=DATE:20260104
DTSTAMP:20260423T124055
CREATED:20251230T064233Z
LAST-MODIFIED:20251230T064233Z
UID:13453-1767398400-1767484799@dongchuacuuthe.us
SUMMARY:Ngày 3 tháng 1 Tuần Trước Lễ Hiển Linh
DESCRIPTION:BÀI ĐỌC I: 1 Ga 2\, 29 – 3\, 6 \n“Bất cứ ai ở trong Người đều không phạm tội”. \nTrích thư thứ nhất của Thánh Gioan Tông đồ. \nCác con thân mến\, nếu các con biết Người là Đấng công chính\, thì các con hãy biết rằng bất cứ ai thực hành sự công chính\, đều bởi Người mà sinh ra.  \nCác con hãy coi tình yêu của Chúa Cha đối với chúng ta thế nào\, khiến chúng ta được gọi là con Thiên Chúa\, và sự thật là thế. Vì đó mà thế gian không nhận biết chúng ta\, vì thế gian không biết Người.  \nCác con thân mến\, hiện nay chúng ta là con Thiên Chúa\, còn chúng ta sẽ ra sao thì vẫn chưa được tỏ ra. Chúng ta biết rằng: khi được tỏ ra\, thì chúng ta sẽ giống như Người\, vì Người thế nào\, chúng ta sẽ thấy như vậy. \nVà bất cứ ai đặt hy vọng nơi Người\, thì tự thánh hoá mình cũng như Người là Đấng Thánh. Hễ ai phạm tội\, thì cũng làm điều gian ác\, vì tội là sự gian ác. Các con biết rằng: Người đã xuất hiện để huỷ diệt tội lỗi chúng ta. Bất cứ ai ở trong Người\, thì không phạm tội\, và bất cứ ai phạm tội thì không thấy cũng không nhận biết Người. Đó là lời Chúa. \nĐÁP CA: Tv 97\, 1. 3cd-4. 5-6 \nĐáp: Khắp nơi bờ cõi địa cầu đã nhìn thấy ơn cứu độ của Thiên Chúa chúng ta (c. 3c). \nXướng: 1) Hãy ca mừng Chúa một bài ca mới\, vì Người đã làm nên những điều huyền diệu. Tay hữu Người đã tạo cho Người cuộc chiến thắng\, cùng với cánh tay thánh thiện của Người. – Đáp.  \n2) Khắp nơi bờ cõi địa cầu đã nhìn thấy ơn cứu độ của Thiên Chúa chúng ta. Toàn thể địa cầu hãy reo mừng Chúa\, hãy hoan hỉ\, mừng vui và đàn ca. – Đáp.  \n3) Hãy ca mừng Chúa với cây đàn cầm\, với cây đàn cầm\, với điệu nhạc du dương\, cùng với tiếng kèn râm ran\, tiếng tù và rúc\, hãy hoan hô trước thiên nhan Chúa là Vua. – Đáp.  \nALLELUIA: \nAlleluia\, alleluia! – Ngày thánh đã dọi ánh sáng trên chúng ta. Hỡi các dân\, hãy tới thờ lạy Chúa\, vì hôm nay ánh sáng chan hoà đã toả xuống trên địa cầu. – Alleluia. \nPHÚC ÂM: Ga 1\, 29-34 \n“Đây Chiên Thiên Chúa”. \nTin Mừng Chúa Giêsu Kitô theo Thánh Gioan. \nNgày hôm sau\, Gioan thấy Chúa Giêsu đến với mình thì nói: “Đây Chiên Thiên Chúa\, đây Đấng xoá tội trần gian. Đây chính là Đấng mà tôi đã nói rằng: ‘Có người đến sau tôi\, nhưng cao trọng hơn tôi\, vì Người vốn có trước tôi’. Phần tôi\, trước tôi không biết Người\, nhưng tôi đã đến làm phép rửa bằng nước để Người được tỏ mình ra trong Israel”.  \nVà Gioan đã làm chứng rằng: “Tôi đã thấy Thánh Thần\, như chim bồ câu\, từ trời xuống ngự trên Người. Và trước tôi không biết Người\, nhưng Đấng đã sai tôi làm phép rửa trong nước bảo tôi: ‘Ngươi thấy Thánh Thần ngự xuống trên ai\, thì chính người đó là Đấng làm phép rửa trong Thánh Thần’. Tôi đã thấy và làm chứng rằng: Người là Con Thiên Chúa”.  \nĐó là lời Chúa.
URL:https://dongchuacuuthe.us/calendar/ngay-3-thang-1-tuan-truoc-le-hien-linh-2/
END:VEVENT
END:VCALENDAR