BEGIN:VCALENDAR
VERSION:2.0
PRODID:-//Dòng Chúa Cứu Thế Hải Ngoại - ECPv6.15.20//NONSGML v1.0//EN
CALSCALE:GREGORIAN
METHOD:PUBLISH
X-WR-CALNAME:Dòng Chúa Cứu Thế Hải Ngoại
X-ORIGINAL-URL:https://dongchuacuuthe.us
X-WR-CALDESC:Events for Dòng Chúa Cứu Thế Hải Ngoại
REFRESH-INTERVAL;VALUE=DURATION:PT1H
X-Robots-Tag:noindex
X-PUBLISHED-TTL:PT1H
BEGIN:VTIMEZONE
TZID:America/Los_Angeles
BEGIN:DAYLIGHT
TZOFFSETFROM:-0800
TZOFFSETTO:-0700
TZNAME:PDT
DTSTART:20240310T100000
END:DAYLIGHT
BEGIN:STANDARD
TZOFFSETFROM:-0700
TZOFFSETTO:-0800
TZNAME:PST
DTSTART:20241103T090000
END:STANDARD
BEGIN:DAYLIGHT
TZOFFSETFROM:-0800
TZOFFSETTO:-0700
TZNAME:PDT
DTSTART:20250309T100000
END:DAYLIGHT
BEGIN:STANDARD
TZOFFSETFROM:-0700
TZOFFSETTO:-0800
TZNAME:PST
DTSTART:20251102T090000
END:STANDARD
BEGIN:DAYLIGHT
TZOFFSETFROM:-0800
TZOFFSETTO:-0700
TZNAME:PDT
DTSTART:20260308T100000
END:DAYLIGHT
BEGIN:STANDARD
TZOFFSETFROM:-0700
TZOFFSETTO:-0800
TZNAME:PST
DTSTART:20261101T090000
END:STANDARD
END:VTIMEZONE
BEGIN:VEVENT
DTSTART;VALUE=DATE:20251227
DTEND;VALUE=DATE:20251228
DTSTAMP:20260423T141057
CREATED:20251201T022617Z
LAST-MODIFIED:20251201T022617Z
UID:13306-1766793600-1766879999@dongchuacuuthe.us
SUMMARY:Lễ Th. Gioan\, Tông Đồ\, Tác Giả Sách Tin Mừng\, LK
DESCRIPTION:BÀI ĐỌC I: 1 Ga 1\, 1-4 \n“Chúng tôi loan truyền cho anh em điều chúng tôi đã nghe và đã thấy”. \nBắt đầu thư thứ nhất của Thánh Gioan Tông đồ. \nCác con thân mến\, điều đã có từ thuở ban sơ\, điều chúng tôi đã nghe\, điều chúng tôi đã thấy tận mắt\, điều chúng tôi đã ngắm nhìn và tay chúng tôi đã sờ đến về Ngôi Lời hằng sống: là sự sống đã tỏ hiện\, và chúng tôi đã từng thấy\, chúng tôi làm chứng và chúng tôi loan truyền cho các con sự sống đời đời đã có nơi Chúa Cha và đã tỏ hiện cho chúng ta. Điều chúng tôi đã thấy và đã nghe\, thì chúng tôi loan truyền cho các con\, để các con hiệp nhất với chúng tôi\, và chúng ta hiệp nhất với Chúa Cha và với Chúa Giêsu Kitô\, Con của Người. Chúng tôi viết các điều này để các con vui mừng và niềm vui của các con được trọn vẹn. Đó là lời Chúa. \nĐÁP CA: Tv 96\, 1-2. 5-6. 11-12 \nĐáp: Người hiền đức\, hãy vui mừng trong Chúa (c. 12a). \nXướng: 1) Chúa hiển trị\, địa cầu hãy hân hoan\, hải đảo muôn ngàn\, hãy mừng vui. Mây khói và sương mù bao toả chung quanh\, công minh chính trực là nền kê ngai báu. – Đáp.  \n2) Núi non vỡ lở như mẩu sáp trước thiên nhan\, trước thiên nhan Chúa tể toàn cõi đất. Trời xanh loan truyền sự công minh Chúa\, và chư dân được thấy vinh hiển của Người. – Đáp.  \n3) Sáng sủa bừng lên cho người hiền đức\, và niềm hoan hỉ cho kẻ lòng ngay. Người hiền đức\, hãy vui mừng trong Chúa và hãy ca tụng thánh danh Người. – Đáp.  \nALLELUIA: \nAlleluia\, alleluia! – Chúng con ca ngợi Chúa là Thiên Chúa; lạy Chúa\, ca đoàn vinh quang của các tông đồ ca ngợi Chúa. – Alleluia. \n\nPHÚC ÂM: Ga 20\, 2-8 \n“Môn đệ kia chạy nhanh hơn Phêrô và đến mộ trước ông”. \nTin Mừng Chúa Giêsu Kitô theo Thánh Gioan. \nNgày thứ nhất trong tuần\, Maria Mađalêna chạy đến gặp Simon Phêrô và môn đệ kia mà Chúa Giêsu yêu\, bà nói: “Người ta đã lấy xác Chúa khỏi mộ rồi\, chúng tôi không biết họ để đâu”.  \nBấy giờ Phêrô ra đi với môn đệ kia đến mộ. Cả hai cùng chạy\, nhưng môn đệ kia chạy nhanh hơn Phêrô và đến mộ trước ông. Cúi nhìn vào\, người môn đệ đó thấy tấm khăn liệm xác hãy còn\, nhưng không vào. Bấy giờ Simon Phêrô theo sau cũng đến\, và đi vào trong mộ\, thấy khăn liệm xác còn đó\, và khăn che mặt để trên phía đầu Người\, không để chung với khăn liệm xác\, nhưng đã cuốn riêng để vào một chỗ.  \nBấy giờ môn đệ đã đến trước cũng vào; ông đã thấy và đã tin. Đó là lời Chúa.
URL:https://dongchuacuuthe.us/calendar/le-th-gioan-tong-do-tac-gia-sach-tin-mung-lk-2/
END:VEVENT
END:VCALENDAR