BEGIN:VCALENDAR
VERSION:2.0
PRODID:-//Dòng Chúa Cứu Thế Hải Ngoại - ECPv6.15.20//NONSGML v1.0//EN
CALSCALE:GREGORIAN
METHOD:PUBLISH
X-ORIGINAL-URL:https://dongchuacuuthe.us
X-WR-CALDESC:Events for Dòng Chúa Cứu Thế Hải Ngoại
REFRESH-INTERVAL;VALUE=DURATION:PT1H
X-Robots-Tag:noindex
X-PUBLISHED-TTL:PT1H
BEGIN:VTIMEZONE
TZID:America/Los_Angeles
BEGIN:DAYLIGHT
TZOFFSETFROM:-0800
TZOFFSETTO:-0700
TZNAME:PDT
DTSTART:20240310T100000
END:DAYLIGHT
BEGIN:STANDARD
TZOFFSETFROM:-0700
TZOFFSETTO:-0800
TZNAME:PST
DTSTART:20241103T090000
END:STANDARD
BEGIN:DAYLIGHT
TZOFFSETFROM:-0800
TZOFFSETTO:-0700
TZNAME:PDT
DTSTART:20250309T100000
END:DAYLIGHT
BEGIN:STANDARD
TZOFFSETFROM:-0700
TZOFFSETTO:-0800
TZNAME:PST
DTSTART:20251102T090000
END:STANDARD
BEGIN:DAYLIGHT
TZOFFSETFROM:-0800
TZOFFSETTO:-0700
TZNAME:PDT
DTSTART:20260308T100000
END:DAYLIGHT
BEGIN:STANDARD
TZOFFSETFROM:-0700
TZOFFSETTO:-0800
TZNAME:PST
DTSTART:20261101T090000
END:STANDARD
END:VTIMEZONE
BEGIN:VEVENT
DTSTART;VALUE=DATE:20251226
DTEND;VALUE=DATE:20251227
DTSTAMP:20260423T141103
CREATED:20251201T022509Z
LAST-MODIFIED:20251201T022509Z
UID:13302-1766707200-1766793599@dongchuacuuthe.us
SUMMARY:Lễ Thánh Têphanô\, Tiên Khởi Tử Đạo\, LK
DESCRIPTION:BÀI ĐỌC I: Cv 6\, 8-10; 7\, 54-59 \n“Kìa tôi xem thấy trời mở ra”. \nTrích sách Tông đồ Công vụ. \nTrong những ngày đó\, Têphanô đầy ân sủng và sức mạnh\, làm nên những điều kỳ diệu và những phép lạ cả thể trong dân. Bấy giờ\, có nhóm người kia thuộc Hội đường\, mệnh danh là “của những người Tự do\, người Xirênê và Alexandria”\, và những người khác từ xứ Cilicia và Á đông\, đã nổi dậy. Họ tranh luận với Têphanô\, nhưng họ không thể đương đầu với sự khôn ngoan và Thánh Thần vẫn giúp cho ông nói.  \nNghe ông nói\, họ phát điên lên trong lòng\, và họ nghiến răng phản đối ông. Nhưng Têphanô\, đầy Thánh Thần\, nhìn lên trời\, đã xem thấy vinh quang của Thiên Chúa\, và Đức Giêsu đứng bên hữu Thiên Chúa. Ông đã nói rằng: “Kìa\, tôi xem thấy trời mở ra\, và Con Người đứng bên hữu Thiên Chúa”.  \nBấy giờ họ lớn tiếng kêu la và bịt tai lại\, và họ nhất tề xông vào ông. Khi lôi ông ra ngoài thành\, họ ném đá ông. Và các nhân chứng để áo của họ dưới chân một người thanh niên tên là Saolê.  \nRồi họ ném đá Têphanô\, đang lúc ông cầu nguyện rằng: “Lạy Chúa Giêsu\, xin đón nhận tâm hồn con”. Thế rồi ông quỳ gối xuống\, lớn tiếng kêu lên rằng: “Lạy Chúa\, xin đừng trách cứ họ về tội lỗi này”. Nói xong câu đó\, ông đã an giấc trong Chúa. Đó là lời Chúa. \nĐÁP CA: Tv 30\, 3cd-4. 6ab và 8a. 17 và 21ab \nĐáp: Lạy Chúa\, con phó thác tâm hồn trong tay Chúa (c. 6a). \nXướng: 1) Xin Chúa trở thành núi đá cho con trú ẩn\, thành chiến luỹ kiên cố để cứu độ con. Bởi Chúa là Đá Tảng\, là chiến luỹ của con\, vì uy danh Ngài\, Ngài sẽ dìu dắt và hướng dẫn con. – Đáp.  \n2) Con phó thác tâm hồn trong tay Chúa\, lạy Chúa. Lạy Thiên Chúa trung thành\, xin cứu chữa con. Con sẽ hân hoan mừng rỡ vì đức từ bi của Chúa. – Đáp.  \n3) Xin cho tôi tớ Chúa được thấy long nhan dịu hiền\, xin cứu sống con theo lượng từ bi của Chúa. Chúa che chở họ dưới bóng long nhan Ngài cho khỏi người ta âm mưu làm hại. – Đáp.  \n4) Xin Chúa tỏ mặt nhân lành với tôi tớ Chúa\, và lấy lòng thương xót Chúa cứu thoát con. Chúa che chở những ai nấp dưới nhan thánh Chúa khỏi mưu chước của loài người. Chúa giấu họ trong nhà Chúa\, khỏi miệng lưỡi gian ngoa. – Đáp.  \nALLELUIA: \nAlleluia\, alleluia! – Chúc tụng Đấng nhân danh Chúa mà đến; Chúa là Thiên Chúa đã soi sáng chúng ta. – Alleluia. \n\nPHÚC ÂM: Mt 10\, 17-22 \n“Không phải chúng con nói\, nhưng là Thánh Thần của Chúa Cha”. \nTin Mừng Chúa Giêsu Kitô theo Thánh Matthêu. \nNgày ấy\, Chúa Giêsu phán cùng các Tông đồ rằng: “Các con hãy coi chừng người đời. Họ sẽ nộp các con cho công nghị\, họ sẽ đánh đòn các con nơi hội đường. Vì Ta\, các con sẽ bị điệu đến trước vua quan\, để làm chứng trước mặt họ và các dân. Nhưng khi người ta nộp các con\, các con chớ lo lắng phải nói sao và nói gì\, vì không phải các con nói\, nhưng là Thánh Thần của Chúa Cha các con sẽ nói thay cho. Anh sẽ nộp em cho người ta giết; cha sẽ nộp con; con cái chống đối cha mẹ và làm cha mẹ phải chết. Vì Ta\, các con sẽ bị mọi người ghét bỏ\, nhưng kẻ nào bền chí đến cùng\, sẽ được cứu rỗi. Đó là lời Chúa.
URL:https://dongchuacuuthe.us/calendar/le-thanh-tephano-tien-khoi-tu-dao-lk-2/
END:VEVENT
END:VCALENDAR