BEGIN:VCALENDAR
VERSION:2.0
PRODID:-//Dòng Chúa Cứu Thế Hải Ngoại - ECPv6.15.20//NONSGML v1.0//EN
CALSCALE:GREGORIAN
METHOD:PUBLISH
X-ORIGINAL-URL:https://dongchuacuuthe.us
X-WR-CALDESC:Events for Dòng Chúa Cứu Thế Hải Ngoại
REFRESH-INTERVAL;VALUE=DURATION:PT1H
X-Robots-Tag:noindex
X-PUBLISHED-TTL:PT1H
BEGIN:VTIMEZONE
TZID:America/Los_Angeles
BEGIN:DAYLIGHT
TZOFFSETFROM:-0800
TZOFFSETTO:-0700
TZNAME:PDT
DTSTART:20240310T100000
END:DAYLIGHT
BEGIN:STANDARD
TZOFFSETFROM:-0700
TZOFFSETTO:-0800
TZNAME:PST
DTSTART:20241103T090000
END:STANDARD
BEGIN:DAYLIGHT
TZOFFSETFROM:-0800
TZOFFSETTO:-0700
TZNAME:PDT
DTSTART:20250309T100000
END:DAYLIGHT
BEGIN:STANDARD
TZOFFSETFROM:-0700
TZOFFSETTO:-0800
TZNAME:PST
DTSTART:20251102T090000
END:STANDARD
BEGIN:DAYLIGHT
TZOFFSETFROM:-0800
TZOFFSETTO:-0700
TZNAME:PDT
DTSTART:20260308T100000
END:DAYLIGHT
BEGIN:STANDARD
TZOFFSETFROM:-0700
TZOFFSETTO:-0800
TZNAME:PST
DTSTART:20261101T090000
END:STANDARD
END:VTIMEZONE
BEGIN:VEVENT
DTSTART;VALUE=DATE:20251223
DTEND;VALUE=DATE:20251224
DTSTAMP:20260423T141103
CREATED:20251201T022235Z
LAST-MODIFIED:20251201T022235Z
UID:13292-1766448000-1766534399@dongchuacuuthe.us
SUMMARY:Ngày 23 tháng 12 Mùa Vọng
DESCRIPTION:BÀI ĐỌC I: Ml 3\, 1-4; 4\, 5-6 (Hr 3\, 1-4\, 23-24) \n“Ta sẽ sai tiên tri Êlia đến cùng các ngươi trước ngày Chúa đến”. \nTrích sách Tiên tri Malakhi. \nĐây là những điều Thiên Chúa phán: Này đây\, Ta sai sứ thần Ta đi dọn một con đường trước mặt Ta. Và bỗng chốc\, Đấng Chủ tể các ngươi tìm kiếm\, Sứ Thần Giao Ước các ngươi mong ước\, Người ngự đến trong thánh điện Người. Này đây\, Người ngự đến\, Chúa các cơ binh phán: Ai biết được ngày nào Người đến? Ai đứng vững mà trông xem Người? Vì Người như ngọn lửa hoả lò\, như lá thuốc của phường thợ giặt. Người sẽ ngồi nung nấu luyện bạc\, sẽ tẩy luyện con cái Lêvi\, lọc chúng nó như vàng như bạc\, để chúng trở thành cho Chúa những người dâng lễ tế trong công chính. Lễ tế của Giuđa và Giêrusalem sẽ đẹp lòng Chúa\, như ngày xưa\, như những năm đầu.  \nNày đây\, Ta sai Tiên tri Êlia đến cùng các ngươi\, trước ngày trọng đại và kinh khủng của Ta. Người sẽ hoán cải lòng cha ông về lại với con cháu\, và lòng con cháu trở về cùng cha ông\, kẻo Ta ngự đến tiêu diệt địa cầu. Đó là lời Chúa. \nĐÁP CA: Tv 24\, 4bc-5ab. 8-9. 10 và 14 \nĐáp: Hãy nhìn xem và hãy ngẩng đầu lên\, vì ơn cứu chuộc các ngươi đã gần đến (Lc 21\, 28). \nXướng: 1) Lạy Chúa\, xin chỉ cho con đường đi của Chúa\, xin dạy bảo con về lối bước của Ngài. Xin hướng dẫn con trong chân lý và dạy bảo con\, vì Chúa là Thiên Chúa cứu độ con. – Đáp.  \n2) Chúa nhân hậu và công minh\, vì thế Ngài sẽ dạy cho tội nhân hay đường lối. Ngài hướng dẫn kẻ khiêm cung trong đức công minh\, dạy bảo người khiêm cung đường lối của Ngài. – Đáp.  \n3) Tất cả đường nẻo Chúa là ân sủng và trung thành\, dành cho những ai giữ minh ước và điều răn Chúa. Chúa thân mật với những ai tôn sợ Chúa\, và tỏ cho họ biết lời minh ước của Ngài. – Đáp.  \nALLELUIA: \nAlleluia\, alleluia! – Lạy Đức Emmanuel\, là Vua và là Đấng ban lề luật\, lạy Chúa là Thiên Chúa chúng con\, xin hãy đến cứu độ chúng con. – Alleluia. \nPHÚC ÂM: Lc 1\, 57-66 \n“Sinh nhật của Gioan Tẩy Giả”. \nTin Mừng Chúa Giêsu Kitô theo Thánh Luca. \nKhi đến ngày sinh\, bà Isave hạ sinh một con trai. Láng giềng bà con nghe biết Chúa đã tỏ lòng nhân hậu lớn lao đối với bà liền đến chúc mừng bà. Ngày thứ tám\, người ta đến làm phép cắt bì cho con trẻ\, và họ lấy tên Dacaria của cha nó mà đặt cho nó. Nhưng bà mẹ đáp lại rằng: “Không được\, nó sẽ gọi tên là Gioan”.  \nHọ bảo bà rằng: “Không ai trong họ hàng bà có tên đó”. Và họ làm hiệu hỏi cha con trẻ muốn gọi tên gì. Ông xin một tấm bảng và viết: “Tên nó là Gioan”. Và mọi người đều bỡ ngỡ. Bỗng chốc lưỡi ông mở ra\, và ông liền chúc tụng Chúa.  \nMọi người lân cận đều kinh hãi. Và trên khắp miền núi xứ Giuđêa\, người ta loan truyền mọi việc đó. Hết thảy những ai nghe biết\, đều để bụng nghĩ rằng: “Con trẻ này rồi sẽ nên thế nào? Vì quả thực\, bàn tay Chúa đã ở với nó”.  \nĐó là lời Chúa.
URL:https://dongchuacuuthe.us/calendar/ngay-23-thang-12-mua-vong-2/
END:VEVENT
END:VCALENDAR