BEGIN:VCALENDAR
VERSION:2.0
PRODID:-//Dòng Chúa Cứu Thế Hải Ngoại - ECPv6.15.20//NONSGML v1.0//EN
CALSCALE:GREGORIAN
METHOD:PUBLISH
X-ORIGINAL-URL:https://dongchuacuuthe.us
X-WR-CALDESC:Events for Dòng Chúa Cứu Thế Hải Ngoại
REFRESH-INTERVAL;VALUE=DURATION:PT1H
X-Robots-Tag:noindex
X-PUBLISHED-TTL:PT1H
BEGIN:VTIMEZONE
TZID:America/Los_Angeles
BEGIN:DAYLIGHT
TZOFFSETFROM:-0800
TZOFFSETTO:-0700
TZNAME:PDT
DTSTART:20240310T100000
END:DAYLIGHT
BEGIN:STANDARD
TZOFFSETFROM:-0700
TZOFFSETTO:-0800
TZNAME:PST
DTSTART:20241103T090000
END:STANDARD
BEGIN:DAYLIGHT
TZOFFSETFROM:-0800
TZOFFSETTO:-0700
TZNAME:PDT
DTSTART:20250309T100000
END:DAYLIGHT
BEGIN:STANDARD
TZOFFSETFROM:-0700
TZOFFSETTO:-0800
TZNAME:PST
DTSTART:20251102T090000
END:STANDARD
BEGIN:DAYLIGHT
TZOFFSETFROM:-0800
TZOFFSETTO:-0700
TZNAME:PDT
DTSTART:20260308T100000
END:DAYLIGHT
BEGIN:STANDARD
TZOFFSETFROM:-0700
TZOFFSETTO:-0800
TZNAME:PST
DTSTART:20261101T090000
END:STANDARD
END:VTIMEZONE
BEGIN:VEVENT
DTSTART;VALUE=DATE:20251222
DTEND;VALUE=DATE:20251223
DTSTAMP:20260423T141103
CREATED:20251130T161821Z
LAST-MODIFIED:20251130T161821Z
UID:13260-1766361600-1766447999@dongchuacuuthe.us
SUMMARY:Ngày 22 tháng 12 Mùa Vọng
DESCRIPTION:BÀI ĐỌC I: 1 Sm 1\, 24-28 \n“Bà Anna tạ ơn Chúa vì được sinh Samuel”. \nTrích sách Samuel quyển thứ nhất. \nNgày ấy\, sau khi đã cho Samuel dứt sữa\, bà Anna liền bắt một con bò ba tuổi\, lấy ba cân bột\, một vò rượu\, và dẫn con đến nhà Chúa ở Silô. Con trẻ lúc đó còn nhỏ bé. Họ tế lễ con bò và dâng con trẻ cho ông Hêli. Anna thưa: “Kính lạy ngài\, chúc ngài khang an! Tôi là người đàn bà nọ đã đứng cầu xin Chúa nơi đây trước mặt ngài. Tôi đã cầu xin vì trẻ này\, và Chúa đã cho tôi được như tôi xin. Vậy tôi xin dâng lại cho Chúa\, trót mọi ngày nó thuộc về Chúa”. Và họ thờ lạy Chúa ngay ở đó. Đó là lời Chúa. \nĐÁP CA: 1 Sm 2\, 1. 4-5. 6-7. 8abcd \nĐáp: Lòng tôi nhảy mừng trong Chúa cứu độ tôi (c. 1a). \nXướng: 1) Lòng tôi nhảy mừng trong Chúa\, khí phách tôi hướng lên Thiên Chúa của tôi\, miệng tôi rộng mở chống quân thù\, tôi vui mừng vì Chúa cứu độ tôi. – Đáp.  \n2) Cung nỏ người hùng bị bẻ tan\, người kiệt sức lại nai nịt dũng khí; kẻ no đầy nay làm thuê vì miếng bánh\, người đói lả nay lại được no nê. Người son sẻ lại con đàn cháu đống\, kẻ nhiều con lại trở nên héo tàn. – Đáp.  \n3) Chúa cho chết và Chúa làm cho sống\, cho đi xuống mồ rồi lại đem lên\, làm cho nghèo rồi cho nên giàu có\, hạ xuống thấp rồi lại nhắc lên cao. – Đáp.  \n4) Cho kẻ bần cùng đứng dậy khỏi bụi tro\, nâng cao kẻ nghèo khỏi phân nhơ rác rến\, cho ngồi chung với vua quan tướng lãnh\, đặt cho họ một ngai báu vinh quang. – Đáp.  \nALLELUIA: \nAlleluia\, alleluia! – Lạy Vua muôn dân và Đá Góc toà nhà Hội thánh\, xin hãy đến cứu độ con người mà Chúa đã tạo dựng bằng bùn đất! – Alleluia. \n\nPHÚC ÂM: Lc 1\, 46-56 \n“Đấng Toàn Năng đã làm cho tôi những sự trọng đại”. \nTin Mừng Chúa Giêsu Kitô theo Thánh Luca. \nKhi ấy\, Maria nói rằng: “Linh hồn tôi ngợi khen Chúa\, và thần trí tôi hoan hỉ trong Thiên Chúa\, Đấng Cứu Độ tôi\, vì Chúa đã đoái nhìn đến phận hèn tớ nữ của Chúa. Từ nay muôn thế hệ sẽ khen tôi có phước\, vì Đấng toàn năng đã làm cho tôi những sự trọng đại\, và danh Ngài là thánh. Lòng thương xót Chúa trải qua đời nọ đến đời kia dành cho những ai kính sợ Chúa. Chúa đã vung cánh tay ra oai thần lực\, dẹp tan những ai lòng trí kiêu căng. Chúa lật đổ người quyền thế xuống khỏi ngai vàng\, và nâng cao những người phận nhỏ. Chúa đã cho người đói khát no đầy ơn phước\, và để người giàu có trở về tay không. Chúa săn sóc Israel tôi tớ Chúa\, bởi nhớ lại lòng thương xót của Ngài. Như Chúa đã phán cùng các tổ phụ chúng tôi\, cho Abraham và dòng dõi Người đến muôn đời!”  \nMaria ở lại với bà Isave độ ba tháng\, đoạn Người trở về nhà mình.  \nĐó là lời Chúa.
URL:https://dongchuacuuthe.us/calendar/ngay-22-thang-12-mua-vong-2/
END:VEVENT
END:VCALENDAR