BEGIN:VCALENDAR
VERSION:2.0
PRODID:-//Dòng Chúa Cứu Thế Hải Ngoại - ECPv6.15.20//NONSGML v1.0//EN
CALSCALE:GREGORIAN
METHOD:PUBLISH
X-ORIGINAL-URL:https://dongchuacuuthe.us
X-WR-CALDESC:Events for Dòng Chúa Cứu Thế Hải Ngoại
REFRESH-INTERVAL;VALUE=DURATION:PT1H
X-Robots-Tag:noindex
X-PUBLISHED-TTL:PT1H
BEGIN:VTIMEZONE
TZID:America/Los_Angeles
BEGIN:DAYLIGHT
TZOFFSETFROM:-0800
TZOFFSETTO:-0700
TZNAME:PDT
DTSTART:20240310T100000
END:DAYLIGHT
BEGIN:STANDARD
TZOFFSETFROM:-0700
TZOFFSETTO:-0800
TZNAME:PST
DTSTART:20241103T090000
END:STANDARD
BEGIN:DAYLIGHT
TZOFFSETFROM:-0800
TZOFFSETTO:-0700
TZNAME:PDT
DTSTART:20250309T100000
END:DAYLIGHT
BEGIN:STANDARD
TZOFFSETFROM:-0700
TZOFFSETTO:-0800
TZNAME:PST
DTSTART:20251102T090000
END:STANDARD
BEGIN:DAYLIGHT
TZOFFSETFROM:-0800
TZOFFSETTO:-0700
TZNAME:PDT
DTSTART:20260308T100000
END:DAYLIGHT
BEGIN:STANDARD
TZOFFSETFROM:-0700
TZOFFSETTO:-0800
TZNAME:PST
DTSTART:20261101T090000
END:STANDARD
END:VTIMEZONE
BEGIN:VEVENT
DTSTART;VALUE=DATE:20251221
DTEND;VALUE=DATE:20251222
DTSTAMP:20260423T153404
CREATED:20251130T161149Z
LAST-MODIFIED:20251130T161149Z
UID:13251-1766275200-1766361599@dongchuacuuthe.us
SUMMARY:CN IV Mùa Vọng Năm A
DESCRIPTION:BÀI ĐỌC I: Is 7\, 10-14 \n“Này trinh nữ sẽ thụ thai”. \nBài trích sách Tiên tri Isaia. \nNgày ấy\, Chúa phán bảo vua Achaz rằng: “Hãy xin Thiên Chúa\, Chúa ngươi\, một dấu ở dưới lòng đất hay ở trên trời cao!” Nhưng vua Achaz thưa: “Tôi sẽ không xin\, vì tôi không dám thử thách Chúa”.  \nVà Isaia nói: “Vậy hãy nghe đây\, hỡi nhà Đavít\, làm phiền lòng người ta chưa đủ ư\, mà còn muốn làm phiền lòng Thiên Chúa nữa? Vì thế\, chính Chúa sẽ cho các ngươi một dấu: này đây một trinh nữ sẽ thụ thai\, hạ sinh một con trai\, và tên con trẻ sẽ gọi là Emmanuel\, nghĩa là Thiên-Chúa-ở-cùng-chúng-ta”. Đó là lời Chúa. \nĐÁP CA: Tv 23\, 1-2. 3-4ab. 5-6 \nĐáp: Chúa ngự qua\, chính Ngài là Hoàng Đế hiển vinh (x. c. 7c và 10b). \nXướng: 1) Chúa là chủ trái đất và mọi vật làm sung mãn nó\, chủ địa cầu và muôn loài cư trú ở trong. Vì chính Ngài xây dựng nó trên biển cả\, và Ngài giữ vững nó trên chỗ nước nguồn. – Đáp. \n2) Ai khá trèo lên cao sơn của Chúa\, ai được đứng trong nơi thánh của Ngài? Người tay vô tội và lòng thanh khiết\, người không để lòng xu hướng bả phù hoa. – Đáp.  \n3) Người đó sẽ được Chúa chúc phúc cho\, và được Thiên Chúa là Đấng cứu độ ban ân thưởng. Đó là dòng dõi người tìm kiếm Chúa\, người tìm long nhan Thiên Chúa nhà Giacóp. – Đáp.  \nBÀI ĐỌC II: Rm 1\, 1-7 \n“Đức Giêsu\, thuộc dòng dõi vua Đavít\, là Con Thiên Chúa”. \nBài trích thơ Thánh Phaolô Tông đồ gởi tín hữu Rôma. \nPhaolô\, tôi tớ Chúa Giêsu Kitô\, đã được kêu gọi làm Tông đồ và đã được tuyển chọn để rao giảng tin mừng Thiên Chúa. Tin mừng ấy Thiên Chúa đã hứa trước bằng lời các tiên tri trong Kinh Thánh về Con của Người; Người đã sinh ra theo huyết nhục bởi dòng dõi Đavít\, đã được tiền định là Con Thiên Chúa quyền năng theo Thánh Thần\, đã sống lại từ cõi chết. Đó chính là Đức Giêsu Kitô\, Chúa chúng ta\, nhờ Người\, chúng tôi đã nhận ân sủng và chức vụ tông đồ\, để nhân danh Người\, chúng tôi quy phục mọi dân tộc về Đức Tin\, trong đó có cả anh em là những người mà Chúa Giêsu đã kêu gọi.  \nTôi chúc tất cả mọi người trong thành Rôma được Thiên Chúa yêu mến và kêu gọi nên thánh\, được ân sủng và bình an của Thiên Chúa là Cha chúng ta\, và của Đức Giêsu Kitô là Chúa chúng ta. Đó là lời Chúa. \nALLELUIA: Mt 1\, 21 \nAlleluia\, alleluia! – Này đây trinh nữ sẽ mang thai\, hạ sinh một con trai\, và người ta sẽ gọi tên Người là Emmanuel\, nghĩa là Thiên Chúa-ở-cùng-chúng ta. – Alleluia. \nPHÚC ÂM: Mt 1\, 18-24 \n“Chúa Giêsu sinh ra bởi Đức Maria\, đính hôn với Thánh Giuse con vua Đavít”. \nTin Mừng Chúa Giêsu Kitô theo Thánh Matthêu. \nChúa Kitô giáng sinh trong hoàn cảnh sau đây: Mẹ Người là Maria đính hôn với Giuse\, trước khi về chung sống với nhau\, đã thụ thai bởi phép Chúa Thánh Thần. Giuse\, bạn của bà\, là người công chính\, không muốn tố cáo bà\, định tâm lìa bỏ bà cách kín đáo.  \nNhưng đang khi định tâm như vậy thì thiên thần Chúa hiện đến cùng ông trong giấc mơ và bảo: “Hỡi Giuse\, con vua Đavít\, đừng ngại nhận Maria về nhà làm bạn mình\, vì Maria mang thai là bởi phép Chúa Thánh Thần: bà sẽ hạ sinh một con trai mà ông sẽ đặt tên là Giêsu: vì chính Người sẽ cứu dân mình khỏi tội”.  \nTất cả sự kiện này đã được thực hiện để làm trọn lời Chúa dùng miệng Tiên tri phán xưa rằng: “Này đây một trinh nữ sẽ mang thai và hạ sinh một con trai\, người ta sẽ gọi tên con trẻ là Emmanuel\, nghĩa là Thiên-Chúa-ở-cùng-chúng-ta”.  \nKhi tỉnh dậy\, Giuse đã thực hiện như lời thiên thần Chúa truyền: ông tiếp nhận bạn mình\, nhưng không ăn ở với nhau cho đến khi Maria sinh con trai đầu lòng\, thì Giuse đặt tên con trẻ là Giêsu. Đó là lời Chúa.
URL:https://dongchuacuuthe.us/calendar/cn-iv-mua-vong-nam-a/
END:VEVENT
END:VCALENDAR