BEGIN:VCALENDAR
VERSION:2.0
PRODID:-//Dòng Chúa Cứu Thế Hải Ngoại - ECPv6.15.20//NONSGML v1.0//EN
CALSCALE:GREGORIAN
METHOD:PUBLISH
X-ORIGINAL-URL:https://dongchuacuuthe.us
X-WR-CALDESC:Events for Dòng Chúa Cứu Thế Hải Ngoại
REFRESH-INTERVAL;VALUE=DURATION:PT1H
X-Robots-Tag:noindex
X-PUBLISHED-TTL:PT1H
BEGIN:VTIMEZONE
TZID:America/Los_Angeles
BEGIN:DAYLIGHT
TZOFFSETFROM:-0800
TZOFFSETTO:-0700
TZNAME:PDT
DTSTART:20240310T100000
END:DAYLIGHT
BEGIN:STANDARD
TZOFFSETFROM:-0700
TZOFFSETTO:-0800
TZNAME:PST
DTSTART:20241103T090000
END:STANDARD
BEGIN:DAYLIGHT
TZOFFSETFROM:-0800
TZOFFSETTO:-0700
TZNAME:PDT
DTSTART:20250309T100000
END:DAYLIGHT
BEGIN:STANDARD
TZOFFSETFROM:-0700
TZOFFSETTO:-0800
TZNAME:PST
DTSTART:20251102T090000
END:STANDARD
BEGIN:DAYLIGHT
TZOFFSETFROM:-0800
TZOFFSETTO:-0700
TZNAME:PDT
DTSTART:20260308T100000
END:DAYLIGHT
BEGIN:STANDARD
TZOFFSETFROM:-0700
TZOFFSETTO:-0800
TZNAME:PST
DTSTART:20261101T090000
END:STANDARD
END:VTIMEZONE
BEGIN:VEVENT
DTSTART;VALUE=DATE:20251220
DTEND;VALUE=DATE:20251221
DTSTAMP:20260423T141055
CREATED:20251201T022550Z
LAST-MODIFIED:20251201T022550Z
UID:13304-1766188800-1766275199@dongchuacuuthe.us
SUMMARY:Ngày 20 tháng 12 Mùa Vọng
DESCRIPTION:BÀI ĐỌC I: Is 7\, 10-14 \n“Này đây một trinh nữ sẽ thụ thai”. \nBài trích sách Tiên tri Isaia. \nNgày ấy\, Chúa phán bảo cùng vua Achaz rằng: “Hãy xin Thiên Chúa\, Chúa ngươi\, một dấu ở dưới lòng đất hay ở trên trời cao”. Nhưng vua Achaz thưa: “Tôi sẽ không xin\, vì tôi không dám thử Chúa”.  \nVà Isaia nói: “Vậy nghe đây\, hỡi nhà Đavít: Làm phiền lòng người ta chưa đủ ư\, mà còn muốn làm phiền lòng Thiên Chúa nữa? Vì thế\, chính Chúa sẽ cho các ngươi một dấu: này đây một trinh nữ sẽ thụ thai\, hạ sinh một con trai\, và tên con trẻ sẽ gọi là Emmanuel\, nghĩa là Thiên-Chúa-ở-cùng-chúng-ta”. Đó là lời Chúa. \nĐÁP CA: Tv 23\, 1-2. 3-4ab. 5-6 \nĐáp: Chúa ngự qua\, chính Ngài là Hoàng Đế hiển vinh (x. c. 7c và 10b). \nXướng: 1) Chúa là chủ trái đất và mọi vật làm sung mãn nó\, chủ địa cầu và muôn loài cư trú ở trong. Vì chính Ngài xây dựng nó trên biển cả\, và Ngài giữ vững nó trên chỗ nước nguồn. – Đáp.  \n2) Ai khá trèo lên cao sơn của Chúa\, ai được đứng trong nơi thánh của Ngài? Người tay vô tội và lòng thanh khiết\, người không để lòng xu hướng bả phù hoa. – Đáp.  \n3) Người đó sẽ được Chúa chúc phúc cho\, và được Thiên Chúa là Đấng cứu độ ban ân thưởng. Đó là dòng dõi người tìm kiếm Chúa\, người tìm kiếm long nhan Thiên Chúa nhà Giacóp. – Đáp.  \nALLELUIA: \nAlleluia\, alleluia! – Lạy Chìa khoá Đavít\, Ngài mở cửa thiên quốc\, xin hãy đến cứu thoát người bị xiềng xích đang ngồi trong bóng tối tăm khỏi cảnh ngục tù! – Alleluia. \n\nPHÚC ÂM: Lc 1\, 26-38 \n“Này trinh nữ sẽ thụ thai và sinh một con trai”. \nTin Mừng Chúa Giêsu Kitô theo Thánh Luca. \nKhi ấy Thiên thần Gabriel được Chúa sai đến một thành xứ Galilêa\, tên là Nadarét\, đến với một trinh nữ đã đính hôn với một người tên là Giuse\, thuộc chi họ Đavít\, trinh nữ ấy tên là Maria. Thiên thần vào nhà trinh nữ và chào rằng: “Kính chào Bà đầy ơn phước\, Thiên Chúa ở cùng Bà. Bà được chúc phúc giữa các người phụ nữ”. Nghe lời đó\, Bà bối rối và tự hỏi lời chào đó có ý nghĩa gì. Thiên thần liền thưa: “Maria đừng sợ\, vì đã được nghĩa với Chúa. Này Bà sẽ thụ thai\, sinh một con trai và đặt tên là Giêsu. Người sẽ nên cao trọng và được gọi là con Đấng Tối Cao. Thiên Chúa sẽ ban cho Người ngôi báu Đavít\, tổ phụ Người. Người sẽ cai trị đời đời trong nhà Giacóp\, và triều đại Người sẽ vô tận”.  \nNhưng Maria thưa với Thiên thần: “Việc đó xảy đến thế nào được\, vì tôi không biết đến người nam?” Thiên thần thưa: “Chúa Thánh Thần sẽ đến với Bà\, và uy quyền Đấng Tối Cao sẽ bao trùm Bà. Vì thế Đấng Bà sinh ra sẽ là Đấng Thánh\, và được gọi là Con Thiên Chúa. Và này\, Isave chị họ Bà cũng đã thụ thai con trai trong lúc tuổi già\, và nay đã mang thai được sáu tháng\, người mà thiên hạ gọi là son sẻ\, vì không có việc gì mà Chúa không làm được”.  \nMaria liền thưa: “Này tôi là tôi tớ Chúa\, tôi xin vâng như lời Thiên thần truyền”. Và Thiên thần cáo biệt Bà.  \nĐó là lời Chúa.
URL:https://dongchuacuuthe.us/calendar/ngay-20-thang-12-mua-vong-2/
END:VEVENT
END:VCALENDAR