BEGIN:VCALENDAR
VERSION:2.0
PRODID:-//Dòng Chúa Cứu Thế Hải Ngoại - ECPv6.15.20//NONSGML v1.0//EN
CALSCALE:GREGORIAN
METHOD:PUBLISH
X-WR-CALNAME:Dòng Chúa Cứu Thế Hải Ngoại
X-ORIGINAL-URL:https://dongchuacuuthe.us
X-WR-CALDESC:Events for Dòng Chúa Cứu Thế Hải Ngoại
REFRESH-INTERVAL;VALUE=DURATION:PT1H
X-Robots-Tag:noindex
X-PUBLISHED-TTL:PT1H
BEGIN:VTIMEZONE
TZID:America/Los_Angeles
BEGIN:DAYLIGHT
TZOFFSETFROM:-0800
TZOFFSETTO:-0700
TZNAME:PDT
DTSTART:20240310T100000
END:DAYLIGHT
BEGIN:STANDARD
TZOFFSETFROM:-0700
TZOFFSETTO:-0800
TZNAME:PST
DTSTART:20241103T090000
END:STANDARD
BEGIN:DAYLIGHT
TZOFFSETFROM:-0800
TZOFFSETTO:-0700
TZNAME:PDT
DTSTART:20250309T100000
END:DAYLIGHT
BEGIN:STANDARD
TZOFFSETFROM:-0700
TZOFFSETTO:-0800
TZNAME:PST
DTSTART:20251102T090000
END:STANDARD
BEGIN:DAYLIGHT
TZOFFSETFROM:-0800
TZOFFSETTO:-0700
TZNAME:PDT
DTSTART:20260308T100000
END:DAYLIGHT
BEGIN:STANDARD
TZOFFSETFROM:-0700
TZOFFSETTO:-0800
TZNAME:PST
DTSTART:20261101T090000
END:STANDARD
END:VTIMEZONE
BEGIN:VEVENT
DTSTART;VALUE=DATE:20251215
DTEND;VALUE=DATE:20251216
DTSTAMP:20260423T141057
CREATED:20251130T161753Z
LAST-MODIFIED:20251130T161753Z
UID:13258-1765756800-1765843199@dongchuacuuthe.us
SUMMARY:Thứ Hai Tuần III Mùa Vọng
DESCRIPTION:BÀI ĐỌC I: Ds 24\, 2-7. 15-17a \n“Ngôi sao từ nhà Giacóp mọc lên”. \nTrích sách Dân Số. \nTrong những ngày ấy\, Balaam ngước mắt lên nhìn Israel cắm trại theo từng bộ lạc\, và Thánh Thần Chúa ngự xuống trên ông\, ông liền tuyên sấm và nói: “Lời sấm của Balaam\, con ông Beor\, lời sấm của người đang mở mắt; lời sấm của người nghe lời Thiên Chúa\, của người chiêm ngắm Đấng Toàn Năng\, của người ngã mà mắt vẫn mở. Hỡi nhà Giacóp\, doanh trại của ngươi đẹp biết bao! Hỡi Israel\, chỗ cư ngụ của ngươi tốt dường nào! Nó rộng lớn như thung lũng\, như những vườn bên dòng sông\, như cây trầm hương mà Thiên Chúa đã trồng\, như cây hương nam bên suối nước. Nước tràn ra khỏi thùng chứa\, và hạt giống của ngươi được tưới dư dật. Vua ngươi sẽ trổi vượt Agag\, và vương quốc ngươi sẽ uy hùng”.  \nBalaam lại tuyên sấm và nói: “Lời sấm của Balaam\, con của Beor\, lời sấm của người đang mở mắt\, lời sấm của người nghe lời Thiên Chúa\, của người biết ý nghĩ Đấng Tối Cao\, của người xem thấy hình ảnh Đấng Toàn Năng\, của người ngã mà mắt vẫn mở. Tôi thấy Người\, chưa phải bây giờ. Tôi thấy Người không phải gần. Một ngôi sao từ Giacóp mọc lên. Một phủ việt từ Israel xuất hiện”. Đó là lời Chúa. \nĐÁP CA: Tv 24\, 4bc-5ab. 6-7bc. 8-9 \nĐáp: Lạy Chúa\, xin chỉ cho con đường đi của Chúa (c. 4b). \nXướng: 1) Lạy Chúa\, xin chỉ cho con đường đi của Chúa\, xin dạy bảo con về lối bước của Ngài. Xin hướng dẫn con trong chân lý và dạy bảo con\, vì Chúa là Thiên Chúa cứu độ con. – Đáp.  \n2) Lạy Chúa\, xin hãy nhớ lòng thương xót của Ngài\, lòng thương xót tự muôn đời vẫn có. Xin hãy nhớ con theo lòng thương xót của Ngài\, vì lòng nhân hậu của Ngài\, thân lạy Chúa. – Đáp.  \n3) Chúa nhân hậu và công minh\, vì thế Ngài sẽ dạy cho tội nhân hay đường lối. Ngài hướng dẫn kẻ khiêm cung trong đức công minh\, dạy bảo người khiêm cung đường lối của Ngài. – Đáp.  \nALLELUIA: \nAlleluia\, alleluia! – Chúa đến\, hãy ra đón Người; chính Người là Hoàng tử Bình an. – Alleluia. \nPHÚC ÂM: Mt 21\, 23-27 \n“Phép rửa của Gioan bởi đâu mà có?” \nTin Mừng Chúa Giêsu Kitô theo Thánh Matthêu. \nKhi ấy Chúa Giêsu vào Đền thờ. Lúc Người giảng dạy\, các thượng tế và kỳ lão trong dân đến hỏi Người rằng: “Ông lấy quyền nào mà làm những điều này? Ai đã ban quyền ấy cho ông?” Chúa Giêsu trả lời: “Tôi cũng hỏi các ông một điều. Nếu các ông trả lời cho tôi\, thì tôi sẽ nói cho các ông biết tôi lấy quyền nào mà làm các điều đó. – Phép Rửa của Gioan bởi đâu mà có? Bởi trời hay bởi người ta?” Họ bàn tính với nhau rằng: “Nếu ta nói bởi trời\, thì ông sẽ nói với ta: Vậy tại sao các ngươi không tin ông ấy? Và nếu ta nói bởi người ta\, thì chúng ta lại sợ dân chúng. Vì mọi người coi Gioan như một vị tiên tri”. Bấy giờ họ trả lời Chúa Giêsu rằng: “Chúng tôi không được biết”. Chúa Giêsu nói với họ: “Tôi cũng không nói cho các ông biết tôi lấy quyền nào mà làm các điều đó”. Đó là lời Chúa.
URL:https://dongchuacuuthe.us/calendar/thu-hai-tuan-iii-mua-vong/
END:VEVENT
END:VCALENDAR