BEGIN:VCALENDAR
VERSION:2.0
PRODID:-//Dòng Chúa Cứu Thế Hải Ngoại - ECPv6.15.20//NONSGML v1.0//EN
CALSCALE:GREGORIAN
METHOD:PUBLISH
X-ORIGINAL-URL:https://dongchuacuuthe.us
X-WR-CALDESC:Events for Dòng Chúa Cứu Thế Hải Ngoại
REFRESH-INTERVAL;VALUE=DURATION:PT1H
X-Robots-Tag:noindex
X-PUBLISHED-TTL:PT1H
BEGIN:VTIMEZONE
TZID:America/Los_Angeles
BEGIN:DAYLIGHT
TZOFFSETFROM:-0800
TZOFFSETTO:-0700
TZNAME:PDT
DTSTART:20240310T100000
END:DAYLIGHT
BEGIN:STANDARD
TZOFFSETFROM:-0700
TZOFFSETTO:-0800
TZNAME:PST
DTSTART:20241103T090000
END:STANDARD
BEGIN:DAYLIGHT
TZOFFSETFROM:-0800
TZOFFSETTO:-0700
TZNAME:PDT
DTSTART:20250309T100000
END:DAYLIGHT
BEGIN:STANDARD
TZOFFSETFROM:-0700
TZOFFSETTO:-0800
TZNAME:PST
DTSTART:20251102T090000
END:STANDARD
BEGIN:DAYLIGHT
TZOFFSETFROM:-0800
TZOFFSETTO:-0700
TZNAME:PDT
DTSTART:20260308T100000
END:DAYLIGHT
BEGIN:STANDARD
TZOFFSETFROM:-0700
TZOFFSETTO:-0800
TZNAME:PST
DTSTART:20261101T090000
END:STANDARD
END:VTIMEZONE
BEGIN:VEVENT
DTSTART;VALUE=DATE:20251211
DTEND;VALUE=DATE:20251212
DTSTAMP:20260423T141103
CREATED:20251201T022013Z
LAST-MODIFIED:20251201T022013Z
UID:13284-1765411200-1765497599@dongchuacuuthe.us
SUMMARY:Thứ Năm Tuần II Mùa Vọng
DESCRIPTION:BÀI ĐỌC I: Is 41\, 13-20 \n“Ta là Đấng Thánh của Israel\, Ta là Đấng Cứu Chuộc ngươi”. \nTrích sách Tiên tri Isaia. \nTa là Chúa\, Thiên Chúa của ngươi\, Ta cầm tay ngươi và nói cùng ngươi: Đừng sợ gì\, đã có Ta giúp.  \nHỡi con sâu Giacóp\, hỡi dân Israel\, đừng sợ chi\, Ta sẽ đến giúp ngươi\, đó là lời Chúa phán\, Đấng Thánh của Israel\, Đấng Cứu Chuộc ngươi. Ta sẽ đặt ngươi như chiếc bừa mới tinh và có răng nhọn\, ngươi sẽ băm các đồi ra như rơm rác. Ngươi sẽ sàng chúng và gió sẽ cuốn chúng đi\, và cơn lốc sẽ làm chúng tan tác. Còn ngươi\, ngươi sẽ vui mừng trong Thiên Chúa\, sẽ hân hoan trong Đấng Thánh của Israel.  \nNhững kẻ thiếu thốn nghèo nàn tìm nước\, nhưng luống công\, lưỡi chúng đã khô đi vì khát nước. Ta là Chúa\, Ta sẽ nhậm lời chúng. Thiên Chúa của Israel\, Ta sẽ không bỏ chúng. Ta khiến sông chảy trên đỉnh núi trọc\, và suối nước tràn giữa thung lũng. Ta sẽ biến hoang địa thành ao hồ và đất khô thành suối nước.  \nNơi hoang địa\, Ta sẽ cho mọc lên cây hương nam\, cây keo\, cây sim và cây dầu; nơi sa mạc\, Ta sẽ trồng cây tùng\, cây du\, cây bách\, để mọi người thấy\, biết\, lưu tâm và hiểu rằng chính tay Chúa đã làm nên sự nghiệp đó\, và Đấng Thánh của Israel đã tạo nên cơ đồ này. Đó là lời Chúa. \nĐÁP CA: Tv 144\, 1 và 9. 10-11. 12-13ab \nĐáp: Chúa nhân ái và từ bi\, chậm bất bình và giàu ân sủng (c. 8). \nXướng: 1) Lạy Chúa\, lạy Thiên Chúa của con\, con sẽ ca khen Chúa\, và con sẽ chúc tụng danh Chúa tới muôn đời. Chúa hảo tâm với hết mọi loài\,và từ bi với mọi công cuộc của Chúa. – Đáp.  \n2) Lạy Chúa\, mọi công cuộc của Chúa hãy ca ngợi Chúa\, và các thánh nhân của Ngài hãy chúc tụng Ngài. Thiên hạ hãy nói lên vinh quang nước Chúa\, và hãy đề cao quyền năng của Ngài. – Đáp.  \n3) Để con cái loài người nhận biết quyền năng và vinh quang cao cả nước Chúa. Nước Ngài là nước vĩnh cửu muôn đời; chủ quyền Ngài tồn tại qua muôn thế hệ. – Đáp.  \nALLELUIA: \nAlleluia\, alleluia! – Lạy Chúa\, xin hãy đến viếng thăm chúng con trong bình an\, để tâm hồn chúng con được hoàn toàn vui mừng trước nhan Chúa. – Alleluia. \nPHÚC ÂM: Mt 11\, 11-15 \n“Chưa từng có ai cao trọng hơn Gioan Tẩy Giả”. \nTin Mừng Chúa Giêsu Kitô theo Thánh Matthêu. \nKhi ấy\, Chúa Giêsu phán cùng dân chúng rằng: “Ta bảo thật các ngươi\, trong các con cái người nữ sinh ra\, chưa từng xuất hiện một ai cao trọng hơn Gioan Tẩy Giả\, nhưng người nhỏ nhất trong nước trời lại cao trọng hơn ông. Từ thời ông Gioan Tẩy Giả đến giờ\, nước trời phải dùng sức mạnh mà chiếm lấy\, và những kẻ mạnh mẽ can đảm mới chiếm được. Tất cả các tiên tri và lề luật đã tuyên sấm cho đến Gioan và nếu các ngươi muốn hiểu\, thì chính Gioan là Elia\, kẻ phải đến. Ai có tai\, thì hãy nghe!”  \nĐó là lời Chúa.
URL:https://dongchuacuuthe.us/calendar/thu-nam-tuan-ii-mua-vong-2/
END:VEVENT
END:VCALENDAR