BEGIN:VCALENDAR
VERSION:2.0
PRODID:-//Dòng Chúa Cứu Thế Hải Ngoại - ECPv6.15.20//NONSGML v1.0//EN
CALSCALE:GREGORIAN
METHOD:PUBLISH
X-WR-CALNAME:Dòng Chúa Cứu Thế Hải Ngoại
X-ORIGINAL-URL:https://dongchuacuuthe.us
X-WR-CALDESC:Events for Dòng Chúa Cứu Thế Hải Ngoại
REFRESH-INTERVAL;VALUE=DURATION:PT1H
X-Robots-Tag:noindex
X-PUBLISHED-TTL:PT1H
BEGIN:VTIMEZONE
TZID:America/Los_Angeles
BEGIN:DAYLIGHT
TZOFFSETFROM:-0800
TZOFFSETTO:-0700
TZNAME:PDT
DTSTART:20240310T100000
END:DAYLIGHT
BEGIN:STANDARD
TZOFFSETFROM:-0700
TZOFFSETTO:-0800
TZNAME:PST
DTSTART:20241103T090000
END:STANDARD
BEGIN:DAYLIGHT
TZOFFSETFROM:-0800
TZOFFSETTO:-0700
TZNAME:PDT
DTSTART:20250309T100000
END:DAYLIGHT
BEGIN:STANDARD
TZOFFSETFROM:-0700
TZOFFSETTO:-0800
TZNAME:PST
DTSTART:20251102T090000
END:STANDARD
BEGIN:DAYLIGHT
TZOFFSETFROM:-0800
TZOFFSETTO:-0700
TZNAME:PDT
DTSTART:20260308T100000
END:DAYLIGHT
BEGIN:STANDARD
TZOFFSETFROM:-0700
TZOFFSETTO:-0800
TZNAME:PST
DTSTART:20261101T090000
END:STANDARD
END:VTIMEZONE
BEGIN:VEVENT
DTSTART;VALUE=DATE:20251210
DTEND;VALUE=DATE:20251211
DTSTAMP:20260423T140949
CREATED:20251201T021949Z
LAST-MODIFIED:20251201T021949Z
UID:13282-1765324800-1765411199@dongchuacuuthe.us
SUMMARY:Thứ Tư Tuần II Mùa Vọng
DESCRIPTION:BÀI ĐỌC I: Is 40\, 25-31 \n“Thiên Chúa toàn năng ban sức mạnh cho người mệt mỏi”. \nTrích sách Tiên tri Isaia. \nĐấng Chí Thánh phán rằng: Các ngươi sánh Ta với ai? Và kể Ta bằng ai? Hãy ngước mắt lên cao mà xem\, ai đã dựng nên muôn loài này? Đấng vận chuyển các cơ binh của chúng và biết gọi đích danh tất cả\, không thiếu vật nào\, vì sức mạnh của Người rất lớn và quyền năng của Người rất cao.  \nHỡi Giacóp\, tại sao ngươi nói\, hỡi Israel\, tại sao ngươi nói: “Chúa không biết đến số phận tôi; Người không biết đến quyền lợi của tôi?” Ngươi không biết? Ngươi không nghe sao? Chúa là Thiên Chúa hằng hữu\, là Đấng đã dựng nên toàn thể trái đất\, Người không mỏi không mệt\, và sự khôn ngoan của Người không thể suy thấu. Người ban sức mạnh cho kẻ rã rời và thêm sức cho người mệt mỏi. Những trai trẻ cũng mòn mỏi mệt nhọc; những tráng sĩ cũng lao đao vấp ngã. Nhưng ai trông cậy Chúa\, sẽ được thêm sức mới\, cất cánh bay cao như phượng hoàng\, họ chạy mà không mệt\, họ đi mà không mỏi. Đó là lời Chúa. \nĐÁP CA: Tv 102\, 1-2. 3-4. 8 và 10 \nĐáp: Linh hồn tôi ơi\, hãy chúc tụng Chúa! (c. 1a) \nXướng: 1) Linh hồn tôi ơi\, hãy chúc tụng Chúa! Toàn thể con người tôi\, hãy chúc tụng thánh danh Người. Linh hồn tôi ơi\, hãy chúc tụng Chúa\, và chớ khá quên mọi ân huệ của Người. – Đáp.  \n2) Người đã tha thứ cho mọi điều sai lỗi\, và chữa ngươi khỏi mọi tật nguyền. Người chuộc mạng ngươi khỏi chỗ vong thân; Người đội đầu ngươi bằng mão từ bi\, ân sủng. – Đáp.  \n3) Chúa là Đấng từ bi và hay thương xót\, chậm bất bình và hết sức khoan nhân. Người không xử với chúng tôi như chúng tôi đắc tội\, và không trả đũa theo điều oan trái chúng tôi. – Đáp.  \nALLELUIA: \nAlleluia\, alleluia! – Đây Chúa chúng ta sẽ đến trong quyền lực\, và sẽ làm cho mắt các tôi tớ Người được sáng. – Alleluia. \nPHÚC ÂM: Mt 11\, 28-30 \n“Hãy đến với Ta\, hỡi những ai vất vả cực nhọc”. \nTin Mừng Chúa Giêsu Kitô theo Thánh Matthêu. \nKhi ấy\, Chúa Giêsu phán rằng: “Hãy đến với Ta tất cả\, hỡi những ai khó nhọc và gánh nặng\, Ta sẽ nâng đỡ bổ sức cho các ngươi. Hãy mang lấy ách của Ta và hãy học cùng Ta\, vì Ta dịu hiền và khiêm nhượng trong lòng\, và tâm hồn các ngươi sẽ gặp được bình an. Vì ách của Ta thì êm ái và gánh của Ta thì nhẹ nhàng”. Đó là lời Chúa.
URL:https://dongchuacuuthe.us/calendar/thu-tu-tuan-ii-mua-vong-2/
END:VEVENT
END:VCALENDAR