BEGIN:VCALENDAR
VERSION:2.0
PRODID:-//Dòng Chúa Cứu Thế Hải Ngoại - ECPv6.15.20//NONSGML v1.0//EN
CALSCALE:GREGORIAN
METHOD:PUBLISH
X-WR-CALNAME:Dòng Chúa Cứu Thế Hải Ngoại
X-ORIGINAL-URL:https://dongchuacuuthe.us
X-WR-CALDESC:Events for Dòng Chúa Cứu Thế Hải Ngoại
REFRESH-INTERVAL;VALUE=DURATION:PT1H
X-Robots-Tag:noindex
X-PUBLISHED-TTL:PT1H
BEGIN:VTIMEZONE
TZID:America/Los_Angeles
BEGIN:DAYLIGHT
TZOFFSETFROM:-0800
TZOFFSETTO:-0700
TZNAME:PDT
DTSTART:20240310T100000
END:DAYLIGHT
BEGIN:STANDARD
TZOFFSETFROM:-0700
TZOFFSETTO:-0800
TZNAME:PST
DTSTART:20241103T090000
END:STANDARD
BEGIN:DAYLIGHT
TZOFFSETFROM:-0800
TZOFFSETTO:-0700
TZNAME:PDT
DTSTART:20250309T100000
END:DAYLIGHT
BEGIN:STANDARD
TZOFFSETFROM:-0700
TZOFFSETTO:-0800
TZNAME:PST
DTSTART:20251102T090000
END:STANDARD
BEGIN:DAYLIGHT
TZOFFSETFROM:-0800
TZOFFSETTO:-0700
TZNAME:PDT
DTSTART:20260308T100000
END:DAYLIGHT
BEGIN:STANDARD
TZOFFSETFROM:-0700
TZOFFSETTO:-0800
TZNAME:PST
DTSTART:20261101T090000
END:STANDARD
END:VTIMEZONE
BEGIN:VEVENT
DTSTART;VALUE=DATE:20251208
DTEND;VALUE=DATE:20251209
DTSTAMP:20260423T140950
CREATED:20251130T161719Z
LAST-MODIFIED:20251130T161719Z
UID:13256-1765152000-1765238399@dongchuacuuthe.us
SUMMARY:Lễ Đức Trinh Nữ Maria Vô Nhiễm Nguyên Tội\, LT
DESCRIPTION:BÀI ĐỌC I: St 3\, 9-15. 20 \n“Ta sẽ đặt mối thù nghịch giữa miêu duệ mi và miêu duệ người phụ nữ”. \nTrích sách Sáng Thế. \nThiên Chúa đã gọi Ađam và phán bảo ông rằng: “Ngươi đang ở đâu?” Ông đã thưa: “Con nghe thấy tiếng Ngài trong vườn địa đàng\, nhưng con sợ hãi\, vì con trần truồng và con đang ẩn núp”. \nChúa phán bảo ông rằng: “Ai đã chỉ cho ngươi biết rằng ngươi trần truồng\, há chẳng phải tại ngươi đã ăn trái cây mà Ta cấm ngươi không được ăn ư?” Ađam thưa lại: “Người phụ nữ Chúa đã cho làm bạn với con\, chính nàng đã cho con trái cây và con đã ăn”.  \nVà Thiên Chúa phán bảo người phụ nữ rằng: “Tại sao ngươi đã làm điều đó?” Người phụ nữ thưa: “Con rắn đã lừa dối con và con đã ăn”.  \nThiên Chúa phán bảo con rắn: “Bởi mi đã làm điều đó\, mi sẽ vô phúc ở giữa mọi sinh vật và mọi muông thú địa cầu; mi sẽ bò đi bằng bụng\, và mi sẽ ăn bùn đất mọi ngày trong đời mi. Ta sẽ đặt mối thù nghịch giữa mi và người phụ nữ\, giữa miêu duệ mi và miêu duệ người đó\, người miêu duệ đó sẽ đạp nát đầu mi\, còn mi thì sẽ rình cắn gót chân người”.  \nVà Ađam đã gọi tên vợ mình là Evà: vì lẽ bà là mẹ của chúng sinh. Đó là lời Chúa. \nĐÁP CA: Tv 97\, 1. 2-3ab. 3cd-4 \nĐáp: Hãy ca tụng Chúa một bài ca mới\, vì Người đã làm nên những điều huyền diệu (c. 1a). \nXướng: 1) Hãy ca tụng Chúa một bài ca mới\, vì Người đã làm nên những điều huyền diệu. Tay hữu Người đã tạo cho Người cuộc chiến thắng\, cùng với cánh tay thánh thiện của Người. – Đáp. \n2) Chúa đã công bố ơn cứu độ của Người\, trước mặt chư dân Người tỏ rõ đức công minh. Người đã nhớ lại lòng nhân hậu và trung thành để sủng ái nhà Israel. – Đáp. \n3) Khắp cùng bờ cõi trái đất\, đã nhìn thấy ơn cứu độ của Thiên Chúa chúng ta. Toàn thể địa cầu\, hãy reo mừng Chúa\, hãy hoan hỉ mừng vui\, và đàn ca. – Đáp. \nBÀI ĐỌC II: Ep 1\, 3-6. 11-12 \n“Từ trước khi tạo thành vũ trụ\, Thiên Chúa đã kén chọn chúng ta trong Đức Kitô”. \nTrích thư Thánh Phaolô Tông đồ gửi tín hữu Êphêxô. \nAnh em thân mến\, chúc tụng Thiên Chúa và là Cha của Chúa Giêsu Kitô\, Chúa chúng ta: Người đã chúc phúc cho chúng ta bằng mọi phúc lộc thiêng liêng ở trên trời trong Đức Kitô. Bởi Người đã kén chọn chúng ta trong Đức Kitô từ trước khi tạo thành vũ trụ\, hầu cho chúng ta được thánh thiện và tinh tuyền trước mặt Người. Trong tình thương\, Người đã tiền định cho chúng ta được làm dưỡng tử đối với Người\, qua Đức Giêsu Kitô\, theo như ý Người sở định\, cho được ca ngợi vinh quang ân sủng của Người\, ân sủng mà Người ban tặng chúng ta trong Con yêu quý của Người.  \nCũng trong Đức Kitô\, chúng ta đã được chọn trước làm phần gia nghiệp\, chiếu theo chương trình tiền định của Đấng tác thành mọi sự theo như ý Mình sở định\, hầu cho chúng ta ca tụng vinh quang Người\, chúng ta là những người đã đặt niềm hy vọng trước trong Đức Kitô. Đó là lời Chúa. \nALLELUIA:  \nAlleluia\, alleluia! – Kính chào Trinh Nữ Maria đầy ơn phúc\, Thiên Chúa ở cùng Trinh Nữ\, Trinh Nữ có phúc hơn các người nữ. – Alleluia. \nPHÚC ÂM: Lc 1\, 26-38 \n“Chào Trinh Nữ đầy ân sủng\, Chúa ở cùng Trinh Nữ”. \nTin Mừng Chúa Giêsu Kitô theo Thánh Luca. \nKhi ấy\, thiên thần Gabriel được Chúa sai đến một thành xứ Galilêa\, tên là Nagiarét\, đến với một trinh nữ đã đính hôn với một người tên là Giuse\, thuộc chi họ Đavít\, trinh nữ ấy tên là Maria. Thiên thần vào nhà trinh nữ và chào rằng: “Kính chào trinh nữ đầy ơn phúc\, Thiên Chúa ở cùng trinh nữ\, trinh nữ có phúc hơn các người nữ”. Nghe lời đó\, trinh nữ bối rối và tự hỏi lời chào đó có ý nghĩa gì. Thiên thần liền thưa: “Maria đừng sợ\, vì đã được ơn nghĩa với Chúa. Này trinh nữ sẽ thụ thai\, hạ sinh một Con trai và đặt tên là Giêsu. Người sẽ nên cao trọng và được gọi là Con Đấng Tối Cao. Thiên Chúa sẽ ban cho Người ngôi báu Đavít tổ phụ Người. Người sẽ cai trị đời đời trong nhà Giacóp và triều đại Người sẽ vô tận!” Nhưng Maria liền thưa với Thiên Thần: “Việc đó xảy đến thế nào được\, vì tôi không biết đến người nam?” Thiên thần thưa: “Chúa Thánh Thần sẽ đến với trinh nữ và uy quyền Đấng Tối Cao sẽ bao trùm trinh nữ. Vì thế Đấng trinh nữ sinh ra sẽ là Đấng Thánh và được gọi là Con Thiên Chúa. Và này\, Isave chị họ trinh nữ cũng đã thụ thai con trai trong lúc tuổi già và nay đã mang thai được sáu tháng\, người mà thiên hạ gọi là son sẻ; vì không có việc gì mà Chúa không làm được”. Maria liền thưa: “Này tôi là tôi tớ Chúa\, tôi xin vâng như lời Thiên thần truyền”. Và Thiên Thần cáo biệt trinh nữ.  \nĐó là lời Chúa.
URL:https://dongchuacuuthe.us/calendar/le-duc-trinh-nu-maria-vo-nhiem-nguyen-toi-lt-2/
END:VEVENT
END:VCALENDAR