BEGIN:VCALENDAR
VERSION:2.0
PRODID:-//Dòng Chúa Cứu Thế Hải Ngoại - ECPv6.15.20//NONSGML v1.0//EN
CALSCALE:GREGORIAN
METHOD:PUBLISH
X-ORIGINAL-URL:https://dongchuacuuthe.us
X-WR-CALDESC:Events for Dòng Chúa Cứu Thế Hải Ngoại
REFRESH-INTERVAL;VALUE=DURATION:PT1H
X-Robots-Tag:noindex
X-PUBLISHED-TTL:PT1H
BEGIN:VTIMEZONE
TZID:America/Los_Angeles
BEGIN:DAYLIGHT
TZOFFSETFROM:-0800
TZOFFSETTO:-0700
TZNAME:PDT
DTSTART:20240310T100000
END:DAYLIGHT
BEGIN:STANDARD
TZOFFSETFROM:-0700
TZOFFSETTO:-0800
TZNAME:PST
DTSTART:20241103T090000
END:STANDARD
BEGIN:DAYLIGHT
TZOFFSETFROM:-0800
TZOFFSETTO:-0700
TZNAME:PDT
DTSTART:20250309T100000
END:DAYLIGHT
BEGIN:STANDARD
TZOFFSETFROM:-0700
TZOFFSETTO:-0800
TZNAME:PST
DTSTART:20251102T090000
END:STANDARD
BEGIN:DAYLIGHT
TZOFFSETFROM:-0800
TZOFFSETTO:-0700
TZNAME:PDT
DTSTART:20260308T100000
END:DAYLIGHT
BEGIN:STANDARD
TZOFFSETFROM:-0700
TZOFFSETTO:-0800
TZNAME:PST
DTSTART:20261101T090000
END:STANDARD
END:VTIMEZONE
BEGIN:VEVENT
DTSTART;VALUE=DATE:20251203
DTEND;VALUE=DATE:20251204
DTSTAMP:20260423T141103
CREATED:20251130T162100Z
LAST-MODIFIED:20251130T162100Z
UID:13270-1764720000-1764806399@dongchuacuuthe.us
SUMMARY:Lễ thánh Phanxicô Xavie
DESCRIPTION:BÀI ĐỌC I: 1Cr 9\, 16-19. 22-23\n“Vô phúc cho tôi\, nếu tôi không rao giảng Phúc Âm”.\nBài trích thư thứ nhất của Thánh Phaolô Tông Đồ gửi tín hữu Côrintô.\nAnh em thân mến\, nếu tôi rao giảng Phúc Âm\, thì không phải để làm cho tôi vinh quang\, mà vì đó là một nhu cầu đối với tôi. Vô phúc cho tôi\, nếu tôi không rao giảng Phúc Âm. Giá nếu tôi tự ý đảm nhận việc ấy\, thì tôi có công; nhưng nếu tôi bị ép buộc\, thì tôi phải làm tròn nghĩa vụ đã giao cho tôi. Vậy thì phần thưởng của tôi ở đâu? Khi rao giảng Phúc Âm\, tôi đem Phúc Âm biếu không\, tôi không dùng quyền mà Phúc Âm dành cho tôi. Mặc dầu tôi được tự do đối với tất cả mọi người\, tôi đã đành làm nô lệ cho mọi người\, hầu thu hút được nhiều người hơn. Tôi đã ăn ở như người yếu đau đối với những kẻ yếu đau để thu hút người yếu đau. Tôi đã nên mọi sự đối với tất cả mọi người\, để làm cho mọi người được cứu rỗi. Tất cả những việc đó\, tôi làm vì Phúc Âm\, để được thông phần vào lợi ích của Phúc Âm.\nĐó là lời Chúa. \nĐÁP CA: Tv 95\, 1.2a\, 2b-3. 7-8a. 10\nĐáp: Hãy tường thuật phép lạ Chúa giữa muôn dân.\n1) Hãy ca mừng Chúa một bài ca mới\, hãy ca mừng Chúa đi\, toàn thể địa cầu! Hãy ca mừng Chúa\, hãy chúc tụng danh Người.\n2) Ngày ngày hãy loan truyền ơn Người cứu độ. Hãy tường thuật vinh quang Chúa giữa muôn dân và phép lạ Người ở nơi vạn quốc.\n3) Hãy kính tặng Chúa\, hỡi người chư dân bá tánh\, hãy kính tặng Chúa quyền thế với vinh quang\, hãy kính tặng Chúa vinh quang xứng với danh Người. Hãy mang lễ vật\, tiến vào hành lang nhà Chúa.\n4) Người giữ vững địa cầu cho khỏi lung lay. Người cai quản chư dân theo đường đoan chính. \nALLELUIA: Is 45\, 8\nAll. All. – Chúa phán: “Hãy đi dạy dỗ các dân tộc: Ta ở với các con mọi ngày cho đến tận thế”. – All. \nPHÚC ÂM: Mc 16\, 15-20\n“Các con hãy đi khắp thế gian\, rao giảng Tin Mừng”.\nBài kết thúc Tin Mừng Chúa Giêsu Kitô theo Thánh Máccô.\nKhi ấy\, Chúa Giêsu hiện ra với mười một môn đệ và phán: “Các con hãy đi khắp thế gian\, rao giảng Tin Mừng cho mọi tạo vật. Ai tin và chịu phép Rửa\, thì sẽ được cứu độ; ai không Tin\, sẽ bị luận phạt. Và đây là những phép lạ đi theo những người đã tin: nhân danh Thày\, họ sẽ trừ quỷ\, nói các thứ tiếng mới lạ\, cầm rắn trong tay\, và nếu uống phải chất độc\, thì không bị hại; họ đặt tay trên những người bệnh\, và bệnh nhân sẽ được lành mạnh”. Vậy sau khi nói với các môn đệ\, Chúa Giêsu lên trời và ngự bên hữu Thiên Chúa. Phần các ông\, các ông đi rao giảng khắp mọi nơi\, có Chúa cùng hoạt động với các ông và củng cố lời giảng dạy bằng những phép lạ kèm theo.\nĐó là lời Chúa.
URL:https://dongchuacuuthe.us/calendar/le-thanh-phanxico-xavie/
END:VEVENT
END:VCALENDAR