BEGIN:VCALENDAR
VERSION:2.0
PRODID:-//Dòng Chúa Cứu Thế Hải Ngoại - ECPv6.15.20//NONSGML v1.0//EN
CALSCALE:GREGORIAN
METHOD:PUBLISH
X-ORIGINAL-URL:https://dongchuacuuthe.us
X-WR-CALDESC:Events for Dòng Chúa Cứu Thế Hải Ngoại
REFRESH-INTERVAL;VALUE=DURATION:PT1H
X-Robots-Tag:noindex
X-PUBLISHED-TTL:PT1H
BEGIN:VTIMEZONE
TZID:America/Los_Angeles
BEGIN:DAYLIGHT
TZOFFSETFROM:-0800
TZOFFSETTO:-0700
TZNAME:PDT
DTSTART:20240310T100000
END:DAYLIGHT
BEGIN:STANDARD
TZOFFSETFROM:-0700
TZOFFSETTO:-0800
TZNAME:PST
DTSTART:20241103T090000
END:STANDARD
BEGIN:DAYLIGHT
TZOFFSETFROM:-0800
TZOFFSETTO:-0700
TZNAME:PDT
DTSTART:20250309T100000
END:DAYLIGHT
BEGIN:STANDARD
TZOFFSETFROM:-0700
TZOFFSETTO:-0800
TZNAME:PST
DTSTART:20251102T090000
END:STANDARD
BEGIN:DAYLIGHT
TZOFFSETFROM:-0800
TZOFFSETTO:-0700
TZNAME:PDT
DTSTART:20260308T100000
END:DAYLIGHT
BEGIN:STANDARD
TZOFFSETFROM:-0700
TZOFFSETTO:-0800
TZNAME:PST
DTSTART:20261101T090000
END:STANDARD
END:VTIMEZONE
BEGIN:VEVENT
DTSTART;VALUE=DATE:20251202
DTEND;VALUE=DATE:20251203
DTSTAMP:20260423T141056
CREATED:20251130T162033Z
LAST-MODIFIED:20251130T162033Z
UID:13268-1764633600-1764719999@dongchuacuuthe.us
SUMMARY:Thứ Ba Tuần I Mùa Vọng
DESCRIPTION:BÀI ĐỌC I: Is 11\, 1-10 \n“Chúa lấy đức công bình mà xét xử người nghèo khó”. \nTrích sách Tiên tri Isaia. \nNgày ấy\, từ gốc Giêsê sẽ đâm ra một chồi\, và cũng từ gốc ấy sẽ đơm lên một bông hoa. Trên bông hoa ấy\, thần linh của Thiên Chúa sẽ ngự xuống\, tức thần khôn ngoan và thông suốt\, thần chỉ dẫn và sức mạnh\, thần hiểu biết và đạo đức\, và thần ấy sẽ làm cho Ngài biết kính sợ Thiên Chúa. Ngài không xét đoán theo như mắt thấy\, cũng không lên án theo điều tai nghe\, nhưng Ngài sẽ lấy đức công bình mà xét xử những người nghèo khó\, và lấy lòng chính trực mà bênh đỡ kẻ hiền lành trong xứ sở. Ngài sẽ dùng lời như gậy đánh người áp chế\, và sẽ dùng tiếng nói giết chết kẻ hung ác. Ngài lấy đức công bình làm dây thắt lưng và lấy sự trung tín làm đai lưng. Sói sống chung với chiên con; beo nằm chung với dê; bò con\, sư tử và chiên sẽ ở chung với nhau; con trẻ sẽ dẫn dắt các thú ấy. Bò (cái) và gấu (cái) sẽ ăn chung một nơi\, các con của chúng nằm nghỉ chung với nhau; sư tử cũng như bò đều ăn cỏ khô. Trẻ con còn măng sữa sẽ vui đùa kề hang rắn lục\, và trẻ con vừa thôi bú sẽ thọc tay vào hang rắn độc. Các thú dữ ấy không làm hại ai\, không giết chết người nào khắp núi thánh của Ta. Bởi vì thế gian sẽ đầy dẫy sự hiểu biết Chúa\, như nước tràn đầy đại dương. Ngày ấy gốc Giêsê đứng lên như cờ hiệu cho muôn dân. Các dân sẽ khẩn cầu Ngài\, và mộ Ngài sẽ được vinh quang. Đó là lời Chúa. \nĐÁP CA: Tv 71\, 2. 7-8. 12-13. 17 \nĐáp: Sự công chính và nền hoà bình viên mãn sẽ triển nở trong triều đại người (c. 7). \nXướng: 1) Lạy Chúa\, xin ban quyền xét đoán khôn ngoan cho đức vua\, và ban sự công chính cho hoàng tử\, để người đoán xét dân Chúa cách công minh\, và phân xử người nghèo khó cách chính trực. – Đáp. \n2) Sự công chính và nền hoà bình viên mãn sẽ triển nở trong triều đại người cho tới khi mặt trăng không còn chiếu sáng. Và người sẽ thống trị từ biển nọ đến biển kia\, từ sông cái đến tận cùng trái đất. – Đáp.  \n3) Vì người sẽ giải thoát kẻ nghèo khó khỏi tay kẻ quyền thế\, và sẽ cứu người bất hạnh không ai giúp đỡ. Người sẽ thương xót kẻ yếu đuối và người thiếu thốn\, và cứu thoát mạng sống người cùng khổ. – Đáp.  \n4) Chúc tụng danh người đến muôn đời\, danh người còn tồn tại lâu dài như mặt trời. Vì người\, các chi họ đất hứa sẽ được chúc phúc\, và các dân nước sẽ ca khen người. – Đáp.  \nALLELUIA: Tv 84\, 8  \nAlleluia\, alleluia! – Lạy Chúa\, xin tỏ lòng từ bi Chúa cho chúng con\, và ban ơn cứu rỗi cho chúng con. – Alleluia. \n\nPHÚC ÂM: Lc 10\, 21-24 \n“Chúa Giêsu đầy hoan lạc trong Chúa Thánh Thần”. \nTin Mừng Chúa Giêsu Kitô theo Thánh Luca. \nKhi ấy\, Chúa Giêsu đầy hoan lạc trong Chúa Thánh Thần\, Người nói: “Lạy Cha là Chúa trời đất\, Con xưng tụng Cha vì đã giấu không cho những người thông thái khôn ngoan biết những điều này\, nhưng đã tỏ cho những kẻ đơn sơ. Vâng lạy Cha\, đó là ý Cha đã muốn thế. Cha Ta đã trao cho Ta mọi sự. Không ai biết Chúa Con là ai\, ngoài Chúa Cha; cũng không ai biết Chúa Cha là Đấng nào\, ngoài Chúa Con và những người được Chúa Con muốn tỏ cho biết!”  \nRồi Chúa Giêsu quay lại phía các môn đệ và phán: “Hạnh phúc cho những con mắt được xem thấy điều các con xem thấy; vì chưng Ta bảo các con: có nhiều tiên tri và vua chúa đã muốn xem thấy những điều các con thấy\, mà chẳng được thấy\, muốn nghe những điều các con nghe\, mà đã chẳng được nghe”.  \nĐó là lời Chúa.
URL:https://dongchuacuuthe.us/calendar/thu-ba-tuan-i-mua-vong-2/
END:VEVENT
END:VCALENDAR