BEGIN:VCALENDAR
VERSION:2.0
PRODID:-//Dòng Chúa Cứu Thế Hải Ngoại - ECPv6.15.20//NONSGML v1.0//EN
CALSCALE:GREGORIAN
METHOD:PUBLISH
X-WR-CALNAME:Dòng Chúa Cứu Thế Hải Ngoại
X-ORIGINAL-URL:https://dongchuacuuthe.us
X-WR-CALDESC:Events for Dòng Chúa Cứu Thế Hải Ngoại
REFRESH-INTERVAL;VALUE=DURATION:PT1H
X-Robots-Tag:noindex
X-PUBLISHED-TTL:PT1H
BEGIN:VTIMEZONE
TZID:America/Los_Angeles
BEGIN:DAYLIGHT
TZOFFSETFROM:-0800
TZOFFSETTO:-0700
TZNAME:PDT
DTSTART:20240310T100000
END:DAYLIGHT
BEGIN:STANDARD
TZOFFSETFROM:-0700
TZOFFSETTO:-0800
TZNAME:PST
DTSTART:20241103T090000
END:STANDARD
BEGIN:DAYLIGHT
TZOFFSETFROM:-0800
TZOFFSETTO:-0700
TZNAME:PDT
DTSTART:20250309T100000
END:DAYLIGHT
BEGIN:STANDARD
TZOFFSETFROM:-0700
TZOFFSETTO:-0800
TZNAME:PST
DTSTART:20251102T090000
END:STANDARD
BEGIN:DAYLIGHT
TZOFFSETFROM:-0800
TZOFFSETTO:-0700
TZNAME:PDT
DTSTART:20260308T100000
END:DAYLIGHT
BEGIN:STANDARD
TZOFFSETFROM:-0700
TZOFFSETTO:-0800
TZNAME:PST
DTSTART:20261101T090000
END:STANDARD
END:VTIMEZONE
BEGIN:VEVENT
DTSTART;VALUE=DATE:20251129
DTEND;VALUE=DATE:20251130
DTSTAMP:20260423T153359
CREATED:20251106T064957Z
LAST-MODIFIED:20251106T064957Z
UID:13113-1764374400-1764460799@dongchuacuuthe.us
SUMMARY:Thứ Bảy Tuần XXXIV Thường Niên Năm I
DESCRIPTION:BÀI ĐỌC I: Đn 7\, 15-27 \n“Sẽ trao quốc gia và quyền hành cho dân thánh của Đấng Tối Cao”. \nTrích sách Tiên tri Đaniel. \nTôi là Đaniel\, lòng tôi kinh khiếp\, tôi run sợ vì những sự đã thấy\, các thị kiến trong đầu óc tôi khiến tôi bối rối. Tôi tiến lại gần một vị hầu cận\, hỏi người ý nghĩa thật về những sự đó. Người liền giải thích cho tôi và bảo rằng: “Bốn con thú to lớn đó là bốn quốc gia sẽ dấy lên trên địa cầu. Nhưng các thánh của Thiên Chúa Tối Cao sẽ lên ngôi và sẽ nắm giữ quốc gia đến muôn muôn ngàn đời”.  \nSau đó\, tôi muốn tìm hiểu cặn kẽ về con vật thứ tư\, nó khác xa mọi con thú kia và rất dữ tợn: nanh móng nó bằng sắt\, nó cắn nuốt nhai nghiến\, và lấy chân giày đạp những gì còn sót lại. Tôi cũng muốn biết rõ về mười cái sừng trên đầu nó\, và một cái sừng mới mọc lên\, trước khi ba cái sừng kia bị nhổ đi: cái sừng mới mọc lên lại có mắt và miệng\, nó nói lên những điều trọng đại\, và nó lớn hơn các sừng khác. Tôi nhìn xem chiếc sừng ấy giao chiến với các thánh và nó toàn thắng\, cho tới khi vị Bô Lão đến trao quyền xét xử cho các thánh của Đấng Cao Cả\, tức là tới thời kỳ các thánh chiếm đoạt quốc gia.  \nNgười lại bảo như thế này: “Con vật thứ tư là quốc gia thứ tư trên địa cầu\, nó rộng lớn hơn mọi quốc gia\, thôn tính cả hoàn cầu và giày đạp phá huỷ địa cầu. Còn mười chiếc sừng là mười vua trong nước đó. Sau mười vua ấy\, thì một vua khác dấy lên\, có quyền thế hơn các vua trước\, và đánh đổ được ba vua. Ông ta nói những lời phạm đến Đấng Chí Tôn\, tàn sát các thánh của Đấng Tối Cao\, ông tưởng mình có thể thay đổi cả thời gian và luật pháp\, và người ta sẽ trao vào tay ông một thời kỳ\, hai thời kỳ và nửa thời kỳ.  \n“Đoạn sẽ có phán quyết để truất phế\, tiêu diệt và huỷ hoại ông ta cho tận tuyệt. Còn quốc gia\, quyền hành và sự cao sang dưới các tầng trời\, sẽ trao cho dân thánh của Đấng Tối Cao: nước Người là nước hằng hữu\, mọi vua chúa sẽ suy phục vâng lời Người”. Đó là lời Chúa. \nĐÁP CA: Đn 3\, 82. 83. 84. 85. 86. 87 \nĐáp: Hãy ngợi khen và tán tạ Chúa tới muôn đời (c. 57b). \nXướng: 1) Hãy chúc tụng Chúa đi\, con người ta hỡi. – Đáp. \n2) Chúc tụng Chúa đi\, hỡi Israel. – Đáp. \n3) Chúc tụng Chúa đi\, các thầy tư tế của Chúa. – Đáp. \n4) Chúc tụng Chúa đi\, mọi người tôi tớ Chúa. – Đáp. \n5) Chúc tụng Chúa đi\, thần hồn các vị hiền nhân. – Đáp. \n6) Chúc tụng Chúa đi\, người thánh và lòng khiêm nhượng. – Đáp. \nALLELUIA: Lc 21\, 36 \nAlleluia\, alleluia! – Các con hãy tỉnh thức và cầu nguyện luôn\, để có thể xứng đáng đứng vững trước mặt Con Người. – Alleluia. \nPHÚC ÂM: Lc 21\, 34-36 \n“Các con hãy tỉnh thức\, để có thể thoát khỏi những việc sắp xảy đến”. \nTin Mừng Chúa Giêsu Kitô theo Thánh Luca.  \nKhi ấy\, Chúa Giêsu phán cùng các môn đệ rằng: “Các con hãy giữ mình\, kẻo lòng các con ra nặng nề bởi chè chén say sưa và lo lắng việc đời\, mà ngày đó thình lình đến với các con như chiếc lưới chụp xuống mọi người sống trên mặt đất. Vậy các con hãy tỉnh thức và cầu nguyện luôn\, để có thể thoát khỏi những việc sắp xảy đến và đứng vững trước mặt Con Người!” Đó là lời Chúa.
URL:https://dongchuacuuthe.us/calendar/thu-bay-tuan-xxxiv-thuong-nien-nam-i-2/
END:VEVENT
END:VCALENDAR