BEGIN:VCALENDAR
VERSION:2.0
PRODID:-//Dòng Chúa Cứu Thế Hải Ngoại - ECPv6.15.20//NONSGML v1.0//EN
CALSCALE:GREGORIAN
METHOD:PUBLISH
X-ORIGINAL-URL:https://dongchuacuuthe.us
X-WR-CALDESC:Events for Dòng Chúa Cứu Thế Hải Ngoại
REFRESH-INTERVAL;VALUE=DURATION:PT1H
X-Robots-Tag:noindex
X-PUBLISHED-TTL:PT1H
BEGIN:VTIMEZONE
TZID:America/Los_Angeles
BEGIN:DAYLIGHT
TZOFFSETFROM:-0800
TZOFFSETTO:-0700
TZNAME:PDT
DTSTART:20240310T100000
END:DAYLIGHT
BEGIN:STANDARD
TZOFFSETFROM:-0700
TZOFFSETTO:-0800
TZNAME:PST
DTSTART:20241103T090000
END:STANDARD
BEGIN:DAYLIGHT
TZOFFSETFROM:-0800
TZOFFSETTO:-0700
TZNAME:PDT
DTSTART:20250309T100000
END:DAYLIGHT
BEGIN:STANDARD
TZOFFSETFROM:-0700
TZOFFSETTO:-0800
TZNAME:PST
DTSTART:20251102T090000
END:STANDARD
BEGIN:DAYLIGHT
TZOFFSETFROM:-0800
TZOFFSETTO:-0700
TZNAME:PDT
DTSTART:20260308T100000
END:DAYLIGHT
BEGIN:STANDARD
TZOFFSETFROM:-0700
TZOFFSETTO:-0800
TZNAME:PST
DTSTART:20261101T090000
END:STANDARD
END:VTIMEZONE
BEGIN:VEVENT
DTSTART;VALUE=DATE:20251126
DTEND;VALUE=DATE:20251127
DTSTAMP:20260423T153515
CREATED:20251106T064834Z
LAST-MODIFIED:20251106T064834Z
UID:13107-1764115200-1764201599@dongchuacuuthe.us
SUMMARY:Thứ Tư Tuần XXXIV Thường Niên Năm I
DESCRIPTION:BÀI ĐỌC I: Đn 5\, 1-6\, 13-14\, 16-17\, 23-28 \n“Có những ngón tay hiện ra như bàn tay một người”. \nTrích sách Tiên tri Đaniel. \nTrong những ngày ấy\, vua Baltassar dọn tiệc linh đình đãi một ngàn triều thần: ai nấy cứ theo tuổi mình mà uống rượu. Khi vua đã say rượu\, liền truyền đem các bình\, chén\, bát bằng vàng bạc mà Nabukôđônôsor\, phụ vương ông\, đã lấy trong đền thờ Giêrusalem đem về\, để cho vua\, các triều thần\, hoàng hậu và cung phi dùng uống rượu. Bấy giờ\, người ta mang ra các bình\, chén\, bát bằng vàng bạc đã lấy trong đền thờ Giêrusalem đem về. Vua\, các triều thần\, hoàng hậu và cung phi dùng đồ đó mà uống rượu. Họ vừa uống rượu vừa ca tụng các thần minh bằng vàng\, bạc\, đồng\, sắt\, gỗ\, đá của họ.  \nChính lúc ấy\, có những ngón tay hiện ra như bàn tay một người viết chữ trên vách tường cung điện\, đối diện ánh bạch lạp; vua nhìn thấy ngón tay viết chữ. Bấy giờ mặt vua đổi sắc\, tư tưởng rối loạn\, xương sống yếu sức\, đầu gối va chạm lẫn nhau.  \nLúc đó người ta dẫn Đaniel đến trước mặt vua. Vua hỏi người rằng: “Nhà ngươi có phải là Đaniel\, con cái Giuđa\, phải lưu đày mà phụ vương trẫm đã điệu từ Giuđa về đây chăng? Trẫm đã nghe rằng nhà ngươi được thần linh các vị thần phù giúp: ngươi được thông minh\, trí tuệ và khôn ngoan phi thường. Trẫm đã nghe rằng nhà ngươi có thể cắt nghĩa những huyền bí và giải thích được những chuyện khúc mắc. Vậy nếu nhà ngươi đọc được hàng chữ này và cắt nghĩa cho trẫm\, thì nhà ngươi sẽ được mặc áo đỏ\, cổ đeo vòng vàng và trở nên vị tướng thứ ba trong vương quốc trẫm”.  \nĐaniel tâu lại trước mặt vua rằng: “Lễ vật của vua xin để lại cho vua\, và ân huệ nhà vua\, xin vua ban cho kẻ khác. Thần xin đọc hàng chữ này và cắt nghĩa cho đức vua. Đức vua đã tự phụ chống đối Đấng cai trị trên trời: đã đem bày trước mặt vua các bình\, chén\, bát lấy trong đền Chúa\, rồi vua\, triều thần\, hoàng hậu và cung phi dùng những đồ ấy mà uống rượu; vua còn ca tụng các thần vàng bạc\, đồng\, sắt\, gỗ\, đá\, toàn là những thứ không thấy\, không nghe và không cảm giác: vua không tôn vinh Thiên Chúa\, Đấng cầm trong tay vận mệnh và đường lối của đức vua. Bởi đó\, Chúa khiến ngón tay hiện ra viết hàng chữ đó.  \n“Đây những chữ đã viết như sau: MANÊ\, THÊQEL\, PHARES. Xin giải nghĩa những chữ đó như sau: Manê: là Thiên Chúa đã đếm đủ số triều đại nhà vua rồi. Thêqel: là đã cân vua trên cán cân\, và thấy vua hụt cân. Phares: là vương quốc của vua đã bị phân chia và trao cho dân Mêđia và Batư”. Đó là lời Chúa. \n\nĐÁP CA: Đn 3\, 62. 63. 64. 65. 66. 67 \nĐáp: Hãy ngợi khen và tán tạ Chúa tới muôn đời (c. 57b). \nXướng: 1) Chúc tụng Chúa đi\, mặt trời cùng với mặt trăng. – Đáp. \n2) Chúc tụng Chúa đi\, trên trời cao\, muôn tinh tú. – Đáp. \n3) Chúc tụng Chúa đi\, mưa móc với sương sa. – Đáp. \n4) Chúc tụng Chúa đi\, muôn ngàn ngọn gió. – Đáp. \n5) Chúc tụng Chúa đi\, lửa đỏ với than hồng. – Đáp. \n6) Chúc tụng Chúa đi\, rét mướt và lạnh lẽo. – Đáp. \n\nALLELUIA: Mt 24\, 41a và 44 \nAlleluia\, alleluia! – Các con hãy tỉnh thức và sẵn sàng\, vì lúc các con không ngờ\, Con Người sẽ đến. – Alleluia. \n\nPHÚC ÂM: Lc 21\, 12-19 \n“Các con sẽ bị mọi người ghét bỏ vì danh Thầy\, nhưng dù một sợi tóc trên đầu các con cũng sẽ chẳng hư mất”. \nTin Mừng Chúa Giêsu Kitô theo Thánh Luca.  \nKhi ấy\, Chúa Giêsu phán cùng các môn đệ rằng: “Người ta sẽ tra tay bắt bớ\, ức hiếp và nộp các con đến các hội đường và ngục tù\, điệu các con đến trước mặt vua chúa quan quyền vì danh Thầy: các con sẽ có dịp làm chứng. Vậy các con hãy ghi nhớ điều này trong lòng là chớ lo trước các con sẽ phải thưa lại thể nào. Vì chính Thầy sẽ ban cho các con miệng lưỡi và sự khôn ngoan\, mọi kẻ thù nghịch các con không thể chống lại và bắt bẻ các con.  \n“Cha mẹ\, anh em\, bà con\, bạn hữu sẽ nộp các con\, và có kẻ trong các con sẽ bị giết chết. Các con sẽ bị mọi người ghét bỏ vì danh Thầy. Nhưng dù một sợi tóc trên đầu các con cũng sẽ chẳng hư mất. Các con cứ bền đỗ\, các con cũng sẽ giữ được linh hồn các con”. Đó là lời Chúa.
URL:https://dongchuacuuthe.us/calendar/thu-tu-tuan-xxxiv-thuong-nien-nam-i-2/
END:VEVENT
END:VCALENDAR