BEGIN:VCALENDAR
VERSION:2.0
PRODID:-//Dòng Chúa Cứu Thế Hải Ngoại - ECPv6.15.20//NONSGML v1.0//EN
CALSCALE:GREGORIAN
METHOD:PUBLISH
X-WR-CALNAME:Dòng Chúa Cứu Thế Hải Ngoại
X-ORIGINAL-URL:https://dongchuacuuthe.us
X-WR-CALDESC:Events for Dòng Chúa Cứu Thế Hải Ngoại
REFRESH-INTERVAL;VALUE=DURATION:PT1H
X-Robots-Tag:noindex
X-PUBLISHED-TTL:PT1H
BEGIN:VTIMEZONE
TZID:America/Los_Angeles
BEGIN:DAYLIGHT
TZOFFSETFROM:-0800
TZOFFSETTO:-0700
TZNAME:PDT
DTSTART:20240310T100000
END:DAYLIGHT
BEGIN:STANDARD
TZOFFSETFROM:-0700
TZOFFSETTO:-0800
TZNAME:PST
DTSTART:20241103T090000
END:STANDARD
BEGIN:DAYLIGHT
TZOFFSETFROM:-0800
TZOFFSETTO:-0700
TZNAME:PDT
DTSTART:20250309T100000
END:DAYLIGHT
BEGIN:STANDARD
TZOFFSETFROM:-0700
TZOFFSETTO:-0800
TZNAME:PST
DTSTART:20251102T090000
END:STANDARD
BEGIN:DAYLIGHT
TZOFFSETFROM:-0800
TZOFFSETTO:-0700
TZNAME:PDT
DTSTART:20260308T100000
END:DAYLIGHT
BEGIN:STANDARD
TZOFFSETFROM:-0700
TZOFFSETTO:-0800
TZNAME:PST
DTSTART:20261101T090000
END:STANDARD
END:VTIMEZONE
BEGIN:VEVENT
DTSTART;VALUE=DATE:20251120
DTEND;VALUE=DATE:20251121
DTSTAMP:20260423T153358
CREATED:20251106T064442Z
LAST-MODIFIED:20251106T064442Z
UID:13097-1763596800-1763683199@dongchuacuuthe.us
SUMMARY:Thứ Năm Tuần XXXIII Thường Niên Năm I
DESCRIPTION:BÀI ĐỌC I: 1 Mcb 2\, 15-29 \n“Chúng tôi tuân theo lề luật cha ông chúng tôi”. \nTrích sách Macabê quyển thứ nhất. \nTrong những ngày ấy\, vua Antiôcô sai người đến cưỡng bách các người trốn ẩn tại thành Môđin cúng tế dâng hương và chối bỏ lề luật Thiên Chúa. Có nhiều người trong dân Israel tuân lệnh đến với họ\, nhưng ông Mathathia và các con ông cương quyết không chịu theo. Các người vua Antiôcô sai đến\, lên tiếng nói với Mathathia rằng: “Ông là thủ lãnh có tiếng tăm và có uy tín trong thành này và có nhiều con cái và anh em. Vậy ông hãy tiến lên trước tiên và thi hành lệnh nhà vua\, như hết thảy mọi dân tộc\, như các người chi tộc Giuđa và những người còn ở lại Giêru-salem đã thi hành rồi\, ông và các con ông sẽ là bạn hữu của nhà vua\, sẽ được nhà vua ban cho vàng bạc và ân huệ khác”. Matha-thia trả lời và nói lớn tiếng rằng: “Cho dầu mọi dân tộc đều tuân lệnh vua Antiôcô\, mọi người đều chối bỏ lề luật của cha ông mà vâng lệnh nhà vua\, phần tôi và con cái cùng anh em tôi\, chúng tôi vẫn tuân theo lề luật cha ông chúng tôi. Xin Thiên Chúa thương đừng để chúng tôi chối bỏ lề luật và giới răn Chúa. Chúng tôi sẽ không nghe theo lệnh vua Antiôcô\, cũng chẳng cúng tế mà lỗi phạm lệnh truyền của lề luật chúng tôi\, kẻo chúng tôi đi theo con đường khác”.  \nÔng vừa dứt lời thì có một người Do-thái tiến ra cúng thần trước mặt mọi người\, trên bàn thờ ở thành Môđin\, theo chiếu chỉ của nhà vua. Thấy vậy\, Mathathia đau lòng xót dạ\, ông nổi giận vì yêu mến lề luật\, ông xông tới giết ngay người ấy trên bàn thờ. Ông cũng giết luôn người vua Antiôcô sai đến để cưỡng bách người ta cúng tế; ông lật đổ cả bàn thờ. Lòng nhiệt thành của ông đối với lề luật cũng giống như lòng nhiệt thành của Phinê đã đối xử với Zimri con ông Salomi.  \nĐoạn Mathathia kêu lớn tiếng khắp trong thành phố rằng: “Ai nhiệt thành với lề luật\, tuân giữ lời Giao ước\, hãy ra khỏi thành theo tôi!” Ông và con cái ông trốn lên núi\, bỏ lại trong thành mọi tài sản họ có. Bấy giờ một số người còn nhiệt tâm với sự công chính và lề luật\, cũng trốn vào hoang địa. Đó là lời Chúa. \n\nĐÁP CA: Tv 49\, 1-2. 5-6. 14-15 \nĐáp: Ai đi đường ngay thẳng\, Ta chỉ cho thấy ơn Thiên Chúa cứu độ (c. 23b). \nXướng: 1) Chúa là Thiên Chúa đã lên tiếng kêu gọi địa cầu\, từ chỗ mặt trời mọc lên tới nơi lặn xuống. Từ Sion đầy mỹ lệ\, Thiên Chúa hiển linh huy hoàng. – Đáp. \n2) Hãy tập họp cho Ta các tín đồ đã ký lời giao ước của Ta cùng hy sinh lễ. Và trời cao sẽ loan truyền sự công chính của Người\, và chính Thiên Chúa Người là thẩm phán. – Đáp. \n3) Hãy hiến dâng Thiên Chúa lời khen ngợi\, và làm trọn điều khấn hứa cùng Đấng Tối Cao. Ngươi hãy kêu cầu Ta trong ngày khốn khó\, Ta sẽ giải thoát ngươi và ngươi sẽ kính trọng Ta. – Đáp. \n\nALLELUIA: x. Cv 16\, 14b \nAlleluia\, alleluia! – Lạy Chúa\, xin hãy mở lòng chúng con\, để chúng con nghe lời Con Chúa. – Alleluia. \n\nPHÚC ÂM: Lc 19\, 41-44 \n“Chớ chi ngươi hiểu biết sứ điệp mang hoà bình lại cho ngươi”. \nTin Mừng Chúa Giêsu Kitô theo Thánh Luca.  \nKhi ấy\, Chúa Giêsu đến gần Giêrusalem\, trông thấy thành thì Người khóc thương thành ấy mà rằng: “Chớ chi hôm nay ngươi hiểu biết sứ điệp mang hoà bình lại cho ngươi! Nhưng giờ đây\, sứ điệp ấy bị che khuất khỏi mắt ngươi. Vì sẽ đến ngày quân thù đắp luỹ bao vây ngươi\, xiết chặt ngươi tứ bề. Chúng sẽ tàn phá ngươi bình địa\, ngươi cùng con cái ở trong thành. Chúng sẽ không để lại hòn đá nào trên hòn đá nào\, vì ngươi đã không nhận biết giờ ngươi được thăm viếng”.  \nĐó là lời Chúa…
URL:https://dongchuacuuthe.us/calendar/thu-nam-tuan-xxxiii-thuong-nien-nam-i/
END:VEVENT
END:VCALENDAR