BEGIN:VCALENDAR
VERSION:2.0
PRODID:-//Dòng Chúa Cứu Thế Hải Ngoại - ECPv6.15.20//NONSGML v1.0//EN
CALSCALE:GREGORIAN
METHOD:PUBLISH
X-ORIGINAL-URL:https://dongchuacuuthe.us
X-WR-CALDESC:Events for Dòng Chúa Cứu Thế Hải Ngoại
REFRESH-INTERVAL;VALUE=DURATION:PT1H
X-Robots-Tag:noindex
X-PUBLISHED-TTL:PT1H
BEGIN:VTIMEZONE
TZID:America/Los_Angeles
BEGIN:DAYLIGHT
TZOFFSETFROM:-0800
TZOFFSETTO:-0700
TZNAME:PDT
DTSTART:20240310T100000
END:DAYLIGHT
BEGIN:STANDARD
TZOFFSETFROM:-0700
TZOFFSETTO:-0800
TZNAME:PST
DTSTART:20241103T090000
END:STANDARD
BEGIN:DAYLIGHT
TZOFFSETFROM:-0800
TZOFFSETTO:-0700
TZNAME:PDT
DTSTART:20250309T100000
END:DAYLIGHT
BEGIN:STANDARD
TZOFFSETFROM:-0700
TZOFFSETTO:-0800
TZNAME:PST
DTSTART:20251102T090000
END:STANDARD
BEGIN:DAYLIGHT
TZOFFSETFROM:-0800
TZOFFSETTO:-0700
TZNAME:PDT
DTSTART:20260308T100000
END:DAYLIGHT
BEGIN:STANDARD
TZOFFSETFROM:-0700
TZOFFSETTO:-0800
TZNAME:PST
DTSTART:20261101T090000
END:STANDARD
END:VTIMEZONE
BEGIN:VEVENT
DTSTART;VALUE=DATE:20251118
DTEND;VALUE=DATE:20251119
DTSTAMP:20260423T153515
CREATED:20251106T064350Z
LAST-MODIFIED:20251106T064350Z
UID:13093-1763424000-1763510399@dongchuacuuthe.us
SUMMARY:Kỷ Niệm Lễ Cung Hiến Thánh Đường Th. Phêrô và Phaolô
DESCRIPTION:BÀI ĐỌC I: Cv 28\, 11-16. 30-31 \n“Như thế là chúng tôi đã trẩy đi Rôma”.  \nTrích sách Tông đồ Công vụ. \nSau ba tháng\, chúng tôi lên đi trên chiếc tàu Alexandria\, tàu này có hiệu là Dioscuri\, đã trú tại đảo (Mêlita) trong mùa đông qua. Khi đến thành Syracusa\, chúng tôi lưu lại đó ba ngày. Rồi từ đó\, chúng tôi đi dọc theo bờ biển mà đến Rêgiô. Ngày hôm sau\, nhờ có gió nam nên hai ngày sau chúng tôi đến Putêôlô. Tại đó\, chúng tôi có gặp được anh em\, họ mời chúng tôi ở lại với họ bảy ngày\, và thế là chúng tôi đã trẩy đi Rôma. \nKhi các anh em ở Rôma nghe tin chúng tôi đến\, họ ra đón rước chúng tôi tận chợ Appiô và tại Tam Quán. Khi Phaolô trông thấy họ\, liền tạ ơn Thiên Chúa và được lòng trông cậy vững vàng. Khi chúng tôi đến Rôma\, Phaolô được phép ở nhà riêng với người lính canh.  \nSuốt hai năm\, ngài trú tại ngôi nhà đã thuê\, tiếp nhận tất cả những ai đến gặp ngài\, ngài rao giảng nước Thiên Chúa và dạy dỗ những điều về Chúa Giêsu Kitô một cách dạn dĩ\, không có ai ngăn cấm. Đó là lời Chúa. \nĐÁP CA: Tv 97\, 1. 2-3ab. 3cd-4. 5-6 \nĐáp: Chúa đã tỏ sự công chính Người trước mặt chư dân (c. 2b). \nXướng: 1) Hãy ca tụng Chúa một bài ca mới\, vì Người đã làm nên những điều huyền diệu. Tay hữu Người đã tạo cho Người cuộc chiến thắng\, cùng với cánh tay thánh thiện của Người. – Đáp. \n2) Chúa đã công bố ơn cứu độ của Người; trước mặt chư dân\, Người tỏ rõ đức công minh. Người đã nhớ lại lòng nhân hậu và trung thành để sủng ái nhà Israel. – Đáp. \n3) Khắp nơi bờ cõi địa cầu đã nhìn thấy ơn cứu độ của Thiên Chúa chúng ta. Toàn thể địa cầu\, hãy reo mừng Chúa\, hãy hoan hỉ mừng vui và đàn ca. – Đáp. \n4) Hãy ca mừng Chúa với cây đần cầm\, với cây đàn cầm\, với điệu nhạc du dương. Hãy thổi sáo và rúc tù và\, hãy hoan hô trước thiên nhan Chúa là Vua. – Đáp. \nALLELUIA:  \nAlleluia\, alleluia! – Chúng con ca ngợi Chúa là Thiên Chúa\, chúng con tuyên xưng Chúa là chúa tể. Lạy Chúa\, ca đoàn vinh quang các tông đồ ca ngợi Chúa. – Alleluia. \nPHÚC ÂM: Mt 14\, 22-33 \n“Xin truyền cho con đi trên mặt nước mà đến cùng Thầy”. \nTin Mừng Chúa Giêsu Kitô theo Thánh Matthêu. \n(Khi dân chúng đã ăn no)\, Lập tức Chúa Giêsu giục các môn đệ trở xuống thuyền mà qua bờ bên kia trước\, trong lúc Người giải tán dân chúng. Giải tán họ xong\, Người lên núi cầu nguyện một mình. Đến chiều\, Người vẫn ở đó một mình. Còn thuyền thì đã ra giữa biển\, bị sóng đánh chập chờn vì ngược gió. Canh tư đêm tối\, Người đi trên biển\, các ông hoảng hồn mà nói rằng: “Ma kìa!” và các ông sợ hãi kêu la lớn tiếng. Lập tức\, Chúa Giêsu nói với các ông rằng: “Hãy yên tâm. Thầy đây\, đừng sợ!” Phêrô thưa lại rằng: “Lạy Thầy\, nếu quả là Thầy\, thì xin truyền cho con đi trên mặt nước mà đến cùng Thầy”. Chúa phán: “Hãy đến!” Khi thấy gió mạnh\, ông sợ hãi và sắp chìm xuống nên la lên rằng: “Lạy Thầy\, xin cứu con!” Lập tức\, Chúa Giêsu giơ tay nắm lấy ông mà nói: “Người hèn tin\, tại sao lại nghi ngờ?” Khi cả hai đã lên thuyền thì gió liền yên lặng. Những người ở trong thuyền đến lạy Người mà rằng: “Thật\, Thầy là Con Thiên Chúa”.  \nĐó là lời Chúa.
URL:https://dongchuacuuthe.us/calendar/ky-niem-le-cung-hien-thanh-duong-th-phero-va-phaolo/
END:VEVENT
END:VCALENDAR