BEGIN:VCALENDAR
VERSION:2.0
PRODID:-//Dòng Chúa Cứu Thế Hải Ngoại - ECPv6.15.20//NONSGML v1.0//EN
CALSCALE:GREGORIAN
METHOD:PUBLISH
X-WR-CALNAME:Dòng Chúa Cứu Thế Hải Ngoại
X-ORIGINAL-URL:https://dongchuacuuthe.us
X-WR-CALDESC:Events for Dòng Chúa Cứu Thế Hải Ngoại
REFRESH-INTERVAL;VALUE=DURATION:PT1H
X-Robots-Tag:noindex
X-PUBLISHED-TTL:PT1H
BEGIN:VTIMEZONE
TZID:America/Los_Angeles
BEGIN:DAYLIGHT
TZOFFSETFROM:-0800
TZOFFSETTO:-0700
TZNAME:PDT
DTSTART:20240310T100000
END:DAYLIGHT
BEGIN:STANDARD
TZOFFSETFROM:-0700
TZOFFSETTO:-0800
TZNAME:PST
DTSTART:20241103T090000
END:STANDARD
BEGIN:DAYLIGHT
TZOFFSETFROM:-0800
TZOFFSETTO:-0700
TZNAME:PDT
DTSTART:20250309T100000
END:DAYLIGHT
BEGIN:STANDARD
TZOFFSETFROM:-0700
TZOFFSETTO:-0800
TZNAME:PST
DTSTART:20251102T090000
END:STANDARD
BEGIN:DAYLIGHT
TZOFFSETFROM:-0800
TZOFFSETTO:-0700
TZNAME:PDT
DTSTART:20260308T100000
END:DAYLIGHT
BEGIN:STANDARD
TZOFFSETFROM:-0700
TZOFFSETTO:-0800
TZNAME:PST
DTSTART:20261101T090000
END:STANDARD
END:VTIMEZONE
BEGIN:VEVENT
DTSTART;VALUE=DATE:20251106
DTEND;VALUE=DATE:20251107
DTSTAMP:20260423T153359
CREATED:20251106T063925Z
LAST-MODIFIED:20251106T063925Z
UID:13073-1762387200-1762473599@dongchuacuuthe.us
SUMMARY:hứ Năm Tuần XXXI Thường Niên Năm I
DESCRIPTION:BÀI ĐỌC I: Rm 14\, 7-12 \n“Dù chúng ta sống hay chết\, chúng ta đều thuộc về Chúa”. \nTrích thư Thánh Phaolô Tông đồ gửi tín hữu Rôma. \nAnh em thân mến\, không ai trong anh em được sống cho mình\, và cũng không ai chết cho mình. Vì nếu chúng ta sống\, là sống cho Chúa\, nếu chúng ta chết\, là chết cho Chúa. Vậy dù chúng ta sống hay chết\, chúng ta đều thuộc về Chúa.  \nVì lẽ ấy\, nếu Đức Kitô đã chết và sống lại\, là để cai trị kẻ sống và kẻ chết. Còn ngươi\, việc gì mà đoán xét anh em ngươi? Và ngươi\, tại sao ngươi khinh miệt anh em ngươi? Vì tất cả chúng ta đều sẽ phải ra trước toà án của Đức Kitô\, bởi có lời chép: “Chúa phán rằng: Ta thề trên sự sống Ta\, mọi đầu gối sẽ phải quỳ lạy Ta\, và mọi miệng lưỡi sẽ ngợi khen Thiên Chúa”.  \nVì vậy\, mỗi người chúng ta sẽ phải trả lẽ về chính mình với Thiên Chúa. Đó là lời Chúa. \n\nĐÁP CA: Tv 26\, 1. 4. 13-14 \nĐáp: Tôi tin rằng tôi sẽ được nhìn xem những ơn lành của Chúa trong cõi nhân sinh (c. 13). \nXướng: 1) Chúa là sự sáng\, là Đấng cứu độ\, tôi sợ chi ai? Chúa là Đấng phù trợ đời tôi\, tôi sợ gì ai? – Đáp. \n2) Có một điều tôi xin Chúa\, một điều tôi kiếm tìm\, đó là tôi được cư ngụ trong nhà Chúa suốt đời tôi\, hầu vui hưởng êm đềm của Chúa\, và chiêm ngưỡng thánh điện của Người. – Đáp. \n3) Tôi tin rằng tôi sẽ được nhìn xem những ơn lành của Chúa trong cõi nhân sinh. Hãy chờ đợi Chúa\, hãy sống can trường\, hãy phấn khởi tâm hồn và chờ đợi Chúa! – Đáp. \n\nALLELUIA: 2 Cr 5\, 19 \nAlleluia\, alleluia! – Thiên Chúa ở trong Đức Kitô đã giải hoà thế gian\, để chúng ta nghe lời của Con Chúa. – Alleluia. \n\nPHÚC ÂM: Lc 15\, 1-10 \n“Trên trời sẽ vui mừng vì một người tội lỗi hối cải”. \nTin Mừng Chúa Giêsu Kitô theo Thánh Luca. \nKhi ấy\, những người thâu thuế và những người tội lỗi đến gần Chúa Giêsu để nghe Người giảng. Thấy vậy\, những người Biệt phái và Luật sĩ lẩm bẩm rằng: “Ông này đón tiếp những kẻ tội lỗi\, cùng ngồi ăn uống với chúng”. Bấy giờ Người phán bảo họ dụ ngôn này: “Ai trong các ông có một trăm con chiên\, và nếu mất một con\, lại không để chín mươi chín con khác trong hoang địa mà đi tìm con chiên lạc\, cho đến khi tìm được sao? Và khi đã tìm thấy\, người đó vui mừng vác chiên trên vai\, trở về nhà\, kêu bạn hữu và những người lân cận mà nói rằng: ‘Anh em hãy chia vui với tôi\, vì tôi đã tìm thấy con chiên lạc!’ Cũng vậy tôi bảo các ông: Trên trời sẽ vui mừng vì một người tội lỗi hối cải hơn là vì chín mươi chín người công chính không cần hối cải.  \n“Hay là người đàn bà nào có mười đồng bạc\, nếu mất một đồng\, mà lại không đốt đèn\, quét nhà và tìm kỹ lưỡng cho đến khi tìm thấy sao? Và khi đã tìm thấy\, bà mời các chị em bạn và những người láng giềng đến mà rằng: ‘Chị em hãy vui mừng với tôi\, vì tôi đã tìm được đồng bạc tôi đã mất’. Cũng vậy\, tôi bảo các ông: Các thiên thần của Thiên Chúa sẽ vui mừng vì một người tội lỗi hối cải”. Đó là lời Chúa.
URL:https://dongchuacuuthe.us/calendar/hu-nam-tuan-xxxi-thuong-nien-nam-i/
END:VEVENT
END:VCALENDAR